BEGIN:VCALENDAR
VERSION:2.0
PRODID:-//Municipalidad de Villa Elisa, Entre Ríos - ECPv6.6.4.2//NONSGML v1.0//EN
CALSCALE:GREGORIAN
METHOD:PUBLISH
X-ORIGINAL-URL:https://villaelisa.gov.ar
X-WR-CALDESC:Eventos para Municipalidad de Villa Elisa, Entre Ríos
REFRESH-INTERVAL;VALUE=DURATION:PT1H
X-Robots-Tag:noindex
X-PUBLISHED-TTL:PT1H
BEGIN:VTIMEZONE
TZID:America/Argentina/Buenos_Aires
BEGIN:STANDARD
TZOFFSETFROM:-0300
TZOFFSETTO:-0300
TZNAME:-03
DTSTART:20250101T000000
END:STANDARD
END:VTIMEZONE
BEGIN:VEVENT
DTSTART;TZID=America/Argentina/Buenos_Aires:20250830T090000
DTEND;TZID=America/Argentina/Buenos_Aires:20250830T213000
DTSTAMP:20260424T192659
CREATED:20250826T161928Z
LAST-MODIFIED:20250826T161928Z
UID:10004570-1756544400-1756589400@villaelisa.gov.ar
SUMMARY:Campeonato Provincial de Fútbol Infantil
DESCRIPTION:Primera jornada de este certamen donde participan las categorias 2015 de clubes entrerrianos.
URL:https://villaelisa.gov.ar/evento/campeonato-provincial-de-futbol-infantil-2/
LOCATION:CAVE Estadio 2 de Junio
ATTACH;FMTTYPE=image/jpeg:https://villaelisa.gov.ar/wp-content/uploads/2025/08/WhatsApp-Image-2025-08-26-at-1.09.25-PM.jpeg
END:VEVENT
BEGIN:VEVENT
DTSTART;TZID=America/Argentina/Buenos_Aires:20250830T150000
DTEND;TZID=America/Argentina/Buenos_Aires:20250830T183000
DTSTAMP:20260424T192659
CREATED:20250819T151434Z
LAST-MODIFIED:20250819T151434Z
UID:10004261-1756566000-1756578600@villaelisa.gov.ar
SUMMARY:Estación Elisa - Ferroclub Central Entrerriano
DESCRIPTION:  \nDesde las 15:00 estará abierta la estación Elisa donde encontrarás maquinarias y elementos de época a las 15:30 hs. habrá paseos en el tren histórico turístico para vivir una gran experiencia. \nCalle Centenario 2200 \nConsultas al 3442 551086
URL:https://villaelisa.gov.ar/evento/ferroclub-central-entrerriano-6-2-2-2-5-6/2025-08-30/
LOCATION:Ferroclub Central Entrerriano\, Centenario y Arenales\, Villa Elisa\, 3265
ATTACH;FMTTYPE=image/jpeg:https://villaelisa.gov.ar/wp-content/uploads/2025/01/IMG_20231210_175944197-scaled.jpg
END:VEVENT
BEGIN:VEVENT
DTSTART;TZID=America/Argentina/Buenos_Aires:20250830T203000
DTEND;TZID=America/Argentina/Buenos_Aires:20250830T220000
DTSTAMP:20260424T192659
CREATED:20250828T124226Z
LAST-MODIFIED:20250828T124226Z
UID:10004573-1756585800-1756591200@villaelisa.gov.ar
SUMMARY:"Seguridad Nacional" en Cine Paradiso
DESCRIPTION:Una pelicula graciosa y muy entretenida en Cine Paradiso de Alvear 942 Entrada solo $1000
URL:https://villaelisa.gov.ar/evento/seguridad-nacional-en-cine-paradiso/
LOCATION:Cine Paradiso\, Gral. Alvear 942\, Villa Elisa\, 3265
ATTACH;FMTTYPE=image/jpeg:https://villaelisa.gov.ar/wp-content/uploads/2025/08/WhatsApp-Image-2025-08-28-at-9.39.09-AM.jpeg
END:VEVENT
END:VCALENDAR