BEGIN:VCALENDAR
VERSION:2.0
PRODID:-//Municipalidad de Villa Elisa, Entre Ríos - ECPv6.6.4.2//NONSGML v1.0//EN
CALSCALE:GREGORIAN
METHOD:PUBLISH
X-WR-CALNAME:Municipalidad de Villa Elisa, Entre Ríos
X-ORIGINAL-URL:https://villaelisa.gov.ar
X-WR-CALDESC:Eventos para Municipalidad de Villa Elisa, Entre Ríos
REFRESH-INTERVAL;VALUE=DURATION:PT1H
X-Robots-Tag:noindex
X-PUBLISHED-TTL:PT1H
BEGIN:VTIMEZONE
TZID:America/Argentina/Buenos_Aires
BEGIN:STANDARD
TZOFFSETFROM:-0300
TZOFFSETTO:-0300
TZNAME:-03
DTSTART:20250101T000000
END:STANDARD
END:VTIMEZONE
BEGIN:VEVENT
DTSTART;TZID=America/Argentina/Buenos_Aires:20250904T080000
DTEND;TZID=America/Argentina/Buenos_Aires:20250904T170000
DTSTAMP:20260424T180150
CREATED:20250905T100027Z
LAST-MODIFIED:20250905T100027Z
UID:10004604-1756972800-1757005200@villaelisa.gov.ar
SUMMARY:"Lesa" Mujeres que estuvieron en Malvinas
DESCRIPTION:Elenco teatral Enredados invita a ver una obra que llega desde CABA.. \n“Lesa”. Con la actuación de Karina Zorzoli y la dirección de Fernando González.. \nEs una obra teatral histórica\, testimonios de las enfermeras que estuvieron en la Guerra de Malvinas\, historias reales que recién hoy salen a la luz \n 
URL:https://villaelisa.gov.ar/evento/lesa-mujeres-que-estuvieron-en-malvinas/
LOCATION:Auditorio Municipal Heraldo N. Peragallo\, Av. Mitre 1301\, Villa Elisa\, 3265
ATTACH;FMTTYPE=image/png:https://villaelisa.gov.ar/wp-content/uploads/2025/09/Lesa-1.png
END:VEVENT
BEGIN:VEVENT
DTSTART;TZID=America/Argentina/Buenos_Aires:20250904T103000
DTEND;TZID=America/Argentina/Buenos_Aires:20250904T130000
DTSTAMP:20260424T180150
CREATED:20250830T202121Z
LAST-MODIFIED:20250830T202121Z
UID:10004577-1756981800-1756990800@villaelisa.gov.ar
SUMMARY:Visitas Guiadas en Estancia Museo El Porvenir
DESCRIPTION:Las visitas guiadas pueden realizarse de lunes a viernes (excepto martes) a las 10:30 y 12:00 horas. Si se lo desea\, se puede visitar el lugar en forma independiente (sin visita guiada) de 10:00 a 13:00 y de 16:00 a 19:00 horas\, recordando que también está habilitado el sector del parque recreativo. \nEl valor del bono contribución de ingreso es de $1500 general y $1000 para menores entre 6 y 12 años inclusive\, jubilados y residentes de la micro región “Tierra de Palmares”. \nContacto: 3447436203 – www.museoelporvenir.com.ar
URL:https://villaelisa.gov.ar/evento/visitas-guiadas-en-estancia-museo-el-porvenir-6/2025-09-04/
LOCATION:Estancia Museo “El Porvenir”
ATTACH;FMTTYPE=image/jpeg:https://villaelisa.gov.ar/wp-content/uploads/2025/08/Horarios-septiembre-2025-feed.jpeg
END:VEVENT
BEGIN:VEVENT
DTSTART;TZID=America/Argentina/Buenos_Aires:20250904T183000
DTEND;TZID=America/Argentina/Buenos_Aires:20250904T200000
DTSTAMP:20260424T180150
CREATED:20250902T122216Z
LAST-MODIFIED:20250902T122216Z
UID:10004597-1757010600-1757016000@villaelisa.gov.ar
SUMMARY:Charla sobre Inmigración
DESCRIPTION:En conmemoración del día del Inmigrante se realiza la disertación del profesor Carlos Conte Grand.
URL:https://villaelisa.gov.ar/evento/charla-sobre-inmigracion/
LOCATION:Centro Saboya Argentina de Villa Elisa\, Churruarín 1506\, Villa Elisa\, 3265
ATTACH;FMTTYPE=image/jpeg:https://villaelisa.gov.ar/wp-content/uploads/2025/09/WhatsApp-Image-2025-09-01-at-9.22.49-PM.jpeg
END:VEVENT
BEGIN:VEVENT
DTSTART;TZID=America/Argentina/Buenos_Aires:20250904T200000
DTEND;TZID=America/Argentina/Buenos_Aires:20250904T210000
DTSTAMP:20260424T180150
CREATED:20250819T150521Z
LAST-MODIFIED:20250819T150521Z
UID:10004528-1757016000-1757019600@villaelisa.gov.ar
SUMMARY:Teatro "Al Borde del andamio"
DESCRIPTION:Amador Barria\, albañil y poeta\, vuelve a su casa de madrugada\, pero su mujer no lo deja entrar\, cansada de sus salidas y deslices. Parado frente a su puerta repasa su vida y reconstruye con palabras propias y ajenas las historias que lo constituyen y lo vuelven quien es: HISTORIA DE AMOR Y DE ENCUENTROS\, DE RECUERDOS Y OLVIDOS
URL:https://villaelisa.gov.ar/evento/teatro-al-borde-del-andamio/
LOCATION:La ENREDADA\, FRANCOU 1548\, Villa Elisa\, 3265
ATTACH;FMTTYPE=image/png:https://villaelisa.gov.ar/wp-content/uploads/2025/08/Jueves-409.png
END:VEVENT
BEGIN:VEVENT
DTSTART;TZID=America/Argentina/Buenos_Aires:20250904T200000
DTEND;TZID=America/Argentina/Buenos_Aires:20250904T210000
DTSTAMP:20260424T180150
CREATED:20250904T145107Z
LAST-MODIFIED:20250904T150650Z
UID:10004603-1757016000-1757019600@villaelisa.gov.ar
SUMMARY:Misa en Parroquia Natividad de Nuestra Señora
DESCRIPTION:En la semana de la novena patronal\, celebración del Padre Daniel Petelín.
URL:https://villaelisa.gov.ar/evento/misa-en-parroquia-natividad-de-nuestra-senora/
LOCATION:Parroquia Virgen Niña
ATTACH;FMTTYPE=image/jpeg:https://villaelisa.gov.ar/wp-content/uploads/2025/09/WhatsApp-Image-2025-09-04-at-11.47.28-AM.jpeg
END:VEVENT
END:VCALENDAR