BEGIN:VCALENDAR
VERSION:2.0
PRODID:-//Municipalidad de Villa Elisa, Entre Ríos - ECPv6.6.4.2//NONSGML v1.0//EN
CALSCALE:GREGORIAN
METHOD:PUBLISH
X-ORIGINAL-URL:https://villaelisa.gov.ar
X-WR-CALDESC:Eventos para Municipalidad de Villa Elisa, Entre Ríos
REFRESH-INTERVAL;VALUE=DURATION:PT1H
X-Robots-Tag:noindex
X-PUBLISHED-TTL:PT1H
BEGIN:VTIMEZONE
TZID:America/Argentina/Buenos_Aires
BEGIN:STANDARD
TZOFFSETFROM:-0300
TZOFFSETTO:-0300
TZNAME:-03
DTSTART:20250101T000000
END:STANDARD
END:VTIMEZONE
BEGIN:VEVENT
DTSTART;TZID=America/Argentina/Buenos_Aires:20250906T160000
DTEND;TZID=America/Argentina/Buenos_Aires:20250906T183000
DTSTAMP:20260424T180841
CREATED:20250905T131535Z
LAST-MODIFIED:20250905T131535Z
UID:10004605-1757174400-1757183400@villaelisa.gov.ar
SUMMARY:Festejo Dia del Niño
DESCRIPTION:En Plaza Moreno este sábado 06\, te invitamos a divertirte y pasarlo hermoso
URL:https://villaelisa.gov.ar/evento/festejo-dia-del-nino/
LOCATION:Plaza Moreno\, Villa Elisa
ATTACH;FMTTYPE=image/jpeg:https://villaelisa.gov.ar/wp-content/uploads/2025/09/WhatsApp-Image-2025-09-05-at-10.13.35-AM.jpeg
END:VEVENT
BEGIN:VEVENT
DTSTART;TZID=America/Argentina/Buenos_Aires:20250906T200000
DTEND;TZID=America/Argentina/Buenos_Aires:20250907T020000
DTSTAMP:20260424T180841
CREATED:20250902T143957Z
LAST-MODIFIED:20250902T143957Z
UID:10004599-1757188800-1757210400@villaelisa.gov.ar
SUMMARY:Noche de tango en La Fragua
DESCRIPTION:Noche de Tango en la Fragua.\nEste sábado 06 de septiembre a partir de las 20 hs\, noche de tango!!\nEn primera instancia a las 20 hs te proponemos una clase para que aprendas a bailar de la mano de los profesores Gabriel y Siomara de la ciudad de Concordia\, y a partir de las 21:30 abrimos la noche a pura milonga\, con música en Vivo de Juan Lima y musicalización de Andy Áreas\, una velada para bailar toda la noche!  \n💃Podes hacer la clase y luego quedarte a la Milonga o elegir por separado. \n🎫Valor de la clase: $3000\n🎟️Entrada a Milonga: $4000\n🍕Como siempre el bar el Nacional estará ofreciendo comidas y bebidas.\n💃 No te quedes con las ganas de milonguear. Te esperamos!!!! \n 
URL:https://villaelisa.gov.ar/evento/noche-de-tango-en-la-fragua-2/
LOCATION:Asociación Civil La Fragua\, Héctor de Elía 1489\, Villa Elisa\, 3265
ATTACH;FMTTYPE=image/jpeg:https://villaelisa.gov.ar/wp-content/uploads/2025/09/tango.jpeg
END:VEVENT
BEGIN:VEVENT
DTSTART;TZID=America/Argentina/Buenos_Aires:20250906T203000
DTEND;TZID=America/Argentina/Buenos_Aires:20250906T220000
DTSTAMP:20260424T180841
CREATED:20250902T151332Z
LAST-MODIFIED:20250902T151332Z
UID:10004600-1757190600-1757196000@villaelisa.gov.ar
SUMMARY:Película en Cine Paradiso
DESCRIPTION:Una película muy di­vertida\, llena de encanto siendo una de las más vistas en los cines de nuestro país\, con actuación de Adrián Suar\, Valeria Bertuccelli. \nCine Paradiso Alvear 942. Entrada solo $1000.
URL:https://villaelisa.gov.ar/evento/pelicula-en-cine-paradiso/
LOCATION:Cine Paradiso\, Gral. Alvear 942\, Villa Elisa\, 3265
ATTACH;FMTTYPE=image/jpeg:https://villaelisa.gov.ar/wp-content/uploads/2025/09/WhatsApp-Image-2025-09-02-at-12.04.08-PM.jpeg
END:VEVENT
BEGIN:VEVENT
DTSTART;TZID=America/Argentina/Buenos_Aires:20250906T210000
DTEND;TZID=America/Argentina/Buenos_Aires:20250906T233000
DTSTAMP:20260424T180841
CREATED:20250826T154416Z
LAST-MODIFIED:20250826T154416Z
UID:10004568-1757192400-1757201400@villaelisa.gov.ar
SUMMARY:Tertulia Musical en La Antonia
DESCRIPTION:Volvemos en Tertulia Musical! Arrancando septiembre recibimos a Jeremías Lujan @s.e.r_humano con toda su música. \nTe esperamos en Colonia Hocker en La Antonia para una noche única
URL:https://villaelisa.gov.ar/evento/tertulia-musical-en-la-antonia-2/
LOCATION:La Antonia\, Colonia Hoker\, Villa Elisa\, Entre Rios\, 3265\, Argentina
ATTACH;FMTTYPE=image/jpeg:https://villaelisa.gov.ar/wp-content/uploads/2025/08/WhatsApp-Image-2025-08-26-at-12.41.43-PM.jpeg
END:VEVENT
BEGIN:VEVENT
DTSTART;TZID=America/Argentina/Buenos_Aires:20250906T210000
DTEND;TZID=America/Argentina/Buenos_Aires:20250907T013000
DTSTAMP:20260424T180841
CREATED:20250827T141952Z
LAST-MODIFIED:20250905T124718Z
UID:10004572-1757192400-1757208600@villaelisa.gov.ar
SUMMARY:Baile en Centro Unión
DESCRIPTION:Este sábado una nueva oportunidad de compartir muy buena música y bailar muchisimo en Centro Unión
URL:https://villaelisa.gov.ar/evento/baile-en-centro-union-4/
ATTACH;FMTTYPE=image/jpeg:https://villaelisa.gov.ar/wp-content/uploads/2025/08/WhatsApp-Image-2025-09-05-at-9.12.26-AM.jpeg
END:VEVENT
END:VCALENDAR