BEGIN:VCALENDAR
VERSION:2.0
PRODID:-//Municipalidad de Villa Elisa, Entre Ríos - ECPv6.6.4.2//NONSGML v1.0//EN
CALSCALE:GREGORIAN
METHOD:PUBLISH
X-ORIGINAL-URL:https://villaelisa.gov.ar
X-WR-CALDESC:Eventos para Municipalidad de Villa Elisa, Entre Ríos
REFRESH-INTERVAL;VALUE=DURATION:PT1H
X-Robots-Tag:noindex
X-PUBLISHED-TTL:PT1H
BEGIN:VTIMEZONE
TZID:America/Argentina/Buenos_Aires
BEGIN:STANDARD
TZOFFSETFROM:-0300
TZOFFSETTO:-0300
TZNAME:-03
DTSTART:20250101T000000
END:STANDARD
END:VTIMEZONE
BEGIN:VEVENT
DTSTART;TZID=America/Argentina/Buenos_Aires:20250909T000000
DTEND;TZID=America/Argentina/Buenos_Aires:20250929T235900
DTSTAMP:20260424T151800
CREATED:20250909T151441Z
LAST-MODIFIED:20250919T153813Z
UID:10004606-1757376000-1759190340@villaelisa.gov.ar
SUMMARY:PRIMAVERA 2025 EN VILLA ELISA-Promo estudiantil 2025
DESCRIPTION:El programa contempla semana de JUEGOS en el Polideportivo Municipal desde el lunes 8 al viernes 12. \nMientras que el DESFILE DE ANTORCHAS será el sábado 28 y la tradicional QUEMA DEL MUÑECO el domingo 29 de septiembre.
URL:https://villaelisa.gov.ar/evento/primavera-2025-en-villa-elisa-promo-estudiantil-2025/2025-09-09/3/
ATTACH;FMTTYPE=image/jpeg:https://villaelisa.gov.ar/wp-content/uploads/2025/09/WhatsApp-Image-2025-09-09-at-12.02.39-PM.jpeg
END:VEVENT
BEGIN:VEVENT
DTSTART;TZID=America/Argentina/Buenos_Aires:20250919T103000
DTEND;TZID=America/Argentina/Buenos_Aires:20250919T130000
DTSTAMP:20260424T151800
CREATED:20250830T202121Z
LAST-MODIFIED:20250830T202121Z
UID:10004585-1758277800-1758286800@villaelisa.gov.ar
SUMMARY:Visitas Guiadas en Estancia Museo El Porvenir
DESCRIPTION:Las visitas guiadas pueden realizarse de lunes a viernes (excepto martes) a las 10:30 y 12:00 horas. Si se lo desea\, se puede visitar el lugar en forma independiente (sin visita guiada) de 10:00 a 13:00 y de 16:00 a 19:00 horas\, recordando que también está habilitado el sector del parque recreativo. \nEl valor del bono contribución de ingreso es de $1500 general y $1000 para menores entre 6 y 12 años inclusive\, jubilados y residentes de la micro región “Tierra de Palmares”. \nContacto: 3447436203 – www.museoelporvenir.com.ar
URL:https://villaelisa.gov.ar/evento/visitas-guiadas-en-estancia-museo-el-porvenir-6/2025-09-19/
LOCATION:Estancia Museo “El Porvenir”
ATTACH;FMTTYPE=image/jpeg:https://villaelisa.gov.ar/wp-content/uploads/2025/08/Horarios-septiembre-2025-feed.jpeg
END:VEVENT
BEGIN:VEVENT
DTSTART;TZID=America/Argentina/Buenos_Aires:20250919T200000
DTEND;TZID=America/Argentina/Buenos_Aires:20250919T233000
DTSTAMP:20260424T151800
CREATED:20250704T174242Z
LAST-MODIFIED:20250822T123652Z
UID:10004364-1758312000-1758324600@villaelisa.gov.ar
SUMMARY:Peña Amiga
DESCRIPTION:La Peña te espera para compartir una noche con buena música y gran servicio de comidas y bebidas. \nLos esperamos!!!
URL:https://villaelisa.gov.ar/evento/pena-amiga/
LOCATION:pizzeria pizza kids\, Urquiza 1824\, Villa elisa\, 3265
ATTACH;FMTTYPE=image/jpeg:https://villaelisa.gov.ar/wp-content/uploads/2025/07/WhatsApp-Image-2025-08-22-at-9.34.37-AM.jpeg
END:VEVENT
BEGIN:VEVENT
DTSTART;TZID=America/Argentina/Buenos_Aires:20250919T210000
DTEND;TZID=America/Argentina/Buenos_Aires:20250919T220000
DTSTAMP:20260424T151800
CREATED:20250916T100604Z
LAST-MODIFIED:20250916T100604Z
UID:10004628-1758315600-1758319200@villaelisa.gov.ar
SUMMARY:"LETERNO"
DESCRIPTION:Volviendo de su gira por nuestro litoral\, llega desde Buenos Aires\n“LETERNO”-\nUn unipersonal con un león\, veinte jirafas\, una orquesta y un pianista.\nAmor\, dolor\, crimen\, deseo y un final estremecedor.\nVida\, pasión y obra de Torino San VERENO ¿Hasta donde llega un hombre para concretar sus sueños?\nUna obra teatral de humor para mayores de 12 años\n\n\nActúa: Mariano Bassi\nCoreografía y asistencia de dirección: Virginia Leanza\nAutoría: Mariano Bassi.\n\n\nVIERNES 19 DE SEPTIEMBRE\n 21HS\n” La Enredada” – Emilio Francou 1548- V. Elisa\n Por entradas 3447 434992 o pasa por @Optica Blanc.
URL:https://villaelisa.gov.ar/evento/leterno/
LOCATION:La ENREDADA\, FRANCOU 1548\, Villa Elisa\, 3265
ATTACH;FMTTYPE=image/png:https://villaelisa.gov.ar/wp-content/uploads/2025/09/19SEP.png
END:VEVENT
END:VCALENDAR