BEGIN:VCALENDAR
VERSION:2.0
PRODID:-//Municipalidad de Villa Elisa, Entre Ríos - ECPv6.6.4.2//NONSGML v1.0//EN
CALSCALE:GREGORIAN
METHOD:PUBLISH
X-WR-CALNAME:Municipalidad de Villa Elisa, Entre Ríos
X-ORIGINAL-URL:https://villaelisa.gov.ar
X-WR-CALDESC:Eventos para Municipalidad de Villa Elisa, Entre Ríos
REFRESH-INTERVAL;VALUE=DURATION:PT1H
X-Robots-Tag:noindex
X-PUBLISHED-TTL:PT1H
BEGIN:VTIMEZONE
TZID:America/Argentina/Buenos_Aires
BEGIN:STANDARD
TZOFFSETFROM:-0300
TZOFFSETTO:-0300
TZNAME:-03
DTSTART:20250101T000000
END:STANDARD
END:VTIMEZONE
BEGIN:VEVENT
DTSTART;TZID=America/Argentina/Buenos_Aires:20250909T000000
DTEND;TZID=America/Argentina/Buenos_Aires:20250929T235900
DTSTAMP:20260424T151054
CREATED:20250909T151441Z
LAST-MODIFIED:20250919T153813Z
UID:10004606-1757376000-1759190340@villaelisa.gov.ar
SUMMARY:PRIMAVERA 2025 EN VILLA ELISA-Promo estudiantil 2025
DESCRIPTION:El programa contempla semana de JUEGOS en el Polideportivo Municipal desde el lunes 8 al viernes 12. \nMientras que el DESFILE DE ANTORCHAS será el sábado 28 y la tradicional QUEMA DEL MUÑECO el domingo 29 de septiembre.
URL:https://villaelisa.gov.ar/evento/primavera-2025-en-villa-elisa-promo-estudiantil-2025/2025-09-09/3/
ATTACH;FMTTYPE=image/jpeg:https://villaelisa.gov.ar/wp-content/uploads/2025/09/WhatsApp-Image-2025-09-09-at-12.02.39-PM.jpeg
END:VEVENT
BEGIN:VEVENT
DTSTART;TZID=America/Argentina/Buenos_Aires:20250920T100000
DTEND;TZID=America/Argentina/Buenos_Aires:20250920T233000
DTSTAMP:20260424T151054
CREATED:20250917T143119Z
LAST-MODIFIED:20250917T143119Z
UID:10004634-1758362400-1758411000@villaelisa.gov.ar
SUMMARY:Vazquez Rock
DESCRIPTION:Durante todo el día te esperamos para vivir una jornada entre amigos!!!
URL:https://villaelisa.gov.ar/evento/vazquez-rock/
LOCATION:Club Vazquez\, Ruta provincial 23\, km8\, Villa Elisa\, Entre Rios\, 3265\, Argentina
ATTACH;FMTTYPE=image/jpeg:https://villaelisa.gov.ar/wp-content/uploads/2025/09/WhatsApp-Image-2025-09-17-at-11.27.17-AM.jpeg
END:VEVENT
BEGIN:VEVENT
DTSTART;TZID=America/Argentina/Buenos_Aires:20250920T203000
DTEND;TZID=America/Argentina/Buenos_Aires:20250920T220000
DTSTAMP:20260424T151054
CREATED:20250917T135045Z
LAST-MODIFIED:20250917T143620Z
UID:10004632-1758400200-1758405600@villaelisa.gov.ar
SUMMARY:El Profesor Hippie en Cine Paradiso
DESCRIPTION:El Profesor Hippie es una hermosa película argentina de estilo comedia musical\, protagonizada por Luis Sandrini\, donde aparecen grupos musicales como la Joven Guardia\, que interpreta El extraño del pelo largo\, Los Náufragos con “Otra vez en la vía” y tenemos la oportunidad en Cine Paradiso de Alvear 942 en Villa Elisa Entre Rios a solo $1500 la entrada.
URL:https://villaelisa.gov.ar/evento/el-profesor-hippie-en-cine-paradiso/
LOCATION:Cine Paradiso\, Gral. Alvear 942\, Villa Elisa\, 3265
ATTACH;FMTTYPE=image/jpeg:https://villaelisa.gov.ar/wp-content/uploads/2025/09/WhatsApp-Image-2025-09-16-at-6.41.43-PM.jpeg
END:VEVENT
BEGIN:VEVENT
DTSTART;TZID=America/Argentina/Buenos_Aires:20250920T210000
DTEND;TZID=America/Argentina/Buenos_Aires:20250920T233000
DTSTAMP:20260424T151054
CREATED:20250313T131538Z
LAST-MODIFIED:20250918T171109Z
UID:10003904-1758402000-1758411000@villaelisa.gov.ar
SUMMARY:Cena Show en "El Paso"
DESCRIPTION:Una noche para disfrutar de muy buena comida y excelente música en Parrilla y Restaurante El Paso
URL:https://villaelisa.gov.ar/evento/cena-show-en-el-paso-18/
LOCATION:Parrilla El Paso\, Av. Urquiza 3145\, Villa Elisa\, 3265
ATTACH;FMTTYPE=image/png:https://villaelisa.gov.ar/wp-content/uploads/2025/03/Copia-de-Plantillas_EL-PASO_Menu-2.png
END:VEVENT
BEGIN:VEVENT
DTSTART;TZID=America/Argentina/Buenos_Aires:20250920T210000
DTEND;TZID=America/Argentina/Buenos_Aires:20250921T013000
DTSTAMP:20260424T151054
CREATED:20250916T122819Z
LAST-MODIFIED:20250916T122819Z
UID:10004629-1758402000-1758418200@villaelisa.gov.ar
SUMMARY:Baile en Centro Unión
DESCRIPTION:Para recibir la primavera bailando vení al Centro Unión
URL:https://villaelisa.gov.ar/evento/baile-en-centro-union-5/
LOCATION:Centro Union\, El Ñandubay 1075\, Villa Elisa\, Entre Rios\, 3265\, Argentina
ATTACH;FMTTYPE=image/jpeg:https://villaelisa.gov.ar/wp-content/uploads/2025/09/WhatsApp-Image-2025-09-16-at-9.25.29-AM.jpeg
END:VEVENT
END:VCALENDAR