BEGIN:VCALENDAR
VERSION:2.0
PRODID:-//Municipalidad de Villa Elisa, Entre Ríos - ECPv6.6.4.2//NONSGML v1.0//EN
CALSCALE:GREGORIAN
METHOD:PUBLISH
X-ORIGINAL-URL:https://villaelisa.gov.ar
X-WR-CALDESC:Eventos para Municipalidad de Villa Elisa, Entre Ríos
REFRESH-INTERVAL;VALUE=DURATION:PT1H
X-Robots-Tag:noindex
X-PUBLISHED-TTL:PT1H
BEGIN:VTIMEZONE
TZID:America/Argentina/Buenos_Aires
BEGIN:STANDARD
TZOFFSETFROM:-0300
TZOFFSETTO:-0300
TZNAME:-03
DTSTART:20250101T000000
END:STANDARD
END:VTIMEZONE
BEGIN:VEVENT
DTSTART;TZID=America/Argentina/Buenos_Aires:20251010T100000
DTEND;TZID=America/Argentina/Buenos_Aires:20251010T180000
DTSTAMP:20260424T081927
CREATED:20250922T132923Z
LAST-MODIFIED:20250922T133219Z
UID:10004639-1760090400-1760119200@villaelisa.gov.ar
SUMMARY:42° Exposición Rural
DESCRIPTION:En Predio Ferial\, Colonia San Miguel\, Colón – Entre Ríos \nCon la participación de más de 40 empresas\, tecnología\, innovación\, espacios de formación\, gastronomía\, emprendedores ¡y una grilla artística que no te podés perder. \nLa Nueva Luna del Chino\, Gera Bourlot\, Marcos Martín\, Caio y los Chamameceros\, Conectados Retro y Los del Litoral serán parte de un fin de semana a pura fiesta y tradición.
URL:https://villaelisa.gov.ar/evento/42-exposicion-rural-de-colon/
LOCATION:Sociedad Rural
ATTACH;FMTTYPE=image/jpeg:https://villaelisa.gov.ar/wp-content/uploads/2025/09/WhatsApp-Image-2025-09-22-at-10.26.54-AM.jpeg
END:VEVENT
BEGIN:VEVENT
DTSTART;TZID=America/Argentina/Buenos_Aires:20251010T100000
DTEND;TZID=America/Argentina/Buenos_Aires:20251010T190000
DTSTAMP:20260424T081927
CREATED:20250812T132143Z
LAST-MODIFIED:20251009T215418Z
UID:10004512-1760090400-1760122800@villaelisa.gov.ar
SUMMARY:Viviendo Historias
DESCRIPTION:En una visita al histórico Almacen Francou tendrás la posibilidad de compartir actividades fascinantes e inolvidables.
URL:https://villaelisa.gov.ar/evento/viviendo-historias-7/
LOCATION:Almacén de Ramos Generales Francou\, Colonia del Carmen\, Villa Elisa\, Entre Rios\, 3265\, Argentina
ATTACH;FMTTYPE=image/jpeg:https://villaelisa.gov.ar/wp-content/uploads/2025/08/WhatsApp-Image-2025-10-09-at-18.19.06.jpeg
END:VEVENT
BEGIN:VEVENT
DTSTART;TZID=America/Argentina/Buenos_Aires:20251010T170000
DTEND;TZID=America/Argentina/Buenos_Aires:20251010T193000
DTSTAMP:20260424T081927
CREATED:20250910T140635Z
LAST-MODIFIED:20251008T154841Z
UID:10004622-1760115600-1760124600@villaelisa.gov.ar
SUMMARY:Expo Fátima 2025
DESCRIPTION:La tradicional exposición anual vuelve a abrir sus puertas para compartir con la comunidad todo lo que construimos en los talleres. \n¡Te esperamos!\nViernes 10 de octubre\nEn nuestra institución\nDesde las 17 hs \nSerá una jornada especial para conocer la oferta educativa\, dialogar con docentes y estudiantes\, descubriendo de cerca el trabajo y la creatividad que existe en cada taller de formación. \nAdemás\, podrás disfrutar de unas ricas masas dulces\, agua para el mate y show musical en vivo
URL:https://villaelisa.gov.ar/evento/expo-fatima-2025/
LOCATION:Escuela Fátima
ATTACH;FMTTYPE=image/jpeg:https://villaelisa.gov.ar/wp-content/uploads/2025/09/WhatsApp-Image-2025-10-08-at-12.32.45-PM.jpeg
END:VEVENT
END:VCALENDAR