BEGIN:VCALENDAR
VERSION:2.0
PRODID:-//Municipalidad de Villa Elisa, Entre Ríos - ECPv6.6.4.2//NONSGML v1.0//EN
CALSCALE:GREGORIAN
METHOD:PUBLISH
X-ORIGINAL-URL:https://villaelisa.gov.ar
X-WR-CALDESC:Eventos para Municipalidad de Villa Elisa, Entre Ríos
REFRESH-INTERVAL;VALUE=DURATION:PT1H
X-Robots-Tag:noindex
X-PUBLISHED-TTL:PT1H
BEGIN:VTIMEZONE
TZID:America/Argentina/Buenos_Aires
BEGIN:STANDARD
TZOFFSETFROM:-0300
TZOFFSETTO:-0300
TZNAME:-03
DTSTART:20250101T000000
END:STANDARD
END:VTIMEZONE
BEGIN:VEVENT
DTSTART;TZID=America/Argentina/Buenos_Aires:20251011T100000
DTEND;TZID=America/Argentina/Buenos_Aires:20251011T180000
DTSTAMP:20260424T081925
CREATED:20250922T133441Z
LAST-MODIFIED:20250922T133453Z
UID:10004642-1760176800-1760205600@villaelisa.gov.ar
SUMMARY:42° Exposición Rural
DESCRIPTION:En Predio Ferial\, Colonia San Miguel\, Colón – Entre Ríos \nCon la participación de más de 40 empresas\, tecnología\, innovación\, espacios de formación\, gastronomía\, emprendedores ¡y una grilla artística que no te podés perder. \nLa Nueva Luna del Chino\, Gera Bourlot\, Marcos Martín\, Caio y los Chamameceros\, Conectados Retro y Los del Litoral serán parte de un fin de semana a pura fiesta y tradición.
URL:https://villaelisa.gov.ar/evento/42-exposicion-rural-de-colon-2/
LOCATION:Predio ferial Sociedad Rural Colón\, Ruta Nacional 130 k.37\, Villa Elisa\, Entre Rios\, 3265\, Argentina
ATTACH;FMTTYPE=image/jpeg:https://villaelisa.gov.ar/wp-content/uploads/2025/09/WhatsApp-Image-2025-09-22-at-10.26.54-AM.jpeg
END:VEVENT
BEGIN:VEVENT
DTSTART;TZID=America/Argentina/Buenos_Aires:20251011T103000
DTEND;TZID=America/Argentina/Buenos_Aires:20251011T173000
DTSTAMP:20260424T081925
CREATED:20251008T194547Z
LAST-MODIFIED:20251008T194547Z
UID:10004694-1760178600-1760203800@villaelisa.gov.ar
SUMMARY:Visitas Guiadas en Estancia Museo El Porvenir
DESCRIPTION:Las visitas guiadas pueden realizarse el sábado 11 a las 10:30\, 12:00\, 16:30 y 17:30 horas. Si se lo desea\, se puede visitar el lugar en forma independiente (sin visita guiada) de 10:00 a 13:00 y de 16:00 a 19:00 horas\, recordando que también está habilitado el sector del parque recreativo. \nEl valor del bono contribución de ingreso es de $1500 general y $1000 para menores entre 6 y 12 años inclusive\, jubilados y residentes de la micro región “Tierra de Palmares”. \nContacto: 3447436203 – www.museoelporvenir.com.ar
URL:https://villaelisa.gov.ar/evento/visitas-guiadas-en-estancia-museo-el-porvenir-8/
LOCATION:Estancia Museo “El Porvenir”
ATTACH;FMTTYPE=image/jpeg:https://villaelisa.gov.ar/wp-content/uploads/2025/10/6.10-Horario-fin-de-semana-largo.jpeg
END:VEVENT
BEGIN:VEVENT
DTSTART;TZID=America/Argentina/Buenos_Aires:20251011T160000
DTEND;TZID=America/Argentina/Buenos_Aires:20251011T210000
DTSTAMP:20260424T081925
CREATED:20251006T154509Z
LAST-MODIFIED:20251007T121406Z
UID:10004688-1760198400-1760216400@villaelisa.gov.ar
SUMMARY:Miraí Fest
DESCRIPTION:La jornada tan esperada está llegando este sábado a Plaza San Martín
URL:https://villaelisa.gov.ar/evento/mirai-fest/
LOCATION:Plaza San Martín\, Villa Elisa\, 3265
ATTACH;FMTTYPE=image/jpeg:https://villaelisa.gov.ar/wp-content/uploads/2025/10/WhatsApp-Image-2025-10-06-at-12.38.32-PM.jpeg
END:VEVENT
BEGIN:VEVENT
DTSTART;TZID=America/Argentina/Buenos_Aires:20251011T190000
DTEND;TZID=America/Argentina/Buenos_Aires:20251011T233000
DTSTAMP:20260424T081925
CREATED:20251007T143448Z
LAST-MODIFIED:20251007T182755Z
UID:10004691-1760209200-1760225400@villaelisa.gov.ar
SUMMARY:FUSIÓN BALLET Encuentro de danzas
DESCRIPTION:Este Encuentro\, como todos los años\, se realiza en el Polideportivo Municipal a partir de las 19hrs. \nAparte de todas las alumnas de Fusión\, nos visitarán grupos de danzas de Villa Clara\, Gualeguay\, La Clarita y\, por supuesto\, ballet locales como Mahaila y Sem. \nEl costo de la entrada será de $4000\, se pide llevar sillones. \nTambién habrá para venta de comidas rápidas y bebidas.
URL:https://villaelisa.gov.ar/evento/fusion-ballet-encuentro-de-danzas/
LOCATION:Polideportivo Municipal\, Bv. Churruarín y Héctor de Elía
ATTACH;FMTTYPE=image/jpeg:https://villaelisa.gov.ar/wp-content/uploads/2025/10/IMG-20251005-WA0033.jpg
END:VEVENT
BEGIN:VEVENT
DTSTART;TZID=America/Argentina/Buenos_Aires:20251011T210000
DTEND;TZID=America/Argentina/Buenos_Aires:20251011T223000
DTSTAMP:20260424T081925
CREATED:20251009T152749Z
LAST-MODIFIED:20251009T152855Z
UID:10004696-1760216400-1760221800@villaelisa.gov.ar
SUMMARY:"El Vuelo del Fenix" en Cine Paradiso
DESCRIPTION:Una pelicula de acción que despierta mucho interes!!! \nSábado 11 a las 21 hs en Cine Paradiso Alvear 942
URL:https://villaelisa.gov.ar/evento/el-vuelo-del-fenix-en-cine-paradiso/
LOCATION:Cine Paradiso\, Gral. Alvear 942\, Villa Elisa\, 3265
ATTACH;FMTTYPE=image/jpeg:https://villaelisa.gov.ar/wp-content/uploads/2025/10/WhatsApp-Image-2025-10-09-at-12.21.30-PM.jpeg
END:VEVENT
BEGIN:VEVENT
DTSTART;TZID=America/Argentina/Buenos_Aires:20251011T210000
DTEND;TZID=America/Argentina/Buenos_Aires:20251011T233000
DTSTAMP:20260424T081925
CREATED:20241022T151155Z
LAST-MODIFIED:20251007T174724Z
UID:10002156-1760216400-1760225400@villaelisa.gov.ar
SUMMARY:Cena Show con "Somos Así " en "Los Teros"
DESCRIPTION:Un hermoso lugar donde la perfecta armonía de exquisitos platos\, incluyendo cordero al asador junto a la maravillosa música de Grupo “Somos Así ” te transportaran a un mundo de emoción y bienestar.
URL:https://villaelisa.gov.ar/evento/cena-show-con-somos-asi-en-bodegon-el-paisanito/
LOCATION:Los Teros – restaurante\, Termas Villa Elisa\, Villa Elisa\, Entre Rios\, 3265\, Argentina
ATTACH;FMTTYPE=image/jpeg:https://villaelisa.gov.ar/wp-content/uploads/2024/10/WhatsApp-Image-2025-10-07-at-14.32.30.jpeg
END:VEVENT
BEGIN:VEVENT
DTSTART;TZID=America/Argentina/Buenos_Aires:20251011T210000
DTEND;TZID=America/Argentina/Buenos_Aires:20251012T030000
DTSTAMP:20260424T081925
CREATED:20251001T155459Z
LAST-MODIFIED:20251001T155459Z
UID:10004677-1760216400-1760238000@villaelisa.gov.ar
SUMMARY:GRAN BAILE
DESCRIPTION:SÁBADO 11 DE OCTUBRE \nGRAN BAILE CON BETOLA BOURLOT \, “EL VAGABUNDO “
URL:https://villaelisa.gov.ar/evento/gran-baile-3/
LOCATION:Centro María Auxiliadora\, H. Irigoyen 1269\, Villa Elisa
ATTACH;FMTTYPE=image/jpeg:https://villaelisa.gov.ar/wp-content/uploads/2025/10/InShot_20251001_114213034-scaled.jpg
END:VEVENT
END:VCALENDAR