BEGIN:VCALENDAR
VERSION:2.0
PRODID:-//Municipalidad de Villa Elisa, Entre Ríos - ECPv6.6.4.2//NONSGML v1.0//EN
CALSCALE:GREGORIAN
METHOD:PUBLISH
X-ORIGINAL-URL:https://villaelisa.gov.ar
X-WR-CALDESC:Eventos para Municipalidad de Villa Elisa, Entre Ríos
REFRESH-INTERVAL;VALUE=DURATION:PT1H
X-Robots-Tag:noindex
X-PUBLISHED-TTL:PT1H
BEGIN:VTIMEZONE
TZID:America/Argentina/Buenos_Aires
BEGIN:STANDARD
TZOFFSETFROM:-0300
TZOFFSETTO:-0300
TZNAME:-03
DTSTART:20250101T000000
END:STANDARD
END:VTIMEZONE
BEGIN:VEVENT
DTSTART;TZID=America/Argentina/Buenos_Aires:20251011T210000
DTEND;TZID=America/Argentina/Buenos_Aires:20251012T030000
DTSTAMP:20260424T081925
CREATED:20251001T155459Z
LAST-MODIFIED:20251001T155459Z
UID:10004677-1760216400-1760238000@villaelisa.gov.ar
SUMMARY:GRAN BAILE
DESCRIPTION:SÁBADO 11 DE OCTUBRE \nGRAN BAILE CON BETOLA BOURLOT \, “EL VAGABUNDO “
URL:https://villaelisa.gov.ar/evento/gran-baile-3/
LOCATION:Centro María Auxiliadora\, H. Irigoyen 1269\, Villa Elisa
ATTACH;FMTTYPE=image/jpeg:https://villaelisa.gov.ar/wp-content/uploads/2025/10/InShot_20251001_114213034-scaled.jpg
END:VEVENT
BEGIN:VEVENT
DTSTART;TZID=America/Argentina/Buenos_Aires:20251012T093000
DTEND;TZID=America/Argentina/Buenos_Aires:20251012T140000
DTSTAMP:20260424T081925
CREATED:20251007T183353Z
LAST-MODIFIED:20251007T183449Z
UID:10004693-1760261400-1760277600@villaelisa.gov.ar
SUMMARY:Gran Remate en Jockey Club
DESCRIPTION:Un importante evento de grandiosa jerarquía en nuestro pais.
URL:https://villaelisa.gov.ar/evento/gran-remate-en-jockey-club/
LOCATION:Hipódromo Jockey Club Villa Elisa
ATTACH;FMTTYPE=image/jpeg:https://villaelisa.gov.ar/wp-content/uploads/2025/10/WhatsApp-Image-2025-10-07-at-15.28.17.jpeg
END:VEVENT
BEGIN:VEVENT
DTSTART;TZID=America/Argentina/Buenos_Aires:20251012T100000
DTEND;TZID=America/Argentina/Buenos_Aires:20251012T130000
DTSTAMP:20260424T081925
CREATED:20241104T113404Z
LAST-MODIFIED:20241104T113404Z
UID:10002242-1760263200-1760274000@villaelisa.gov.ar
SUMMARY:Auto Tour
DESCRIPTION:TRAVELING VINA:  \nEs un servicio  extra\, que ofrece el complejo de Alojamientos “V I N A” \nExperiencia Rurales\, AUTO TOUR:  \nPlanificamos y coordinamos recorridos por bodegas\, fábricas de productos regionales\, y almacenes locales\, te llevamos a descubrir La Colonia\, cultura local y los paisajes mas hermosos de nuestra Tierra de Palmares.- \nOrganizado por Perla Lopez – \nReservas con anticipación: contacto 3447503491.- \nValor del recorrido: según destino elegido. \nTiempo demandado: aproximadamente 3 horas.- \nEl objetivo es formar una caravana\, con los vehículos de los interesados y hacer\, una mañana o una tarde de recorridos a los diferentes atractivos de nuestra zona  \nprevia coordinación.- \nPunto de salida: oficina de Turismo Villa Elisa.-
URL:https://villaelisa.gov.ar/evento/auto-tour/2025-10-12/
ATTACH;FMTTYPE=image/jpeg:https://villaelisa.gov.ar/wp-content/uploads/2024/11/Traveling-vina.jpg
END:VEVENT
BEGIN:VEVENT
DTSTART;TZID=America/Argentina/Buenos_Aires:20251012T100000
DTEND;TZID=America/Argentina/Buenos_Aires:20251012T190000
DTSTAMP:20260424T081925
CREATED:20250922T133132Z
LAST-MODIFIED:20250922T133132Z
UID:10004641-1760263200-1760295600@villaelisa.gov.ar
SUMMARY:42° Exposición Rural
DESCRIPTION:En Predio Ferial\, Colonia San Miguel\, Colón – Entre Ríos \nCon la participación de más de 40 empresas\, tecnología\, innovación\, espacios de formación\, gastronomía\, emprendedores ¡y una grilla artística que no te podés perder. \nLa Nueva Luna del Chino\, Gera Bourlot\, Marcos Martín\, Caio y los Chamameceros\, Conectados Retro y Los del Litoral serán parte de un fin de semana a pura fiesta y tradición.
URL:https://villaelisa.gov.ar/evento/42-exposicion-rural-2/
LOCATION:Predio ferial Sociedad Rural Colón\, Ruta Nacional 130 k.37\, Villa Elisa\, Entre Rios\, 3265\, Argentina
ATTACH;FMTTYPE=image/jpeg:https://villaelisa.gov.ar/wp-content/uploads/2025/09/WhatsApp-Image-2025-09-22-at-10.26.54-AM.jpeg
END:VEVENT
BEGIN:VEVENT
DTSTART;TZID=America/Argentina/Buenos_Aires:20251012T140000
DTEND;TZID=America/Argentina/Buenos_Aires:20251012T190000
DTSTAMP:20260424T081925
CREATED:20250925T153020Z
LAST-MODIFIED:20251011T220515Z
UID:10004668-1760277600-1760295600@villaelisa.gov.ar
SUMMARY:Fútbol Departamental
DESCRIPTION:Este domingo Club Atlético Villa Elisa recibe al Club Deportivo Barú en el Estadio “ 2 de Junio ” por una nueva fecha del Torneo clausura departamental \n3ra: 14:00 hs | 1ra: 16:15 hs.
URL:https://villaelisa.gov.ar/evento/futbol-departamental-11/
LOCATION:CAVE Estadio 2 de Junio
ATTACH;FMTTYPE=image/jpeg:https://villaelisa.gov.ar/wp-content/uploads/2025/09/WhatsApp-Image-2025-10-11-at-14.13.40.jpeg
END:VEVENT
END:VCALENDAR