BEGIN:VCALENDAR
VERSION:2.0
PRODID:-//Municipalidad de Villa Elisa, Entre Ríos - ECPv6.6.4.2//NONSGML v1.0//EN
CALSCALE:GREGORIAN
METHOD:PUBLISH
X-WR-CALNAME:Municipalidad de Villa Elisa, Entre Ríos
X-ORIGINAL-URL:https://villaelisa.gov.ar
X-WR-CALDESC:Eventos para Municipalidad de Villa Elisa, Entre Ríos
REFRESH-INTERVAL;VALUE=DURATION:PT1H
X-Robots-Tag:noindex
X-PUBLISHED-TTL:PT1H
BEGIN:VTIMEZONE
TZID:America/Argentina/Buenos_Aires
BEGIN:STANDARD
TZOFFSETFROM:-0300
TZOFFSETTO:-0300
TZNAME:-03
DTSTART:20250101T000000
END:STANDARD
END:VTIMEZONE
BEGIN:VEVENT
DTSTART;TZID=America/Argentina/Buenos_Aires:20251107T203000
DTEND;TZID=America/Argentina/Buenos_Aires:20251108T003000
DTSTAMP:20260423T231356
CREATED:20251103T150240Z
LAST-MODIFIED:20251107T200229Z
UID:10004756-1762547400-1762561800@villaelisa.gov.ar
SUMMARY:Folclore Pensando en Vos SUSPENDIDO
DESCRIPTION:Un espectáculo de música y danza con Ruben Monzon e invitados especiales en La Fragua H. de Elía 1489
URL:https://villaelisa.gov.ar/evento/folclore-pensando-en-vos/
LOCATION:Centro cultural “La fragua”
ATTACH;FMTTYPE=image/jpeg:https://villaelisa.gov.ar/wp-content/uploads/2025/11/WhatsApp-Image-2025-11-02-at-10.11.01-PM.jpeg
END:VEVENT
BEGIN:VEVENT
DTSTART;TZID=America/Argentina/Buenos_Aires:20251108T080000
DTEND;TZID=America/Argentina/Buenos_Aires:20251108T170000
DTSTAMP:20260423T231356
CREATED:20251103T195123Z
LAST-MODIFIED:20251107T200254Z
UID:10004760-1762588800-1762621200@villaelisa.gov.ar
SUMMARY:Fiesta de la Familia en Escuela 64 .SUSPENDIDO
DESCRIPTION:Números artísticos de los alumnos y gran baile con Grupo Cinco en escuela 64 Héctor de Elía.
URL:https://villaelisa.gov.ar/evento/fiesta-de-la-familia-en-escuela-64/
LOCATION:Escuela 64
ATTACH;FMTTYPE=image/jpeg:https://villaelisa.gov.ar/wp-content/uploads/2025/11/WhatsApp-Image-2025-11-03-at-16.44.23.jpeg
END:VEVENT
BEGIN:VEVENT
DTSTART;TZID=America/Argentina/Buenos_Aires:20251108T180000
DTEND;TZID=America/Argentina/Buenos_Aires:20251108T203000
DTSTAMP:20260423T231356
CREATED:20250922T160337Z
LAST-MODIFIED:20250922T160337Z
UID:10004645-1762624800-1762633800@villaelisa.gov.ar
SUMMARY:42° Prueba Atlética de la Ciudad
DESCRIPTION:Una nueva y muy esperada edición de la tradicional prueba atlética en Villa Elisa E Rios
URL:https://villaelisa.gov.ar/evento/42-prueba-atletica-de-la-ciudad/
LOCATION:Plazoleta de la Madre
ATTACH;FMTTYPE=image/jpeg:https://villaelisa.gov.ar/wp-content/uploads/2025/09/WhatsApp-Image-2025-09-22-at-12.57.53-PM.jpeg
END:VEVENT
BEGIN:VEVENT
DTSTART;TZID=America/Argentina/Buenos_Aires:20251108T200000
DTEND;TZID=America/Argentina/Buenos_Aires:20251109T003000
DTSTAMP:20260423T231356
CREATED:20251015T141013Z
LAST-MODIFIED:20251107T200328Z
UID:10004704-1762632000-1762648200@villaelisa.gov.ar
SUMMARY:Folcloreando  SUSPENDIDO
DESCRIPTION:En Plazoleta Belgrano\, danzas\, música y baile popular\, con servicio de cantina y comidas rápidas
URL:https://villaelisa.gov.ar/evento/folcloreando/
LOCATION:Plazoleta Manuel Belgrano\, Villa Elisa
ATTACH;FMTTYPE=image/jpeg:https://villaelisa.gov.ar/wp-content/uploads/2025/10/WhatsApp-Image-2025-10-23-at-12.54.21-PM.jpeg
END:VEVENT
BEGIN:VEVENT
DTSTART;TZID=America/Argentina/Buenos_Aires:20251108T210000
DTEND;TZID=America/Argentina/Buenos_Aires:20251108T233000
DTSTAMP:20260423T231356
CREATED:20251106T165654Z
LAST-MODIFIED:20251106T165654Z
UID:10004767-1762635600-1762644600@villaelisa.gov.ar
SUMMARY:"Somos Así " en Parrilla El Gringo
DESCRIPTION:Sábado 8 \nCena show con “Somos Así” no se cobra derecho al show\nCordero al asador\, parrilla y cortes de carnes bien criollos. \nDirección: prolongación Av.Mitre camino Hocker (frente a la GNC villa Elisa)\nTel:3447550616 \n 
URL:https://villaelisa.gov.ar/evento/somos-asi-en-parrilla-el-gringo/
LOCATION:Parrilla El Gringo
ATTACH;FMTTYPE=image/jpeg:https://villaelisa.gov.ar/wp-content/uploads/2025/11/WhatsApp-Image-2025-11-06-at-12.20.12.jpeg
END:VEVENT
BEGIN:VEVENT
DTSTART;TZID=America/Argentina/Buenos_Aires:20251108T210000
DTEND;TZID=America/Argentina/Buenos_Aires:20251109T030000
DTSTAMP:20260423T231356
CREATED:20251027T134235Z
LAST-MODIFIED:20251027T134235Z
UID:10004727-1762635600-1762657200@villaelisa.gov.ar
SUMMARY:GRAN BAILE
DESCRIPTION:SÁBADO 8 DE NOVIEMBRE  \nGRAN BAILE CON  \n“LEO MILEZZI”
URL:https://villaelisa.gov.ar/evento/gran-baile-15/
LOCATION:Centro María Auxiliadora\, H. Irigoyen 1269\, Villa Elisa
ATTACH;FMTTYPE=image/jpeg:https://villaelisa.gov.ar/wp-content/uploads/2025/10/InShot_20251027_094844253.jpg
END:VEVENT
END:VCALENDAR