BEGIN:VCALENDAR
VERSION:2.0
PRODID:-//Municipalidad de Villa Elisa, Entre Ríos - ECPv6.6.4.2//NONSGML v1.0//EN
CALSCALE:GREGORIAN
METHOD:PUBLISH
X-WR-CALNAME:Municipalidad de Villa Elisa, Entre Ríos
X-ORIGINAL-URL:https://villaelisa.gov.ar
X-WR-CALDESC:Eventos para Municipalidad de Villa Elisa, Entre Ríos
REFRESH-INTERVAL;VALUE=DURATION:PT1H
X-Robots-Tag:noindex
X-PUBLISHED-TTL:PT1H
BEGIN:VTIMEZONE
TZID:America/Argentina/Buenos_Aires
BEGIN:STANDARD
TZOFFSETFROM:-0300
TZOFFSETTO:-0300
TZNAME:-03
DTSTART:20250101T000000
END:STANDARD
END:VTIMEZONE
BEGIN:VEVENT
DTSTART;TZID=America/Argentina/Buenos_Aires:20251120T100000
DTEND;TZID=America/Argentina/Buenos_Aires:20251120T190000
DTSTAMP:20260423T202821
CREATED:20251110T203106Z
LAST-MODIFIED:20251124T143357Z
UID:10004781-1763632800-1763665200@villaelisa.gov.ar
SUMMARY:Muestra fotográfica "Villa Elisa en el tiempo: una mirada a los 135 años de historia"
DESCRIPTION:De 10:00 a 13:00 y de 16:00 a 19:00 horas\, te invitamos a recorrer\, a través de esta muestra fotográfica\, la transformación urbana y social de nuestra ciudad a lo largo del tiempo.\nLa exposición reúne fotos históricas de distintos espacios de Villa Elisa junto a sus réplicas actuales\, generando un diálogo visual entre pasado y presente. \nEl valor del bono contribución de ingreso es de $1500 general y $1000 para menores entre 6 y 12 años inclusive\, jubilados y residentes de la micro región “Tierra de Palmares”. \nContacto: 3447436203 – www.museoelporvenir.com.ar
URL:https://villaelisa.gov.ar/evento/muestra-fotografica-temporal/2025-11-20/
LOCATION:Estancia Museo “El Porvenir”
ATTACH;FMTTYPE=image/jpeg:https://villaelisa.gov.ar/wp-content/uploads/2025/11/Muestra-temporal-2025-Villa-Elisa-en-el-tiempo-2.jpeg
END:VEVENT
BEGIN:VEVENT
DTSTART;TZID=America/Argentina/Buenos_Aires:20251120T103000
DTEND;TZID=America/Argentina/Buenos_Aires:20251120T130000
DTSTAMP:20260423T202821
CREATED:20251027T194110Z
LAST-MODIFIED:20251124T143830Z
UID:10004737-1763634600-1763643600@villaelisa.gov.ar
SUMMARY:Visitas Guiadas en Estancia Museo El Porvenir
DESCRIPTION:De lunes a viernes (excepto martes) las 10:30 y 12:00 horas\,  pueden realizarse las visitas guiadas gratuitas por la Estancia. \nSi se lo desea\, se puede visitar el lugar en forma independiente (sin visita guiada) de 10:00 a 13:00 y de 16:00 a 19:00 horas\, recordando que también está habilitado el sector del parque recreativo. \nEl valor del bono contribución de ingreso es de $1500 general y $1000 para menores entre 6 y 12 años inclusive\, jubilados y residentes de la micro región “Tierra de Palmares”. \nContacto: 3447436203 – www.museoelporvenir.com.ar
URL:https://villaelisa.gov.ar/evento/visitas-guiadas-en-estancia-museo-el-porvenir-9/2025-11-20/
LOCATION:Estancia Museo “El Porvenir”
ATTACH;FMTTYPE=image/jpeg:https://villaelisa.gov.ar/wp-content/uploads/2025/08/Horarios-septiembre-2025-feed.jpeg
END:VEVENT
BEGIN:VEVENT
DTSTART;TZID=America/Argentina/Buenos_Aires:20251120T200000
DTEND;TZID=America/Argentina/Buenos_Aires:20251120T213000
DTSTAMP:20260423T202821
CREATED:20251113T142104Z
LAST-MODIFIED:20251113T142104Z
UID:10004854-1763668800-1763674200@villaelisa.gov.ar
SUMMARY:“𝗘𝗹 𝗳𝘂𝘁𝘂𝗿𝗼 𝗲𝘀𝘁𝗮́ 𝗲𝗻 𝘁𝘂𝘀 𝗺𝗮𝗻𝗼𝘀” con 𝗛𝗲́𝗰𝘁𝗼𝗿 𝗟𝗮𝗰𝗮
DESCRIPTION:𝗖𝗼𝗻𝗳𝗲𝗿𝗲𝗻𝗰𝗶𝗮 — 𝗦𝗲𝗺𝗮𝗻𝗮 𝗱𝗲𝗹 𝗘𝗺𝗽𝗿𝗲𝗻𝗱𝗲𝗱𝗼𝗿 | 𝗫 𝗘𝗱𝗶𝗰𝗶𝗼́𝗻 \nEn esta charla\, Héctor compartirá su recorrido como emprendedor y el proceso de construir una empresa desde una idea\, un propósito y la decisión de avanzar incluso frente a los desafíos.\nUna invitación a pensar y repensar nuestro rol como protagonistas de nuestro futuro\, del desarrollo de nuestra comunidad y del crecimiento de nuestros proyectos. \n🌱 Porque emprender no es solo crear empresas:\nes animarse\, gestionar\, equivocarse\, aprender y volver a intentar. \n“𝗘𝗹 𝗳𝘂𝘁𝘂𝗿𝗼 𝗲𝘀𝘁𝗮́ 𝗲𝗻 𝘁𝘂𝘀 𝗺𝗮𝗻𝗼𝘀” con 𝗛𝗲́𝗰𝘁𝗼𝗿 𝗟𝗮𝗰𝗮\n𝘌𝘮𝑝𝘳𝘦𝘴𝘢𝘳𝘪𝘰 𝘢𝘳𝘨𝘦𝘯𝘵𝘪𝘯𝘰 • 𝘍𝘶𝘯𝘥𝘢𝘥𝘰𝘳 𝘥𝘦 𝘍𝘈𝘊𝘠𝘛 \n📅 J𝘂𝗲𝘃𝗲𝘀 𝟮𝟬/𝟭𝟭\n🕒 𝟮𝟬:𝟬𝟬 𝗵𝘀\n📍 𝗦𝗮𝗹𝗼́𝗻 𝗠𝘂𝗻𝗶𝗰𝗶𝗽𝗮𝗹 “𝗛𝗲𝗿𝗮𝗹𝗱𝗼 𝗣𝗲𝗿𝗮𝗴𝗮𝗹𝗹𝗼” — 𝗔𝘃. 𝗠𝗶𝘁𝗿𝗲 𝟭𝟯𝟮𝟬\n𝗘𝗻𝘁𝗿𝗮𝗱𝗮 𝗹𝗶𝗯𝗿𝗲 𝘆 𝗴𝗿𝗮𝘁𝘂𝗶𝘁𝗮 \nOrganizan:\nEscuela Normal Superior “Dr. Luis César Ingold”\nAsociación para el Desarrollo\nMunicipalidad de Villa Elisa
URL:https://villaelisa.gov.ar/evento/%f0%9d%97%98%f0%9d%97%b9-%f0%9d%97%b3%f0%9d%98%82%f0%9d%98%81%f0%9d%98%82%f0%9d%97%bf%f0%9d%97%bc-%f0%9d%97%b2%f0%9d%98%80%f0%9d%98%81%f0%9d%97%ae-%f0%9d%97%b2%f0%9d%97%bb-%f0%9d%98%81/
LOCATION:Auditorio Municipal Heraldo N. Peragallo\, Av. Mitre 1301\, Villa Elisa\, 3265
ATTACH;FMTTYPE=image/jpeg:https://villaelisa.gov.ar/wp-content/uploads/2025/11/WhatsApp-Image-2025-11-13-at-9.20.38-AM.jpeg
END:VEVENT
BEGIN:VEVENT
DTSTART;TZID=America/Argentina/Buenos_Aires:20251120T200000
DTEND;TZID=America/Argentina/Buenos_Aires:20251120T230000
DTSTAMP:20260423T202821
CREATED:20251118T121826Z
LAST-MODIFIED:20251118T121826Z
UID:10004885-1763668800-1763679600@villaelisa.gov.ar
SUMMARY:Peña Alas y Raíces
DESCRIPTION:Compartiremos un lindo momento con exposición de trabajos\, música en vivo y servicio de cantina.
URL:https://villaelisa.gov.ar/evento/pena-alas-y-raices/
LOCATION:Escuela 20 Bernardo Monteagudo
ATTACH;FMTTYPE=image/jpeg:https://villaelisa.gov.ar/wp-content/uploads/2025/11/WhatsApp-Image-2025-11-18-at-9.13.06-AM.jpeg
END:VEVENT
END:VCALENDAR