BEGIN:VCALENDAR
VERSION:2.0
PRODID:-//Municipalidad de Villa Elisa, Entre Ríos - ECPv6.6.4.2//NONSGML v1.0//EN
CALSCALE:GREGORIAN
METHOD:PUBLISH
X-WR-CALNAME:Municipalidad de Villa Elisa, Entre Ríos
X-ORIGINAL-URL:https://villaelisa.gov.ar
X-WR-CALDESC:Eventos para Municipalidad de Villa Elisa, Entre Ríos
REFRESH-INTERVAL;VALUE=DURATION:PT1H
X-Robots-Tag:noindex
X-PUBLISHED-TTL:PT1H
BEGIN:VTIMEZONE
TZID:America/Argentina/Buenos_Aires
BEGIN:STANDARD
TZOFFSETFROM:-0300
TZOFFSETTO:-0300
TZNAME:-03
DTSTART:20250101T000000
END:STANDARD
END:VTIMEZONE
BEGIN:VEVENT
DTSTART;TZID=America/Argentina/Buenos_Aires:20251121T100000
DTEND;TZID=America/Argentina/Buenos_Aires:20251121T190000
DTSTAMP:20260423T202822
CREATED:20251110T203106Z
LAST-MODIFIED:20251124T143357Z
UID:10004782-1763719200-1763751600@villaelisa.gov.ar
SUMMARY:Muestra fotográfica "Villa Elisa en el tiempo: una mirada a los 135 años de historia"
DESCRIPTION:De 10:00 a 13:00 y de 16:00 a 19:00 horas\, te invitamos a recorrer\, a través de esta muestra fotográfica\, la transformación urbana y social de nuestra ciudad a lo largo del tiempo.\nLa exposición reúne fotos históricas de distintos espacios de Villa Elisa junto a sus réplicas actuales\, generando un diálogo visual entre pasado y presente. \nEl valor del bono contribución de ingreso es de $1500 general y $1000 para menores entre 6 y 12 años inclusive\, jubilados y residentes de la micro región “Tierra de Palmares”. \nContacto: 3447436203 – www.museoelporvenir.com.ar
URL:https://villaelisa.gov.ar/evento/muestra-fotografica-temporal/2025-11-21/
LOCATION:Estancia Museo “El Porvenir”
ATTACH;FMTTYPE=image/jpeg:https://villaelisa.gov.ar/wp-content/uploads/2025/11/Muestra-temporal-2025-Villa-Elisa-en-el-tiempo-2.jpeg
END:VEVENT
BEGIN:VEVENT
DTSTART;TZID=America/Argentina/Buenos_Aires:20251121T203000
DTEND;TZID=America/Argentina/Buenos_Aires:20251121T233000
DTSTAMP:20260423T202822
CREATED:20251112T145032Z
LAST-MODIFIED:20251112T145032Z
UID:10004850-1763757000-1763767800@villaelisa.gov.ar
SUMMARY:"Luna" Espectáculo de acrobacia aérea
DESCRIPTION:Hermosa oporunidad de disfrutar un atrayente espectaculo de acrobacia aérea en La Fragua \nDos funciones 20:30 y 22:00 hs
URL:https://villaelisa.gov.ar/evento/luna-espectaculo-de-acrobacia-aerea/
LOCATION:Centro cultural “La fragua”
ATTACH;FMTTYPE=image/jpeg:https://villaelisa.gov.ar/wp-content/uploads/2025/11/WhatsApp-Image-2025-11-12-at-11.45.03-AM.jpeg
END:VEVENT
END:VCALENDAR