BEGIN:VCALENDAR
VERSION:2.0
PRODID:-//Municipalidad de Villa Elisa, Entre Ríos - ECPv6.6.4.2//NONSGML v1.0//EN
CALSCALE:GREGORIAN
METHOD:PUBLISH
X-WR-CALNAME:Municipalidad de Villa Elisa, Entre Ríos
X-ORIGINAL-URL:https://villaelisa.gov.ar
X-WR-CALDESC:Eventos para Municipalidad de Villa Elisa, Entre Ríos
REFRESH-INTERVAL;VALUE=DURATION:PT1H
X-Robots-Tag:noindex
X-PUBLISHED-TTL:PT1H
BEGIN:VTIMEZONE
TZID:America/Argentina/Buenos_Aires
BEGIN:STANDARD
TZOFFSETFROM:-0300
TZOFFSETTO:-0300
TZNAME:-03
DTSTART:20250101T000000
END:STANDARD
END:VTIMEZONE
BEGIN:VEVENT
DTSTART;TZID=America/Argentina/Buenos_Aires:20251122T203000
DTEND;TZID=America/Argentina/Buenos_Aires:20251123T120000
DTSTAMP:20260423T202840
CREATED:20251003T160657Z
LAST-MODIFIED:20251003T160657Z
UID:10004686-1763843400-1763899200@villaelisa.gov.ar
SUMMARY:Peregrinación a Barú
DESCRIPTION:La tradicional Peregrinación sale de la Parroquia Natividad de Nuestra Señora para llegar a la localidad de Arroyo Barú
URL:https://villaelisa.gov.ar/evento/peregrinacion-a-baru/
LOCATION:Parroquia Virgen Niña
ATTACH;FMTTYPE=image/jpeg:https://villaelisa.gov.ar/wp-content/uploads/2025/10/WhatsApp-Image-2025-10-03-at-1.02.24-PM.jpeg
END:VEVENT
BEGIN:VEVENT
DTSTART;TZID=America/Argentina/Buenos_Aires:20251122T210000
DTEND;TZID=America/Argentina/Buenos_Aires:20251123T030000
DTSTAMP:20260423T202840
CREATED:20251114T142430Z
LAST-MODIFIED:20251114T142430Z
UID:10004859-1763845200-1763866800@villaelisa.gov.ar
SUMMARY:GRAN BAILE
DESCRIPTION:SÁBADO 22 DE NOVIEMBRE  \nGRAN BAILE CON \n“GRUPO CINCO”
URL:https://villaelisa.gov.ar/evento/gran-baile-17/
LOCATION:Centro María Auxiliadora\, H. Irigoyen 1269\, Villa Elisa
ATTACH;FMTTYPE=image/jpeg:https://villaelisa.gov.ar/wp-content/uploads/2025/11/InShot_20251112_103709733.jpg
END:VEVENT
BEGIN:VEVENT
DTSTART;TZID=America/Argentina/Buenos_Aires:20251123T003000
DTEND;TZID=America/Argentina/Buenos_Aires:20251123T030000
DTSTAMP:20260423T202840
CREATED:20251118T170231Z
LAST-MODIFIED:20251120T184205Z
UID:10004887-1763857800-1763866800@villaelisa.gov.ar
SUMMARY:Show Musical con Dj en Parrilla "El Gringo"
DESCRIPTION:  \nFINDE LARGO\nShow con el reconocido  “DJ Fer de Kingston” para celebrar el día de la Diversidad\, habrá sorteos\, desfile y mucha diversión!!! \nDirección: prolongación Av. Mitre camino Hocker (frente a la GNC villa Elisa)\nTel:3447550616 \n 
URL:https://villaelisa.gov.ar/evento/show-musical-con-dj-en-parrilla-el-gringo/
LOCATION:Parrilla El Gringo
ATTACH;FMTTYPE=image/jpeg:https://villaelisa.gov.ar/wp-content/uploads/2025/11/WhatsApp-Image-2025-11-18-at-1.53.50-PM.jpeg
END:VEVENT
BEGIN:VEVENT
DTSTART;TZID=America/Argentina/Buenos_Aires:20251123T093000
DTEND;TZID=America/Argentina/Buenos_Aires:20251123T110000
DTSTAMP:20260423T202840
CREATED:20251121T215118Z
LAST-MODIFIED:20251121T215118Z
UID:10004920-1763890200-1763895600@villaelisa.gov.ar
SUMMARY:Caminatur
DESCRIPTION:Sumate a la propuesta de 𝐂𝐀𝐌𝐈𝐍𝐀𝐓𝐔𝐑\, mucho más que un city tour\, una experiencia que te conecta con historias\, rincones y emociones. \nContactate con Graciela al 3447456151 y acordá tu próximo recorrido por la ciudad. \nNuestros paseos arbolados y la belleza de la ciudad te dan el marco perfecto para disfrutar a pleno de esta caminata.
URL:https://villaelisa.gov.ar/evento/caminatur-7/
ATTACH;FMTTYPE=image/jpeg:https://villaelisa.gov.ar/wp-content/uploads/2025/11/WhatsApp-Image-2025-11-20-at-17.49.18.jpeg
END:VEVENT
BEGIN:VEVENT
DTSTART;TZID=America/Argentina/Buenos_Aires:20251123T100000
DTEND;TZID=America/Argentina/Buenos_Aires:20251123T130000
DTSTAMP:20260423T202840
CREATED:20241104T113404Z
LAST-MODIFIED:20241104T113404Z
UID:10002248-1763892000-1763902800@villaelisa.gov.ar
SUMMARY:Auto Tour
DESCRIPTION:TRAVELING VINA:  \nEs un servicio  extra\, que ofrece el complejo de Alojamientos “V I N A” \nExperiencia Rurales\, AUTO TOUR:  \nPlanificamos y coordinamos recorridos por bodegas\, fábricas de productos regionales\, y almacenes locales\, te llevamos a descubrir La Colonia\, cultura local y los paisajes mas hermosos de nuestra Tierra de Palmares.- \nOrganizado por Perla Lopez – \nReservas con anticipación: contacto 3447503491.- \nValor del recorrido: según destino elegido. \nTiempo demandado: aproximadamente 3 horas.- \nEl objetivo es formar una caravana\, con los vehículos de los interesados y hacer\, una mañana o una tarde de recorridos a los diferentes atractivos de nuestra zona  \nprevia coordinación.- \nPunto de salida: oficina de Turismo Villa Elisa.-
URL:https://villaelisa.gov.ar/evento/auto-tour/2025-11-23/
ATTACH;FMTTYPE=image/jpeg:https://villaelisa.gov.ar/wp-content/uploads/2024/11/Traveling-vina.jpg
END:VEVENT
BEGIN:VEVENT
DTSTART;TZID=America/Argentina/Buenos_Aires:20251123T100000
DTEND;TZID=America/Argentina/Buenos_Aires:20251123T190000
DTSTAMP:20260423T202840
CREATED:20251009T215625Z
LAST-MODIFIED:20251118T135744Z
UID:10004698-1763892000-1763924400@villaelisa.gov.ar
SUMMARY:Viviendo Historias
DESCRIPTION:En una visita al histórico Almacen Francou tendrás la posibilidad de compartir actividades fascinantes e inolvidables.
URL:https://villaelisa.gov.ar/evento/viviendo-historias-10/
LOCATION:Almacén de Ramos Generales Francou\, Colonia del Carmen\, Villa Elisa\, Entre Rios\, 3265\, Argentina
ATTACH;FMTTYPE=image/jpeg:https://villaelisa.gov.ar/wp-content/uploads/2025/10/WhatsApp-Image-2025-11-18-at-10.51.39-AM.jpeg
END:VEVENT
BEGIN:VEVENT
DTSTART;TZID=America/Argentina/Buenos_Aires:20251123T100000
DTEND;TZID=America/Argentina/Buenos_Aires:20251123T190000
DTSTAMP:20260423T202840
CREATED:20251110T203106Z
LAST-MODIFIED:20251124T143357Z
UID:10004784-1763892000-1763924400@villaelisa.gov.ar
SUMMARY:Muestra fotográfica "Villa Elisa en el tiempo: una mirada a los 135 años de historia"
DESCRIPTION:De 10:00 a 13:00 y de 16:00 a 19:00 horas\, te invitamos a recorrer\, a través de esta muestra fotográfica\, la transformación urbana y social de nuestra ciudad a lo largo del tiempo.\nLa exposición reúne fotos históricas de distintos espacios de Villa Elisa junto a sus réplicas actuales\, generando un diálogo visual entre pasado y presente. \nEl valor del bono contribución de ingreso es de $1500 general y $1000 para menores entre 6 y 12 años inclusive\, jubilados y residentes de la micro región “Tierra de Palmares”. \nContacto: 3447436203 – www.museoelporvenir.com.ar
URL:https://villaelisa.gov.ar/evento/muestra-fotografica-temporal/2025-11-23/
LOCATION:Estancia Museo “El Porvenir”
ATTACH;FMTTYPE=image/jpeg:https://villaelisa.gov.ar/wp-content/uploads/2025/11/Muestra-temporal-2025-Villa-Elisa-en-el-tiempo-2.jpeg
END:VEVENT
BEGIN:VEVENT
DTSTART;TZID=America/Argentina/Buenos_Aires:20251123T103000
DTEND;TZID=America/Argentina/Buenos_Aires:20251123T173000
DTSTAMP:20260423T202840
CREATED:20251119T193228Z
LAST-MODIFIED:20251121T211052Z
UID:10004918-1763893800-1763919000@villaelisa.gov.ar
SUMMARY:Visitas Guiadas en Estancia Museo El Porvenir
DESCRIPTION:A las 10:30\, 12:00\, 16:30 y 17:30 horas\, de los días sábado 22 y domingo 23 de noviembre\, pueden realizarse las visitas guiadas gratuitas por la Estancia. \nSi se lo desea\, se puede visitar el lugar en forma independiente (sin visita guiada) de 10:00 a 13:00 y de 16:00 a 19:00 horas\, recordando que también está habilitado el sector del parque recreativo. \nEl valor del bono contribución de ingreso es de $1500 general y $1000 para menores entre 6 y 12 años inclusive\, jubilados y residentes de la micro región “Tierra de Palmares”. \nContacto: 3447436203 – www.museoelporvenir.com.ar
URL:https://villaelisa.gov.ar/evento/visitas-guiadas-en-estancia-museo-el-porvenir-10/2025-11-23/
LOCATION:Estancia Museo “El Porvenir”
ATTACH;FMTTYPE=image/jpeg:https://villaelisa.gov.ar/wp-content/uploads/2025/11/19.11-fin-de-semana-largo-1.jpeg
END:VEVENT
BEGIN:VEVENT
DTSTART;TZID=America/Argentina/Buenos_Aires:20251123T180000
DTEND;TZID=America/Argentina/Buenos_Aires:20251124T030000
DTSTAMP:20260423T202840
CREATED:20250630T100745Z
LAST-MODIFIED:20250630T100745Z
UID:10004334-1763920800-1763953200@villaelisa.gov.ar
SUMMARY:2° Marcha del Orgullo Provincial de Entre Ríos - 4° Marcha del Orgullo Local
DESCRIPTION:El próximo Domingo 23 de Noviembre del corriente año\, Villa Elisa será sede de la 2° Marcha del Orgullo Provincial de Entre Ríos!! 🏳️‍🌈 Conformando\, a su vez\, la 4° Marcha del Orgullo Local de nuestra ciudad. La misma se llevará a cabo en marco del “Cuarto Finde Diverso: Deporte\, arte y orgullo”: comenzando el día Viernes 21 por la tarde con actividades culturales y recreativas\, continuando el día Sábado 22 con el “4° Encuentro Deportivo Recreativo”\, donde deportistas de varias provincias participarán en las disciplinas de futbol\, básquet\, vóley y natación. Luego\, el Domingo 23 por la tarde\, llevaremos adelante la mencionada Marcha del Orgullo\, motivo y eje principal del fin de semana XXL. Al finalizar la misma\, tendremos como cierre de las actividades el “Festival Diversé” con la participación de diversos artistas del colectivo: batucada\, drag\, cumbia y mucha fiesta! Les esperamos bien arriba!! 🥳🙌🏻😁
URL:https://villaelisa.gov.ar/evento/2-marcha-del-orgullo-provincial-de-entre-rios-4-marcha-del-orgullo-local/
LOCATION:Banco del Orgullo\, Av. Mitre y Tratado del Pilar\, Villa Elisa\, Entre Rios\, 3265\, Argentina
ATTACH;FMTTYPE=image/jpeg:https://villaelisa.gov.ar/wp-content/uploads/2025/06/IMG-20250625-WA0036.jpg
END:VEVENT
BEGIN:VEVENT
DTSTART;TZID=America/Argentina/Buenos_Aires:20251123T190000
DTEND;TZID=America/Argentina/Buenos_Aires:20251123T230000
DTSTAMP:20260423T202840
CREATED:20251118T141236Z
LAST-MODIFIED:20251118T141236Z
UID:10004886-1763924400-1763938800@villaelisa.gov.ar
SUMMARY:Feria de Emprendedores
DESCRIPTION:Una excelente posibilidad para conocer y acceder a trabajos\, manualidades y servicios que llevan adelante manos elisenses y de la zona. \nLos stands que conforman la feria se ubican sobre un tramo del paseo de Av. Urquiza\, comprendido entre calles Las Heras y Alvear.⁣
URL:https://villaelisa.gov.ar/evento/feria-de-emprendedores/
LOCATION:Paseo de la Vida\, Villa Elisa
ATTACH;FMTTYPE=image/jpeg:https://villaelisa.gov.ar/wp-content/uploads/2025/11/Feria-de-emprendedores-de-noviembre.jpeg
END:VEVENT
BEGIN:VEVENT
DTSTART;TZID=America/Argentina/Buenos_Aires:20251123T200000
DTEND;TZID=America/Argentina/Buenos_Aires:20251123T230000
DTSTAMP:20260423T202840
CREATED:20251024T134333Z
LAST-MODIFIED:20251024T183900Z
UID:10004723-1763928000-1763938800@villaelisa.gov.ar
SUMMARY:Entre Viñas y Pinceles
DESCRIPTION:Donde la pasión se hace vinos junto a obras de arte que emocionan\, descubrí esta experiencia memorable!!!
URL:https://villaelisa.gov.ar/evento/entre-vinas-y-pinceles/
LOCATION:Bodega Cinco ceibos
ATTACH;FMTTYPE=image/jpeg:https://villaelisa.gov.ar/wp-content/uploads/2025/10/WhatsApp-Image-2025-10-24-at-10.37.33-AM.jpeg
END:VEVENT
BEGIN:VEVENT
DTSTART;TZID=America/Argentina/Buenos_Aires:20251123T203000
DTEND;TZID=America/Argentina/Buenos_Aires:20251123T220000
DTSTAMP:20260423T202840
CREATED:20251104T134913Z
LAST-MODIFIED:20251105T122158Z
UID:10004765-1763929800-1763935200@villaelisa.gov.ar
SUMMARY:El lazo de las Edelweiss
DESCRIPTION:El lazo de las Edelweiss de Susana Andereggen \nUna historia conmovedora sobre las mujeres de una familia Suiza\, separada por la inmigración.\nUn lazo rojo\, como la sangre helvética\, que va y que viene entre los verdes fértiles de las colonias de Entre Ríos y Santa Fe y las montañas del Cantón Wallis. \nUna obra donde el criollaje y la inmigración se funden y cuentan más de 160 años de historia. \nActúan: @julydarquier\nGisela Ferrari\, @oli_reinhartt \, Susana Andereggen y @facundotorresan.oficial . \nMúsica original: Facundo Torresan \nIluminación: Mariela Salas \nVestuario: Vanesa Escalada \nAsesoramiento histórico en vestuario: Daniela Molina y Susana Andereggen. \nDiseño Gráfico: Cande Perrón \nDirección: Olivia Reingartt
URL:https://villaelisa.gov.ar/evento/el-lazo-de-las-edelweiss/
LOCATION:Auditorio Municipal Heraldo N. Peragallo\, Av. Mitre 1301\, Villa Elisa\, 3265
ATTACH;FMTTYPE=image/jpeg:https://villaelisa.gov.ar/wp-content/uploads/2025/11/WhatsApp-Image-2025-11-04-at-7.41.42-PM.jpeg
END:VEVENT
BEGIN:VEVENT
DTSTART;TZID=America/Argentina/Buenos_Aires:20251123T210000
DTEND;TZID=America/Argentina/Buenos_Aires:20251123T233000
DTSTAMP:20260423T202840
CREATED:20251119T183702Z
LAST-MODIFIED:20251119T183702Z
UID:10004893-1763931600-1763940600@villaelisa.gov.ar
SUMMARY:Cena Show en "El Paso"
DESCRIPTION:Una noche con exquisitos platos y la excelente música de ” Ariel Fusa ” en Parrilla-Restaurante El Paso.
URL:https://villaelisa.gov.ar/evento/cena-show-en-el-paso-6/
LOCATION:Parrilla El Paso\, Av. Urquiza 3145\, Villa Elisa\, 3265
ATTACH;FMTTYPE=image/jpeg:https://villaelisa.gov.ar/wp-content/uploads/2025/11/WhatsApp-Image-2025-11-19-at-3.31.10-PM.jpeg
END:VEVENT
END:VCALENDAR