BEGIN:VCALENDAR
VERSION:2.0
PRODID:-//Municipalidad de Villa Elisa, Entre Ríos - ECPv6.6.4.2//NONSGML v1.0//EN
CALSCALE:GREGORIAN
METHOD:PUBLISH
X-ORIGINAL-URL:https://villaelisa.gov.ar
X-WR-CALDESC:Eventos para Municipalidad de Villa Elisa, Entre Ríos
REFRESH-INTERVAL;VALUE=DURATION:PT1H
X-Robots-Tag:noindex
X-PUBLISHED-TTL:PT1H
BEGIN:VTIMEZONE
TZID:America/Argentina/Buenos_Aires
BEGIN:STANDARD
TZOFFSETFROM:-0300
TZOFFSETTO:-0300
TZNAME:-03
DTSTART:20250101T000000
END:STANDARD
END:VTIMEZONE
BEGIN:VEVENT
DTSTART;TZID=America/Argentina/Buenos_Aires:20251205T100000
DTEND;TZID=America/Argentina/Buenos_Aires:20251205T200000
DTSTAMP:20260423T180238
CREATED:20251119T192833Z
LAST-MODIFIED:20251126T193618Z
UID:10004897-1764928800-1764964800@villaelisa.gov.ar
SUMMARY:Muestra fotográfica “Villa Elisa en el tiempo: una mirada a los 135 años de historia”
DESCRIPTION:De 10:00 a 13:00 y de 17:00 a 20:00 horas\, te invitamos a recorrer\, a través de esta muestra fotográfica\, la transformación urbana y social de nuestra ciudad a lo largo del tiempo.\nLa exposición reúne fotos históricas de distintos espacios de Villa Elisa junto a sus réplicas actuales\, generando un diálogo visual entre pasado y presente. \nEl valor del bono contribución de ingreso es de $2000 general y $1500 para menores entre 6 y 12 años inclusive\, jubilados y residentes de la micro región “Tierra de Palmares”. \nContacto: 3447436203 – www.museoelporvenir.com.ar
URL:https://villaelisa.gov.ar/evento/muestra-fotografica-temporal-2/2025-12-05/
LOCATION:Estancia Museo “El Porvenir”
ATTACH;FMTTYPE=image/jpeg:https://villaelisa.gov.ar/wp-content/uploads/2025/11/Muestra-temporal-2025-Villa-Elisa-en-el-tiempo-2-1.jpeg
END:VEVENT
BEGIN:VEVENT
DTSTART;TZID=America/Argentina/Buenos_Aires:20251205T103000
DTEND;TZID=America/Argentina/Buenos_Aires:20251205T130000
DTSTAMP:20260423T180238
CREATED:20251126T192731Z
LAST-MODIFIED:20251126T193205Z
UID:10004928-1764930600-1764939600@villaelisa.gov.ar
SUMMARY:Visitas Guiadas en Estancia Museo El Porvenir
DESCRIPTION:De lunes a viernes (excepto martes) las 10:30 y 12:00 horas\,  pueden realizarse las visitas guiadas gratuitas por la Estancia. \nSi se lo desea\, se puede visitar el lugar en forma independiente (sin visita guiada) de 10:00 a 13:00 y de 17:00 a 20:00 horas\, recordando que también está habilitado el sector del parque recreativo. \nEl valor del bono contribución de ingreso es de $2000 general y $1500 para menores entre 6 y 12 años inclusive\, jubilados y residentes de la micro región “Tierra de Palmares”. \nContacto: 3447436203 – www.museoelporvenir.com.ar
URL:https://villaelisa.gov.ar/evento/visitas-guiadas-en-estancia-museo-el-porvenir-11/2025-12-05/
LOCATION:Estancia Museo “El Porvenir”
ATTACH;FMTTYPE=image/jpeg:https://villaelisa.gov.ar/wp-content/uploads/2025/11/Horario-diciembre-2025-feed.jpeg
END:VEVENT
BEGIN:VEVENT
DTSTART;TZID=America/Argentina/Buenos_Aires:20251205T140000
DTEND;TZID=America/Argentina/Buenos_Aires:20251205T170000
DTSTAMP:20260423T180238
CREATED:20251204T131413Z
LAST-MODIFIED:20251204T131413Z
UID:10004964-1764943200-1764954000@villaelisa.gov.ar
SUMMARY:Charla Gratuita “Actualización en Cuidados Paliativos”
DESCRIPTION:Acompañar a una persona en la etapa final de su vida es una tarea que exige sensibilidad\, conocimientos específicos y una red de apoyo presente. \nPor eso\, te invitamos este viernes 5 de diciembre a la Charla Gratuita “Actualización en Cuidados Paliativos”. \nHorario: 14:00 hs.\nLugar: Escuela de Formación Profesional N.º 123 “Nuestra Señora de Fátima”\, Bulevar Churruarín 1247\nDisertante: Lidia Lorena Araya – Instructora y Lic. en Enfermería \nActividad destinada a auxiliares\, cuidadores y familiares que desean adquirir herramientas prácticas y emocionales para acompañar con respeto\, dignidad y amor. \nImportancia de los cuidados paliativos. \nEstrategias para mejorar la calidad de vida del paciente. \nManejo del dolor y promoción del confort. \nAcompañamiento emocional del paciente y del cuidador. \n¡Te esperamos! para aprender juntos\, compartir experiencias y fortalecer esta labor profundamente humana.
URL:https://villaelisa.gov.ar/evento/charla-gratuita-actualizacion-en-cuidados-paliativos/
LOCATION:Escuela de Fatima N°123\, Bv. Churruarin 1247\, Villa Elisa\, 3265
ATTACH;FMTTYPE=image/jpeg:https://villaelisa.gov.ar/wp-content/uploads/2025/12/WhatsApp-Image-2025-12-04-at-9.53.49-AM.jpeg
END:VEVENT
BEGIN:VEVENT
DTSTART;TZID=America/Argentina/Buenos_Aires:20251205T210000
DTEND;TZID=America/Argentina/Buenos_Aires:20251205T233000
DTSTAMP:20260423T180238
CREATED:20251202T143350Z
LAST-MODIFIED:20251202T143350Z
UID:10004957-1764968400-1764977400@villaelisa.gov.ar
SUMMARY:Fiesta de la Familia en Escuela 84
DESCRIPTION:Los esperamos este viernes 5 para disfrutar de la hermosa y tradicional Fiesta de la Familia en nuestra Escuela 84 “Manuel Belgrano”
URL:https://villaelisa.gov.ar/evento/fiesta-de-la-familia-en-escuela-84/
ATTACH;FMTTYPE=image/jpeg:https://villaelisa.gov.ar/wp-content/uploads/2025/12/WhatsApp-Image-2025-12-02-at-11.07.58-AM.jpeg
END:VEVENT
END:VCALENDAR