BEGIN:VCALENDAR
VERSION:2.0
PRODID:-//Municipalidad de Villa Elisa, Entre Ríos - ECPv6.6.4.2//NONSGML v1.0//EN
CALSCALE:GREGORIAN
METHOD:PUBLISH
X-ORIGINAL-URL:https://villaelisa.gov.ar
X-WR-CALDESC:Eventos para Municipalidad de Villa Elisa, Entre Ríos
REFRESH-INTERVAL;VALUE=DURATION:PT1H
X-Robots-Tag:noindex
X-PUBLISHED-TTL:PT1H
BEGIN:VTIMEZONE
TZID:America/Argentina/Buenos_Aires
BEGIN:STANDARD
TZOFFSETFROM:-0300
TZOFFSETTO:-0300
TZNAME:-03
DTSTART:20250101T000000
END:STANDARD
END:VTIMEZONE
BEGIN:VEVENT
DTSTART;TZID=America/Argentina/Buenos_Aires:20251206T100000
DTEND;TZID=America/Argentina/Buenos_Aires:20251206T190000
DTSTAMP:20260423T180239
CREATED:20251206T125857Z
LAST-MODIFIED:20251206T125857Z
UID:10004966-1765015200-1765047600@villaelisa.gov.ar
SUMMARY:Viviendo Historias
DESCRIPTION:En una visita al histórico Almacén Francou tendrás la posibilidad de compartir actividades fascinantes e inolvidables.
URL:https://villaelisa.gov.ar/evento/viviendo-historias-11/
LOCATION:Almacén de Ramos Generales Francou\, Colonia del Carmen\, Villa Elisa\, Entre Rios\, 3265\, Argentina
ATTACH;FMTTYPE=image/jpeg:https://villaelisa.gov.ar/wp-content/uploads/2025/12/WhatsApp-Image-2025-12-06-at-09.44.37.jpeg
END:VEVENT
BEGIN:VEVENT
DTSTART;TZID=America/Argentina/Buenos_Aires:20251206T100000
DTEND;TZID=America/Argentina/Buenos_Aires:20251206T200000
DTSTAMP:20260423T180239
CREATED:20251119T192833Z
LAST-MODIFIED:20251126T193618Z
UID:10004898-1765015200-1765051200@villaelisa.gov.ar
SUMMARY:Muestra fotográfica “Villa Elisa en el tiempo: una mirada a los 135 años de historia”
DESCRIPTION:De 10:00 a 13:00 y de 17:00 a 20:00 horas\, te invitamos a recorrer\, a través de esta muestra fotográfica\, la transformación urbana y social de nuestra ciudad a lo largo del tiempo.\nLa exposición reúne fotos históricas de distintos espacios de Villa Elisa junto a sus réplicas actuales\, generando un diálogo visual entre pasado y presente. \nEl valor del bono contribución de ingreso es de $2000 general y $1500 para menores entre 6 y 12 años inclusive\, jubilados y residentes de la micro región “Tierra de Palmares”. \nContacto: 3447436203 – www.museoelporvenir.com.ar
URL:https://villaelisa.gov.ar/evento/muestra-fotografica-temporal-2/2025-12-06/
LOCATION:Estancia Museo “El Porvenir”
ATTACH;FMTTYPE=image/jpeg:https://villaelisa.gov.ar/wp-content/uploads/2025/11/Muestra-temporal-2025-Villa-Elisa-en-el-tiempo-2-1.jpeg
END:VEVENT
BEGIN:VEVENT
DTSTART;TZID=America/Argentina/Buenos_Aires:20251206T160000
DTEND;TZID=America/Argentina/Buenos_Aires:20251206T200000
DTSTAMP:20260423T180239
CREATED:20251128T171930Z
LAST-MODIFIED:20251206T142540Z
UID:10004892-1765036800-1765051200@villaelisa.gov.ar
SUMMARY:Estación Elisa - Ferroclub Central Entrerriano
DESCRIPTION:  \nTe esperamos para un viaje inolvidable. Viví la magia del pasado en la Estación Elisa. Desde las 16:00 podrás recorrer la estación y descubrir increíbles maquinarias y objetos de época que te transportarán en el tiempo. \nA las 19:00 hs no te pierdas los emocionantes paseos en el Tren Histórico. \nUna experiencia única para disfrutar en familia o con amigos!!!\nCalle Centenario 2200 – Consultas: 3442 551086
URL:https://villaelisa.gov.ar/evento/ferroclub-central-entrerriano-6-2-2-2-5-6-6-2/
LOCATION:Ferroclub Central Entrerriano\, Centenario y Arenales\, Villa Elisa\, 3265
ATTACH;FMTTYPE=image/jpeg:https://villaelisa.gov.ar/wp-content/uploads/2025/01/IMG_20231210_175944197-scaled.jpg
END:VEVENT
BEGIN:VEVENT
DTSTART;TZID=America/Argentina/Buenos_Aires:20251206T180000
DTEND;TZID=America/Argentina/Buenos_Aires:20251207T000000
DTSTAMP:20260423T180239
CREATED:20251202T143942Z
LAST-MODIFIED:20251202T143942Z
UID:10004958-1765044000-1765065600@villaelisa.gov.ar
SUMMARY:Feria Navideña
DESCRIPTION:Villa Elisa vivirá una nueva edición de la Feria Navideña este fin de semana largo\, con actividades programadas para el sábado 6 y domingo 7 de diciembre\, siempre con entrada libre y gratuita. \nDesde las 18 horas\, vecinos y turistas podrán recorrer un amplio paseo de artesanos\, emprendedores y comercios locales y regionales\, instalado entre Plaza Urquiza y Plazoleta Belgrano. Allí también habrá patio de comidas con diversas propuestas gastronómicas.
URL:https://villaelisa.gov.ar/evento/feria-navidena/
LOCATION:Plaza Urquiza\, Villa Elisa
ATTACH;FMTTYPE=image/jpeg:https://villaelisa.gov.ar/wp-content/uploads/2025/12/WhatsApp-Image-2025-12-02-at-11.21.38-AM.jpeg
END:VEVENT
BEGIN:VEVENT
DTSTART;TZID=America/Argentina/Buenos_Aires:20251206T200000
DTEND;TZID=America/Argentina/Buenos_Aires:20251207T000000
DTSTAMP:20260423T180239
CREATED:20251204T220401Z
LAST-MODIFIED:20251204T220429Z
UID:10004965-1765051200-1765065600@villaelisa.gov.ar
SUMMARY:Sunset Wine
DESCRIPTION:Veni a despedir el año con nosotros!!! \nSábado 6 de diciembre. \nSUNSET WINE \n✓ Podrás elegir entre las siguientes experiencias : \nVisita Guiada y Degustación :\nHorario de recepción: 18:00 a 18:30 hs.\n✓ Visita guiada por el viñedo\, sala de producción y cava subterránea de la bodega a cargo de nuestra enóloga Aymará.\n✓ Degustación de tres vinos jóvenes con sus respectivos maridajes. \nA partir de las 20hs acceso libre a Wine Music. \nHorario de finalización 00.00hs. \nVALORES PROPUESTA 1 :\n✓ EXPERIENCIA $19.000 por persona. \nNo olvides que trabajamos con reserva previa \nWINE MUSIC \nHorario de recepción: 20 hs.\nHorario de finalización: 00.00hs \n✓ ENTRADA AL ESTABLECIMIENTO.\n✓ COPA DE BIENVENIDA.\n✓ MÚSICA Y BUENA ONDA. \nVALOR PROPUESTA 2 : $10.000 por persona. \nEn nuestra barra podrás adquirir toda nuestra línea de vinos\, para llevar o disfrutar aquí.\nPicadas campestres y veggis\, sandwich de bondiola desmenuzada y dips a elección. \nAnimate a disfrutar nuestras experiencias!\nMomentos mágicos\, con buenos vinos\, mucho sabor\, música y tu grupo de siempre en un paisaje increíble. \nDETALLES IMPORTANTES:\n>> Seguro de copas $10.000\, al finalizar la noche te reintegramos el dinero.\n>> Por favor ten en cuenta que la ruta no se encuentra en buen estado.\n>> Nos encontramos dentro de la Estancia 3 Lomas\, a 5km de Arroyo Barú y a 10km de La Clarita.
URL:https://villaelisa.gov.ar/evento/sunset-wine/
LOCATION:Bodega Alonso Sáenz\, Ruta provincial 23\, km 28\, Arroyo Barú
ATTACH;FMTTYPE=image/jpeg:https://villaelisa.gov.ar/wp-content/uploads/2025/12/WhatsApp-Image-2025-12-04-at-17.16.05.jpeg
END:VEVENT
BEGIN:VEVENT
DTSTART;TZID=America/Argentina/Buenos_Aires:20251206T203000
DTEND;TZID=America/Argentina/Buenos_Aires:20251207T003000
DTSTAMP:20260423T180239
CREATED:20251202T185339Z
LAST-MODIFIED:20251202T185339Z
UID:10004960-1765053000-1765067400@villaelisa.gov.ar
SUMMARY:Festival Anual de "Isadora Duncan"
DESCRIPTION:La escuela de arte “Isadora Duncan” te invita a celebrar el final de un año lleno de música\, aprendizaje y pasión por las danzas.
URL:https://villaelisa.gov.ar/evento/festival-anual-de-isadora-duncan/
LOCATION:Polideportivo Municipal\, Bv. Churruarín y Héctor de Elía
ATTACH;FMTTYPE=image/jpeg:https://villaelisa.gov.ar/wp-content/uploads/2025/12/WhatsApp-Image-2025-12-02-at-15.37.09.jpeg
END:VEVENT
BEGIN:VEVENT
DTSTART;TZID=America/Argentina/Buenos_Aires:20251206T220000
DTEND;TZID=America/Argentina/Buenos_Aires:20251207T003000
DTSTAMP:20260423T180239
CREATED:20251203T213259Z
LAST-MODIFIED:20251203T213259Z
UID:10004963-1765058400-1765067400@villaelisa.gov.ar
SUMMARY:NEOACUSTICA en La Fragua
DESCRIPTION:Este sábado un show imperdible!!! \nVic Nogueira – Didi Lez nos traen una maravillosa propuesta. NEOACUSTICA \nNeoacústica fusiona percusión\, violín y tecnología en tiempo real. Con raíces latinoamericanas\, jazz y electrónica\, crean paisajes sonoros y visuales que equilibran lo orgánico y lo digital. Una experiencia inmersiva\, sofisticada y viva\, donde ritmo\, color y emoción se unen en un diálogo contemporáneo. \n¿CÓMO? \nSet de batería y percusión \nComputadora y controlador de DJ \nVideo proyecciones \nViolín acústico y eléctrico \nTE ESPERAMOS!!!\nSábado 6. 22Hs
URL:https://villaelisa.gov.ar/evento/neoacustica-en-la-fragua/
LOCATION:Centro cultural “La fragua”
ATTACH;FMTTYPE=image/jpeg:https://villaelisa.gov.ar/wp-content/uploads/2025/12/WhatsApp-Image-2025-12-03-at-18.29.42.jpeg
END:VEVENT
END:VCALENDAR