BEGIN:VCALENDAR
VERSION:2.0
PRODID:-//Municipalidad de Villa Elisa, Entre Ríos - ECPv6.6.4.2//NONSGML v1.0//EN
CALSCALE:GREGORIAN
METHOD:PUBLISH
X-WR-CALNAME:Municipalidad de Villa Elisa, Entre Ríos
X-ORIGINAL-URL:https://villaelisa.gov.ar
X-WR-CALDESC:Eventos para Municipalidad de Villa Elisa, Entre Ríos
REFRESH-INTERVAL;VALUE=DURATION:PT1H
X-Robots-Tag:noindex
X-PUBLISHED-TTL:PT1H
BEGIN:VTIMEZONE
TZID:America/Argentina/Buenos_Aires
BEGIN:STANDARD
TZOFFSETFROM:-0300
TZOFFSETTO:-0300
TZNAME:-03
DTSTART:20250101T000000
END:STANDARD
END:VTIMEZONE
BEGIN:VEVENT
DTSTART;TZID=America/Argentina/Buenos_Aires:20251220T210000
DTEND;TZID=America/Argentina/Buenos_Aires:20251221T013000
DTSTAMP:20260423T153135
CREATED:20250718T123359Z
LAST-MODIFIED:20251114T151201Z
UID:10004439-1766264400-1766280600@villaelisa.gov.ar
SUMMARY:Mega Bailazo en Club A. Vázquez
DESCRIPTION:Bailaremos toda la noche con la muy buena música de Leo Milezzi y El Combo 10 en un evento impactante.
URL:https://villaelisa.gov.ar/evento/baile-en-centro-union-3/
LOCATION:Club Vazquez\, Ruta provincial 23\, km8\, Villa Elisa\, Entre Rios\, 3265\, Argentina
ATTACH;FMTTYPE=image/jpeg:https://villaelisa.gov.ar/wp-content/uploads/2025/07/WhatsApp-Image-2025-11-14-at-12.02.23-PM.jpeg
END:VEVENT
BEGIN:VEVENT
DTSTART;TZID=America/Argentina/Buenos_Aires:20251220T210000
DTEND;TZID=America/Argentina/Buenos_Aires:20251221T023000
DTSTAMP:20260423T153135
CREATED:20251219T150852Z
LAST-MODIFIED:20251219T150852Z
UID:10005031-1766264400-1766284200@villaelisa.gov.ar
SUMMARY:Cena Despedida de Año
DESCRIPTION:Cena de fin de año en Salón del CAVE \n▪️Habrá un reconocimiento a los campeones del ‘95 y sorteos durante la cena.\n▪️Cena y postre incluidos en tu tarjeta.\n▪️Servicio de cantina para que puedas comprar la bebida.\n▪️Dj e iluminación para despedir el año a lo grande. \nValor $15000 \n 
URL:https://villaelisa.gov.ar/evento/cena-despedida-de-ano/
LOCATION:Sede social CAVE\, Emilio Francou e Yrigoyen\, Villa Elisa
ATTACH;FMTTYPE=image/jpeg:https://villaelisa.gov.ar/wp-content/uploads/2025/12/WhatsApp-Image-2025-12-19-at-12.04.37-PM.jpeg
END:VEVENT
BEGIN:VEVENT
DTSTART;TZID=America/Argentina/Buenos_Aires:20251220T220000
DTEND;TZID=America/Argentina/Buenos_Aires:20251221T050000
DTSTAMP:20260423T153135
CREATED:20251029T193330Z
LAST-MODIFIED:20251030T144152Z
UID:10004746-1766268000-1766293200@villaelisa.gov.ar
SUMMARY:RL Rock Fest 4
DESCRIPTION:Bandas en vivo para una noche inolvidable
URL:https://villaelisa.gov.ar/evento/rock-fest-4/
LOCATION:Salón Jockey Club Villa Elisa
ATTACH;FMTTYPE=image/jpeg:https://villaelisa.gov.ar/wp-content/uploads/2025/10/WhatsApp-Image-2025-10-29-at-4.29.50-PM.jpeg
END:VEVENT
BEGIN:VEVENT
DTSTART;TZID=America/Argentina/Buenos_Aires:20251221T100000
DTEND;TZID=America/Argentina/Buenos_Aires:20251221T130000
DTSTAMP:20260423T153135
CREATED:20241104T113404Z
LAST-MODIFIED:20241104T113404Z
UID:10002252-1766311200-1766322000@villaelisa.gov.ar
SUMMARY:Auto Tour
DESCRIPTION:TRAVELING VINA:  \nEs un servicio  extra\, que ofrece el complejo de Alojamientos “V I N A” \nExperiencia Rurales\, AUTO TOUR:  \nPlanificamos y coordinamos recorridos por bodegas\, fábricas de productos regionales\, y almacenes locales\, te llevamos a descubrir La Colonia\, cultura local y los paisajes mas hermosos de nuestra Tierra de Palmares.- \nOrganizado por Perla Lopez – \nReservas con anticipación: contacto 3447503491.- \nValor del recorrido: según destino elegido. \nTiempo demandado: aproximadamente 3 horas.- \nEl objetivo es formar una caravana\, con los vehículos de los interesados y hacer\, una mañana o una tarde de recorridos a los diferentes atractivos de nuestra zona  \nprevia coordinación.- \nPunto de salida: oficina de Turismo Villa Elisa.-
URL:https://villaelisa.gov.ar/evento/auto-tour/2025-12-21/
ATTACH;FMTTYPE=image/jpeg:https://villaelisa.gov.ar/wp-content/uploads/2024/11/Traveling-vina.jpg
END:VEVENT
BEGIN:VEVENT
DTSTART;TZID=America/Argentina/Buenos_Aires:20251221T100000
DTEND;TZID=America/Argentina/Buenos_Aires:20251221T200000
DTSTAMP:20260423T153135
CREATED:20251119T192833Z
LAST-MODIFIED:20251126T193618Z
UID:10004911-1766311200-1766347200@villaelisa.gov.ar
SUMMARY:Muestra fotográfica “Villa Elisa en el tiempo: una mirada a los 135 años de historia”
DESCRIPTION:De 10:00 a 13:00 y de 17:00 a 20:00 horas\, te invitamos a recorrer\, a través de esta muestra fotográfica\, la transformación urbana y social de nuestra ciudad a lo largo del tiempo.\nLa exposición reúne fotos históricas de distintos espacios de Villa Elisa junto a sus réplicas actuales\, generando un diálogo visual entre pasado y presente. \nEl valor del bono contribución de ingreso es de $2000 general y $1500 para menores entre 6 y 12 años inclusive\, jubilados y residentes de la micro región “Tierra de Palmares”. \nContacto: 3447436203 – www.museoelporvenir.com.ar
URL:https://villaelisa.gov.ar/evento/muestra-fotografica-temporal-2/2025-12-21/
LOCATION:Estancia Museo “El Porvenir”
ATTACH;FMTTYPE=image/jpeg:https://villaelisa.gov.ar/wp-content/uploads/2025/11/Muestra-temporal-2025-Villa-Elisa-en-el-tiempo-2-1.jpeg
END:VEVENT
BEGIN:VEVENT
DTSTART;TZID=America/Argentina/Buenos_Aires:20251221T200000
DTEND;TZID=America/Argentina/Buenos_Aires:20251221T233000
DTSTAMP:20260423T153135
CREATED:20251029T154918Z
LAST-MODIFIED:20251215T153044Z
UID:10004744-1766347200-1766359800@villaelisa.gov.ar
SUMMARY:Baile en Centro Unión
DESCRIPTION:Los esperamos para bailar toda la noche\, en Centro Unión junto a la maravillosa música de Grupo Cinco
URL:https://villaelisa.gov.ar/evento/baile-en-centro-union-8/
LOCATION:Centro Union\, El Ñandubay 1075\, Villa Elisa\, Entre Rios\, 3265\, Argentina
ATTACH;FMTTYPE=image/jpeg:https://villaelisa.gov.ar/wp-content/uploads/2025/10/WhatsApp-Image-2025-12-15-at-11.18.10-AM.jpeg
END:VEVENT
END:VCALENDAR