BEGIN:VCALENDAR
VERSION:2.0
PRODID:-//Municipalidad de Villa Elisa, Entre Ríos - ECPv6.6.4.2//NONSGML v1.0//EN
CALSCALE:GREGORIAN
METHOD:PUBLISH
X-ORIGINAL-URL:https://villaelisa.gov.ar
X-WR-CALDESC:Eventos para Municipalidad de Villa Elisa, Entre Ríos
REFRESH-INTERVAL;VALUE=DURATION:PT1H
X-Robots-Tag:noindex
X-PUBLISHED-TTL:PT1H
BEGIN:VTIMEZONE
TZID:America/Argentina/Buenos_Aires
BEGIN:STANDARD
TZOFFSETFROM:-0300
TZOFFSETTO:-0300
TZNAME:-03
DTSTART:20250101T000000
END:STANDARD
END:VTIMEZONE
BEGIN:VEVENT
DTSTART;TZID=America/Argentina/Buenos_Aires:20251223T163000
DTEND;TZID=America/Argentina/Buenos_Aires:20251223T183000
DTSTAMP:20260423T140234
CREATED:20251223T130625Z
LAST-MODIFIED:20251223T130756Z
UID:10005038-1766507400-1766514600@villaelisa.gov.ar
SUMMARY:Recorrido Papá Noel y Grinch repartiendo caramelos !!!
DESCRIPTION:Atención\, atención peques! 🎁🎅\nPapá Noel 🎅 y el travieso Grinch 💚 ya tienen listo su recorrido para repartir muchísimos caramelos y sonrisas 😄🍬 \nPara que todos puedan saludar\, sacarse fotos 📸 y pasarla súper bien (y para cuidarnos entre todos ❤️)\, este año vamos a hacer paradas especiales donde Papá Noel y el Grinch se bajan a compartir la magia ✨ \n🕟 Salimos a las 16:30 hs desde el cuartel\n🚒 Y arrancamos rumbo al Barrio del Comercial \n📍 Paradas mágicas:\n🎄 1️⃣ Algarrobo y Supremo Entrerriano\n🎄 2️⃣ Plaza Güemes\n🎄 3️⃣ Plaza Moreno\n🎄 4️⃣ Parque San Jorge\n🎄 5️⃣ Plaza Especies Nativas\n🎄 6️⃣ Gran final en Plaza San Martín 🎉 \n👨‍👩‍👧‍👦 Papis y mamis: los esperamos en estos puntos para que los peques puedan buscar sus caramelos\, sacarse fotos y saludar a Papá Noel… ¡y también al Grinch\, si se anima! 😜💚 \n✨ ¡Los esperamos para vivir una tarde llena de Navidad\, risas y magia! 🎄🎅🍬
URL:https://villaelisa.gov.ar/evento/recorrido-de-papa-noel-y-grinch-repartiendo-caramelos/
ATTACH;FMTTYPE=image/jpeg:https://villaelisa.gov.ar/wp-content/uploads/2025/12/WhatsApp-Image-2025-12-23-at-10.02.02-AM.jpeg
END:VEVENT
BEGIN:VEVENT
DTSTART;TZID=America/Argentina/Buenos_Aires:20251223T210000
DTEND;TZID=America/Argentina/Buenos_Aires:20251223T230000
DTSTAMP:20260423T140234
CREATED:20251215T153408Z
LAST-MODIFIED:20251223T122423Z
UID:10004984-1766523600-1766530800@villaelisa.gov.ar
SUMMARY:Pesebre Viviente
DESCRIPTION:Misa y Pesebre Viviente en Parroquia Natividad de Nuestra Señora.
URL:https://villaelisa.gov.ar/evento/pesebre-viviente-5/
LOCATION:Parroquia Virgen Niña
ATTACH;FMTTYPE=image/jpeg:https://villaelisa.gov.ar/wp-content/uploads/2025/12/WhatsApp-Image-2025-12-23-at-7.16.35-AM.jpeg
END:VEVENT
BEGIN:VEVENT
DTSTART;TZID=America/Argentina/Buenos_Aires:20251223T210000
DTEND;TZID=America/Argentina/Buenos_Aires:20251223T233000
DTSTAMP:20260423T140234
CREATED:20251223T122124Z
LAST-MODIFIED:20251223T122938Z
UID:10005037-1766523600-1766532600@villaelisa.gov.ar
SUMMARY:Final Anual del Fútbol Departamental
DESCRIPTION:Llegó el dia del partido de vuelta en la final anual de la Liga Departamental de Colón donde Club Recreativo San Jorge recibe a Sauce.
URL:https://villaelisa.gov.ar/evento/final-anual-del-futbol-departamental/
LOCATION:Estadio Justo José Lezcano (Cancha San Jorge)\, Villa Elisa\, 3265
ATTACH;FMTTYPE=image/jpeg:https://villaelisa.gov.ar/wp-content/uploads/2025/12/WhatsApp-Image-2025-12-23-at-7.18.11-AM.jpeg
END:VEVENT
END:VCALENDAR