BEGIN:VCALENDAR
VERSION:2.0
PRODID:-//Municipalidad de Villa Elisa, Entre Ríos - ECPv6.6.4.2//NONSGML v1.0//EN
CALSCALE:GREGORIAN
METHOD:PUBLISH
X-ORIGINAL-URL:https://villaelisa.gov.ar
X-WR-CALDESC:Eventos para Municipalidad de Villa Elisa, Entre Ríos
REFRESH-INTERVAL;VALUE=DURATION:PT1H
X-Robots-Tag:noindex
X-PUBLISHED-TTL:PT1H
BEGIN:VTIMEZONE
TZID:America/Argentina/Buenos_Aires
BEGIN:STANDARD
TZOFFSETFROM:-0300
TZOFFSETTO:-0300
TZNAME:-03
DTSTART:20250101T000000
END:STANDARD
END:VTIMEZONE
BEGIN:VEVENT
DTSTART;TZID=America/Argentina/Buenos_Aires:20251227T100000
DTEND;TZID=America/Argentina/Buenos_Aires:20251227T200000
DTSTAMP:20260423T140309
CREATED:20251119T192833Z
LAST-MODIFIED:20251126T193618Z
UID:10004914-1766829600-1766865600@villaelisa.gov.ar
SUMMARY:Muestra fotográfica “Villa Elisa en el tiempo: una mirada a los 135 años de historia”
DESCRIPTION:De 10:00 a 13:00 y de 17:00 a 20:00 horas\, te invitamos a recorrer\, a través de esta muestra fotográfica\, la transformación urbana y social de nuestra ciudad a lo largo del tiempo.\nLa exposición reúne fotos históricas de distintos espacios de Villa Elisa junto a sus réplicas actuales\, generando un diálogo visual entre pasado y presente. \nEl valor del bono contribución de ingreso es de $2000 general y $1500 para menores entre 6 y 12 años inclusive\, jubilados y residentes de la micro región “Tierra de Palmares”. \nContacto: 3447436203 – www.museoelporvenir.com.ar
URL:https://villaelisa.gov.ar/evento/muestra-fotografica-temporal-2/2025-12-27/
LOCATION:Estancia Museo “El Porvenir”
ATTACH;FMTTYPE=image/jpeg:https://villaelisa.gov.ar/wp-content/uploads/2025/11/Muestra-temporal-2025-Villa-Elisa-en-el-tiempo-2-1.jpeg
END:VEVENT
BEGIN:VEVENT
DTSTART;TZID=America/Argentina/Buenos_Aires:20251227T233000
DTEND;TZID=America/Argentina/Buenos_Aires:20251228T050000
DTSTAMP:20260423T140309
CREATED:20251220T172126Z
LAST-MODIFIED:20251227T224149Z
UID:10005034-1766878200-1766898000@villaelisa.gov.ar
SUMMARY:"Será Un Poquito" Bandas en Vivo
DESCRIPTION:27 · 12 – El esperado ULTIMO sábado del año \nProductora Galáctica cierra el año con una noche bien galáctica\,\nde purpurina\, magia y encuentro\, como ya conocen. \nRompiendo Espejos\nDesde Santa Fe\, llegan con su rock & roll callejero para cantar abrazados. \nRefunkiados\nY su cobra venenosa para mover el cuerpo sin culpa. \nZappa DJ\nBajo el manto estelar\, un cierre old school glorioso que no se resiste nadie. \nAdemas por supuesto que habrá brebajes galácticos para mantenerse fresco y unas comiditas ricas. \nPRODUCTORA GALÁCTICA CIERRA EL AÑO\nY ya conocen lo que nos gusta. \nAnticipadas\nPUNTOS DE VENTA \nAgus Blanc- San José\n📌VILLA ELISA:\nAtrevet – Av. Mitre 1188 \nVENDEDORES\n📌SAN JOSE \nAgustín – 3447 412427\nCami – 3447 469458\n📌COLÓN\nFlor – 3447 459619
URL:https://villaelisa.gov.ar/evento/ultimo-sabado-del-ano/
LOCATION:Salón CAVE
ATTACH;FMTTYPE=image/jpeg:https://villaelisa.gov.ar/wp-content/uploads/2025/12/WhatsApp-Image-2025-12-27-at-19.40.53.jpeg
END:VEVENT
END:VCALENDAR