BEGIN:VCALENDAR
VERSION:2.0
PRODID:-//Municipalidad de Villa Elisa, Entre Ríos - ECPv6.6.4.2//NONSGML v1.0//EN
CALSCALE:GREGORIAN
METHOD:PUBLISH
X-WR-CALNAME:Municipalidad de Villa Elisa, Entre Ríos
X-ORIGINAL-URL:https://villaelisa.gov.ar
X-WR-CALDESC:Eventos para Municipalidad de Villa Elisa, Entre Ríos
REFRESH-INTERVAL;VALUE=DURATION:PT1H
X-Robots-Tag:noindex
X-PUBLISHED-TTL:PT1H
BEGIN:VTIMEZONE
TZID:America/Argentina/Buenos_Aires
BEGIN:STANDARD
TZOFFSETFROM:-0300
TZOFFSETTO:-0300
TZNAME:-03
DTSTART:20250101T000000
END:STANDARD
END:VTIMEZONE
BEGIN:VEVENT
DTSTART;TZID=America/Argentina/Buenos_Aires:20251231T100000
DTEND;TZID=America/Argentina/Buenos_Aires:20251231T130000
DTSTAMP:20260423T124215
CREATED:20251126T193930Z
LAST-MODIFIED:20251126T193930Z
UID:10004942-1767175200-1767186000@villaelisa.gov.ar
SUMMARY:Muestra fotográfica “Villa Elisa en el tiempo: una mirada a los 135 años de historia”
DESCRIPTION:De 10:00 a 13:00 horas\, te invitamos a recorrer\, a través de esta muestra fotográfica\, la transformación urbana y social de nuestra ciudad a lo largo del tiempo.\nLa exposición reúne fotos históricas de distintos espacios de Villa Elisa junto a sus réplicas actuales\, generando un diálogo visual entre pasado y presente. \nEl valor del bono contribución de ingreso es de $2000 general y $1500 para menores entre 6 y 12 años inclusive\, jubilados y residentes de la micro región “Tierra de Palmares”. \nContacto: 3447436203 – www.museoelporvenir.com.ar
URL:https://villaelisa.gov.ar/evento/muestra-fotografica-temporal-2-3/
LOCATION:Estancia Museo “El Porvenir”
ATTACH;FMTTYPE=image/jpeg:https://villaelisa.gov.ar/wp-content/uploads/2025/11/Muestra-temporal-2025-Villa-Elisa-en-el-tiempo-2-1.jpeg
END:VEVENT
BEGIN:VEVENT
DTSTART;TZID=America/Argentina/Buenos_Aires:20251231T213000
DTEND;TZID=America/Argentina/Buenos_Aires:20260101T013000
DTSTAMP:20260423T124215
CREATED:20251217T183141Z
LAST-MODIFIED:20251217T183141Z
UID:10004988-1767216600-1767231000@villaelisa.gov.ar
SUMMARY:Cena Show del 31 en "El Paso"
DESCRIPTION:Una noche especial con exquisitos platos y la excelente música de ” Ariel Fusa ” en Parrilla-Restaurante El Paso. \n 
URL:https://villaelisa.gov.ar/evento/cena-show-del-31-en-el-paso/
LOCATION:Parrilla El Paso\, Av. Urquiza 3145\, Villa Elisa\, 3265
ATTACH;FMTTYPE=image/jpeg:https://villaelisa.gov.ar/wp-content/uploads/2025/12/WhatsApp-Image-2025-12-17-at-14.43.55.jpeg
END:VEVENT
BEGIN:VEVENT
DTSTART;TZID=America/Argentina/Buenos_Aires:20251231T233000
DTEND;TZID=America/Argentina/Buenos_Aires:20260101T050000
DTSTAMP:20260423T124215
CREATED:20251222T122825Z
LAST-MODIFIED:20251222T122825Z
UID:10005035-1767223800-1767243600@villaelisa.gov.ar
SUMMARY:Retro Villa Elisa
DESCRIPTION:Una noche única e inolvidable para arrancar un 2026 de la mejor manera\, celebrando 10 años de nuestros encuentros Retro!!!!
URL:https://villaelisa.gov.ar/evento/retro-villa-elisa/
LOCATION:Hipódromo Jockey Club Villa Elisa
ATTACH;FMTTYPE=image/jpeg:https://villaelisa.gov.ar/wp-content/uploads/2025/12/WhatsApp-Image-2025-12-21-at-10.23.14-PM.jpeg
END:VEVENT
END:VCALENDAR