BEGIN:VCALENDAR
VERSION:2.0
PRODID:-//Municipalidad de Villa Elisa, Entre Ríos - ECPv6.6.4.2//NONSGML v1.0//EN
CALSCALE:GREGORIAN
METHOD:PUBLISH
X-ORIGINAL-URL:https://villaelisa.gov.ar
X-WR-CALDESC:Eventos para Municipalidad de Villa Elisa, Entre Ríos
REFRESH-INTERVAL;VALUE=DURATION:PT1H
X-Robots-Tag:noindex
X-PUBLISHED-TTL:PT1H
BEGIN:VTIMEZONE
TZID:America/Argentina/Buenos_Aires
BEGIN:STANDARD
TZOFFSETFROM:-0300
TZOFFSETTO:-0300
TZNAME:-03
DTSTART:20260101T000000
END:STANDARD
END:VTIMEZONE
BEGIN:VEVENT
DTSTART;TZID=America/Argentina/Buenos_Aires:20260106T090000
DTEND;TZID=America/Argentina/Buenos_Aires:20260106T203000
DTSTAMP:20260423T111848
CREATED:20251206T130040Z
LAST-MODIFIED:20260106T170516Z
UID:10004967-1767690000-1767731400@villaelisa.gov.ar
SUMMARY:Viviendo Historias
DESCRIPTION:En una visita al histórico Almacén Francou tendrás la posibilidad de compartir actividades fascinantes e inolvidables. \nLunes a sábado de 9 a 12 y de 16\,30 a 20\,30 hs.
URL:https://villaelisa.gov.ar/evento/viviendo-historias-12/
LOCATION:Almacén de Ramos Generales Francou\, Colonia del Carmen\, Villa Elisa\, Entre Rios\, 3265\, Argentina
ATTACH;FMTTYPE=image/jpeg:https://villaelisa.gov.ar/wp-content/uploads/2025/12/WhatsApp-Image-2026-01-06-at-14.01.39.jpeg
END:VEVENT
BEGIN:VEVENT
DTSTART;TZID=America/Argentina/Buenos_Aires:20260106T140000
DTEND;TZID=America/Argentina/Buenos_Aires:20260106T190000
DTSTAMP:20260423T111848
CREATED:20251230T135730Z
LAST-MODIFIED:20251230T135730Z
UID:10009015-1767708000-1767726000@villaelisa.gov.ar
SUMMARY:Jugatón
DESCRIPTION:Durante todas las tardes de enero\, de 14 a 19 horas\, los chicos podrán disfrutar de juegos en PC\, arcade y consolas. \nLa propuesta es para niños a partir de los 8 años\, con entrada es libre y gratuita. \nEl Punto Digital funciona en las instalaciones del Centro Comunitario Pancho Ramírez (esquina de Rocamora y Tratado del Pilar).
URL:https://villaelisa.gov.ar/evento/jugaton/2026-01-06/
LOCATION:Punto Digital
ATTACH;FMTTYPE=image/jpeg:https://villaelisa.gov.ar/wp-content/uploads/2025/12/WhatsApp-Image-2025-12-30-at-10.39.44-AM.jpeg
END:VEVENT
BEGIN:VEVENT
DTSTART;TZID=America/Argentina/Buenos_Aires:20260106T160000
DTEND;TZID=America/Argentina/Buenos_Aires:20260106T203000
DTSTAMP:20260423T111848
CREATED:20251229T180552Z
LAST-MODIFIED:20251230T132155Z
UID:10007191-1767715200-1767731400@villaelisa.gov.ar
SUMMARY:Estación Elisa – Ferroclub Central Entrerriano
DESCRIPTION:Todos los días desde las 16:00 hs. estará abierta la estación Elisa donde encontrarás maquinarias y elementos de época a las 17 y 19 horas habrá paseos en el tren histórico turístico para vivir una gran experiencia. \nCalle Centenario 2200 \nConsultas al 3442 551086
URL:https://villaelisa.gov.ar/evento/estacion-elisa-ferroclub-central-entrerriano-14/2026-01-06/
LOCATION:Estación ferroviaria Villa Elisa
ATTACH;FMTTYPE=image/jpeg:https://villaelisa.gov.ar/wp-content/uploads/2025/03/WhatsApp-Image-2025-06-25-at-3.17.24-PM.jpeg
END:VEVENT
BEGIN:VEVENT
DTSTART;TZID=America/Argentina/Buenos_Aires:20260106T210000
DTEND;TZID=America/Argentina/Buenos_Aires:20260106T230000
DTSTAMP:20260423T111848
CREATED:20251230T133101Z
LAST-MODIFIED:20251230T133101Z
UID:10009011-1767733200-1767740400@villaelisa.gov.ar
SUMMARY:Martes de Cine en La Fragua
DESCRIPTION:“Tiempo de revancha”\, un drama intenso escrito y dirigido por Adolfo Aristarain que marcó un hito en el cine nacional. \nProtagonizada por Federico Luppi\, junto a Haydée Padilla\, Julio De Grazia y Ulises Dumont\, la película también contó con la participación de José Jofre Soares\, Aldo Barbero\, Enrique Liporace\, Arturo Maly y una actuación especial de Rodolfo Ranni. \n\nVuelve el cine en La Fragua!!!! Y con entrada gratuita!\n\n\nEl programa será organizado por Facundo Küttel\, estaremos pasando 4 películas argentinas que nos permitirán ver y redescubrir parte de la historia de nuestro país.\nLuego de cada película los invitamos a tomar algo en el “El Nacional” y charlar para poder encontrar juntos algunas claves de lectura de las películas
URL:https://villaelisa.gov.ar/evento/martes-de-cine-en-la-fragua/
LOCATION:Asociación Civil La Fragua\, Héctor de Elía 1489\, Villa Elisa\, 3265
ATTACH;FMTTYPE=image/jpeg:https://villaelisa.gov.ar/wp-content/uploads/2025/12/WhatsApp-Image-2025-12-30-at-10.27.21-AM.jpeg
END:VEVENT
END:VCALENDAR