BEGIN:VCALENDAR
VERSION:2.0
PRODID:-//Municipalidad de Villa Elisa, Entre Ríos - ECPv6.6.4.2//NONSGML v1.0//EN
CALSCALE:GREGORIAN
METHOD:PUBLISH
X-ORIGINAL-URL:https://villaelisa.gov.ar
X-WR-CALDESC:Eventos para Municipalidad de Villa Elisa, Entre Ríos
REFRESH-INTERVAL;VALUE=DURATION:PT1H
X-Robots-Tag:noindex
X-PUBLISHED-TTL:PT1H
BEGIN:VTIMEZONE
TZID:America/Argentina/Buenos_Aires
BEGIN:STANDARD
TZOFFSETFROM:-0300
TZOFFSETTO:-0300
TZNAME:-03
DTSTART:20260101T000000
END:STANDARD
END:VTIMEZONE
BEGIN:VEVENT
DTSTART;TZID=America/Argentina/Buenos_Aires:20260107T093000
DTEND;TZID=America/Argentina/Buenos_Aires:20260107T203000
DTSTAMP:20260423T111848
CREATED:20260106T171304Z
LAST-MODIFIED:20260123T163026Z
UID:10009036-1767778200-1767817800@villaelisa.gov.ar
SUMMARY:Viviendo Historias
DESCRIPTION:En una visita al histórico Almacén Francou tendrás la posibilidad de compartir actividades fascinantes e inolvidables. \nLunes a sábado de 9 a 12 y de 16\,30 a 20\,30 hs.
URL:https://villaelisa.gov.ar/evento/viviendo-historias-13/2026-01-07/
LOCATION:Almacén de Ramos Generales Francou\, Colonia del Carmen\, Villa Elisa\, Entre Rios\, 3265\, Argentina
ATTACH;FMTTYPE=image/jpeg:https://villaelisa.gov.ar/wp-content/uploads/2025/12/WhatsApp-Image-2026-01-06-at-14.01.39.jpeg
END:VEVENT
BEGIN:VEVENT
DTSTART;TZID=America/Argentina/Buenos_Aires:20260107T100000
DTEND;TZID=America/Argentina/Buenos_Aires:20260107T203000
DTSTAMP:20260423T111848
CREATED:20251218T214149Z
LAST-MODIFIED:20251218T214149Z
UID:10005009-1767780000-1767817800@villaelisa.gov.ar
SUMMARY:Muestra fotográfica “Villa Elisa en el tiempo: una mirada a los 135 años de historia”
DESCRIPTION:De 10:00 a 13:00 y de 17:00 a 20:30 horas\, te invitamos a recorrer\, a través de esta muestra fotográfica\, la transformación urbana y social de nuestra ciudad a lo largo del tiempo.\nLa exposición reúne fotos históricas de distintos espacios de Villa Elisa junto a sus réplicas actuales\, generando un diálogo visual entre pasado y presente. \nEl valor del bono contribución de ingreso es de $2000 general y $1500 para menores entre 6 y 12 años inclusive\, jubilados y residentes de la micro región “Tierra de Palmares”. \nContacto: 3447436203 – www.museoelporvenir.com.ar
URL:https://villaelisa.gov.ar/evento/muestra-fotografica-villa-elisa-en-el-tiempo-una-mirada-a-los-135-anos-de-historia/2026-01-07/
LOCATION:Estancia Museo “El Porvenir”
ATTACH;FMTTYPE=image/jpeg:https://villaelisa.gov.ar/wp-content/uploads/2025/12/Muestra-temporal-2026-Villa-Elisa-en-el-tiempo-2.jpeg
END:VEVENT
BEGIN:VEVENT
DTSTART;TZID=America/Argentina/Buenos_Aires:20260107T103000
DTEND;TZID=America/Argentina/Buenos_Aires:20260107T130000
DTSTAMP:20260423T111848
CREATED:20251218T213405Z
LAST-MODIFIED:20251218T213405Z
UID:10004990-1767781800-1767790800@villaelisa.gov.ar
SUMMARY:Visitas Guiadas en Estancia Museo El Porvenir
DESCRIPTION:De lunes a viernes (excepto martes) las 10:30 y 12:00 horas\,  pueden realizarse las visitas guiadas gratuitas por la Estancia. \nSi se lo desea\, se puede visitar el lugar en forma independiente (sin visita guiada) de 10:00 a 13:00 y de 17:00 a 20:30 horas\, recordando que también está habilitado el sector del parque recreativo. \nEl valor del bono contribución de ingreso es de $2000 general y $1500 para menores entre 6 y 12 años inclusive\, jubilados y residentes de la micro región “Tierra de Palmares”. \nContacto: 3447436203 – www.museoelporvenir.com.ar
URL:https://villaelisa.gov.ar/evento/visitas-guiadas-en-estancia-museo-el-porvenir-12/2026-01-07/
LOCATION:Estancia Museo “El Porvenir”
ATTACH;FMTTYPE=image/jpeg:https://villaelisa.gov.ar/wp-content/uploads/2025/12/Horarios-enero-febrero-2026-feed.jpeg
END:VEVENT
BEGIN:VEVENT
DTSTART;TZID=America/Argentina/Buenos_Aires:20260107T140000
DTEND;TZID=America/Argentina/Buenos_Aires:20260107T190000
DTSTAMP:20260423T111848
CREATED:20251230T140030Z
LAST-MODIFIED:20251230T151536Z
UID:10009017-1767794400-1767812400@villaelisa.gov.ar
SUMMARY:Jugatón
DESCRIPTION:Durante todas las tardes de enero\, de 14 a 19 horas\, los chicos podrán disfrutar de juegos en PC\, arcade y consolas. \nLa propuesta es para niños a partir de los 8 años\, con entrada es libre y gratuita. \nEl Punto Digital funciona en las instalaciones del Centro Comunitario Pancho Ramírez (esquina de Rocamora y Tratado del Pilar).
URL:https://villaelisa.gov.ar/evento/jugaton-2/2026-01-07/
LOCATION:Punto Digital
ATTACH;FMTTYPE=image/jpeg:https://villaelisa.gov.ar/wp-content/uploads/2025/12/WhatsApp-Image-2025-12-30-at-10.39.44-AM.jpeg
END:VEVENT
BEGIN:VEVENT
DTSTART;TZID=America/Argentina/Buenos_Aires:20260107T160000
DTEND;TZID=America/Argentina/Buenos_Aires:20260107T203000
DTSTAMP:20260423T111848
CREATED:20251229T180552Z
LAST-MODIFIED:20251230T132155Z
UID:10007192-1767801600-1767817800@villaelisa.gov.ar
SUMMARY:Estación Elisa – Ferroclub Central Entrerriano
DESCRIPTION:Todos los días desde las 16:00 hs. estará abierta la estación Elisa donde encontrarás maquinarias y elementos de época a las 17 y 19 horas habrá paseos en el tren histórico turístico para vivir una gran experiencia. \nCalle Centenario 2200 \nConsultas al 3442 551086
URL:https://villaelisa.gov.ar/evento/estacion-elisa-ferroclub-central-entrerriano-14/2026-01-07/
LOCATION:Estación ferroviaria Villa Elisa
ATTACH;FMTTYPE=image/jpeg:https://villaelisa.gov.ar/wp-content/uploads/2025/03/WhatsApp-Image-2025-06-25-at-3.17.24-PM.jpeg
END:VEVENT
BEGIN:VEVENT
DTSTART;TZID=America/Argentina/Buenos_Aires:20260107T183000
DTEND;TZID=America/Argentina/Buenos_Aires:20260107T200000
DTSTAMP:20260423T111848
CREATED:20260107T151519Z
LAST-MODIFIED:20260107T151519Z
UID:10009048-1767810600-1767816000@villaelisa.gov.ar
SUMMARY:Avistajes de Aves en Estancia Museo El Porvenir
DESCRIPTION:  \n𝗔𝗩𝗜𝗦𝗧𝗔𝗝𝗘 𝗗𝗘 𝗔𝗩𝗘𝗦 🐦\n𝘜𝘯𝘢 𝑝𝘳𝘰𝑝𝘶𝘦𝘴𝘵𝘢 𝑝𝘢𝘳𝘢 𝘥𝘪𝘴𝘧𝘳𝘶𝘵𝘢𝘳 𝘥𝘦𝘭 𝘷𝘦𝘳𝘢𝘯𝘰 𝘦𝘯 𝘯𝘶𝘦𝘴𝘵𝘳𝘰 𝘔𝘶𝘴𝘦𝘰 ☀️ \n🗓️ Este 𝗺𝗶𝗲́𝗿𝗰𝗼𝗹𝗲𝘀 𝟳\, a las 𝟭𝟴:𝟯𝟬 𝗵𝗼𝗿𝗮𝘀\, te invitamos a descubrir y valorar la biodiversidad local. \n🌳 El atardecer\, es momento ideal para observar distintas especies de aves que viven en nuestro parque\, conocer sus comportamientos\, cantos y la importancia que cumplen dentro del ecosistema. \n👨‍👩‍👦‍👦 Invitamos a vecinos\, familias y turistas a participar de esta actividad gratuita\, pensada como una experiencia sensorial y educativa para redescubrir el parque desde una perspectiva diferente. \n⚠️ Se recomienda traer ropa cómoda\, repelente y agua.⁣⁣⁣
URL:https://villaelisa.gov.ar/evento/avistajes-de-aves-en-estancia-museo-el-porvenir/
LOCATION:Estancia Museo “El Porvenir”
ATTACH;FMTTYPE=image/jpeg:https://villaelisa.gov.ar/wp-content/uploads/2026/01/WhatsApp-Image-2026-01-07-at-12.13.49-PM.jpeg
END:VEVENT
END:VCALENDAR