BEGIN:VCALENDAR
VERSION:2.0
PRODID:-//Municipalidad de Villa Elisa, Entre Ríos - ECPv6.6.4.2//NONSGML v1.0//EN
CALSCALE:GREGORIAN
METHOD:PUBLISH
X-ORIGINAL-URL:https://villaelisa.gov.ar
X-WR-CALDESC:Eventos para Municipalidad de Villa Elisa, Entre Ríos
REFRESH-INTERVAL;VALUE=DURATION:PT1H
X-Robots-Tag:noindex
X-PUBLISHED-TTL:PT1H
BEGIN:VTIMEZONE
TZID:America/Argentina/Buenos_Aires
BEGIN:STANDARD
TZOFFSETFROM:-0300
TZOFFSETTO:-0300
TZNAME:-03
DTSTART:20260101T000000
END:STANDARD
END:VTIMEZONE
BEGIN:VEVENT
DTSTART;TZID=America/Argentina/Buenos_Aires:20260113T080000
DTEND;TZID=America/Argentina/Buenos_Aires:20260113T170000
DTSTAMP:20260423T094914
CREATED:20260106T173636Z
LAST-MODIFIED:20260106T173636Z
UID:10009041-1768291200-1768323600@villaelisa.gov.ar
SUMMARY:Viviendo Historias
DESCRIPTION:En una visita al histórico Almacén Francou tendrás la posibilidad de compartir actividades fascinantes e inolvidables. \nLunes a sábado de 9 a 12 y de 16\,30 a 20\,30 hs.
URL:https://villaelisa.gov.ar/evento/viviendo-historias-14/2026-01-13/
LOCATION:Almacén de Ramos Generales Francou\, Colonia del Carmen\, Villa Elisa\, Entre Rios\, 3265\, Argentina
ATTACH;FMTTYPE=image/jpeg:https://villaelisa.gov.ar/wp-content/uploads/2025/12/WhatsApp-Image-2026-01-06-at-14.01.39.jpeg
END:VEVENT
BEGIN:VEVENT
DTSTART;TZID=America/Argentina/Buenos_Aires:20260113T140000
DTEND;TZID=America/Argentina/Buenos_Aires:20260113T190000
DTSTAMP:20260423T094914
CREATED:20251230T140030Z
LAST-MODIFIED:20251230T151536Z
UID:10009020-1768312800-1768330800@villaelisa.gov.ar
SUMMARY:Jugatón
DESCRIPTION:Durante todas las tardes de enero\, de 14 a 19 horas\, los chicos podrán disfrutar de juegos en PC\, arcade y consolas. \nLa propuesta es para niños a partir de los 8 años\, con entrada es libre y gratuita. \nEl Punto Digital funciona en las instalaciones del Centro Comunitario Pancho Ramírez (esquina de Rocamora y Tratado del Pilar).
URL:https://villaelisa.gov.ar/evento/jugaton-2/2026-01-13/
LOCATION:Punto Digital
ATTACH;FMTTYPE=image/jpeg:https://villaelisa.gov.ar/wp-content/uploads/2025/12/WhatsApp-Image-2025-12-30-at-10.39.44-AM.jpeg
END:VEVENT
BEGIN:VEVENT
DTSTART;TZID=America/Argentina/Buenos_Aires:20260113T160000
DTEND;TZID=America/Argentina/Buenos_Aires:20260113T203000
DTSTAMP:20260423T094914
CREATED:20251229T180552Z
LAST-MODIFIED:20251230T132155Z
UID:10007198-1768320000-1768336200@villaelisa.gov.ar
SUMMARY:Estación Elisa – Ferroclub Central Entrerriano
DESCRIPTION:Todos los días desde las 16:00 hs. estará abierta la estación Elisa donde encontrarás maquinarias y elementos de época a las 17 y 19 horas habrá paseos en el tren histórico turístico para vivir una gran experiencia. \nCalle Centenario 2200 \nConsultas al 3442 551086
URL:https://villaelisa.gov.ar/evento/estacion-elisa-ferroclub-central-entrerriano-14/2026-01-13/
LOCATION:Estación ferroviaria Villa Elisa
ATTACH;FMTTYPE=image/jpeg:https://villaelisa.gov.ar/wp-content/uploads/2025/03/WhatsApp-Image-2025-06-25-at-3.17.24-PM.jpeg
END:VEVENT
BEGIN:VEVENT
DTSTART;TZID=America/Argentina/Buenos_Aires:20260113T210000
DTEND;TZID=America/Argentina/Buenos_Aires:20260113T223000
DTSTAMP:20260423T094914
CREATED:20251230T134934Z
LAST-MODIFIED:20251230T134934Z
UID:10009012-1768338000-1768343400@villaelisa.gov.ar
SUMMARY:Martes de Cine en La Fragua
DESCRIPTION:Los inundados es una película en blanco y negro de Argentina dirigida por Fernando Birri sobre su propio guion escrito en colaboración con Jorge A. Ferrando según el cuento homónimo de Mateo Booz.\nSe estrenó el 26 de abril de 1962 y que tuvo como protagonistas a Pirucho Gómez\, Lola Palombo\, María Vera y Héctor Palavecino. \n\nVuelve el cine en La Fragua!!!! Y con entrada gratuita!\n\n\nEl programa será organizado por Facundo Küttel\, estaremos pasando 4 películas argentinas que nos permitirán ver y redescubrir parte de la historia de nuestro país.\nLuego de cada película los invitamos a tomar algo en el “El Nacional” y charlar para poder encontrar juntos algunas claves de lectura de las películas
URL:https://villaelisa.gov.ar/evento/martes-de-cine-en-la-fragua-2/
LOCATION:Centro cultural “La fragua”
ATTACH;FMTTYPE=image/jpeg:https://villaelisa.gov.ar/wp-content/uploads/2025/12/WhatsApp-Image-2025-12-30-at-10.33.38-AM.jpeg
END:VEVENT
END:VCALENDAR