BEGIN:VCALENDAR
VERSION:2.0
PRODID:-//Municipalidad de Villa Elisa, Entre Ríos - ECPv6.6.4.2//NONSGML v1.0//EN
CALSCALE:GREGORIAN
METHOD:PUBLISH
X-WR-CALNAME:Municipalidad de Villa Elisa, Entre Ríos
X-ORIGINAL-URL:https://villaelisa.gov.ar
X-WR-CALDESC:Eventos para Municipalidad de Villa Elisa, Entre Ríos
REFRESH-INTERVAL;VALUE=DURATION:PT1H
X-Robots-Tag:noindex
X-PUBLISHED-TTL:PT1H
BEGIN:VTIMEZONE
TZID:America/Argentina/Buenos_Aires
BEGIN:STANDARD
TZOFFSETFROM:-0300
TZOFFSETTO:-0300
TZNAME:-03
DTSTART:20260101T000000
END:STANDARD
END:VTIMEZONE
BEGIN:VEVENT
DTSTART;TZID=America/Argentina/Buenos_Aires:20260117T080000
DTEND;TZID=America/Argentina/Buenos_Aires:20260117T170000
DTSTAMP:20260423T094646
CREATED:20260106T173636Z
LAST-MODIFIED:20260106T173636Z
UID:10009045-1768636800-1768669200@villaelisa.gov.ar
SUMMARY:Viviendo Historias
DESCRIPTION:En una visita al histórico Almacén Francou tendrás la posibilidad de compartir actividades fascinantes e inolvidables. \nLunes a sábado de 9 a 12 y de 16\,30 a 20\,30 hs.
URL:https://villaelisa.gov.ar/evento/viviendo-historias-14/2026-01-17/
LOCATION:Almacén de Ramos Generales Francou\, Colonia del Carmen\, Villa Elisa\, Entre Rios\, 3265\, Argentina
ATTACH;FMTTYPE=image/jpeg:https://villaelisa.gov.ar/wp-content/uploads/2025/12/WhatsApp-Image-2026-01-06-at-14.01.39.jpeg
END:VEVENT
BEGIN:VEVENT
DTSTART;TZID=America/Argentina/Buenos_Aires:20260117T080000
DTEND;TZID=America/Argentina/Buenos_Aires:20260117T200000
DTSTAMP:20260423T094646
CREATED:20260117T125426Z
LAST-MODIFIED:20260118T121523Z
UID:10009104-1768636800-1768680000@villaelisa.gov.ar
SUMMARY:Actividades en Termas
DESCRIPTION:Una jornada para disfrutar a pleno!!!!!
URL:https://villaelisa.gov.ar/evento/actividades-en-termas/
LOCATION:Termas Villa Elisa
ATTACH;FMTTYPE=image/jpeg:https://villaelisa.gov.ar/wp-content/uploads/2026/01/WhatsApp-Image-2026-01-18-at-09.11.52.jpeg
END:VEVENT
BEGIN:VEVENT
DTSTART;TZID=America/Argentina/Buenos_Aires:20260117T100000
DTEND;TZID=America/Argentina/Buenos_Aires:20260117T203000
DTSTAMP:20260423T094646
CREATED:20251218T214149Z
LAST-MODIFIED:20251218T214149Z
UID:10005018-1768644000-1768681800@villaelisa.gov.ar
SUMMARY:Muestra fotográfica “Villa Elisa en el tiempo: una mirada a los 135 años de historia”
DESCRIPTION:De 10:00 a 13:00 y de 17:00 a 20:30 horas\, te invitamos a recorrer\, a través de esta muestra fotográfica\, la transformación urbana y social de nuestra ciudad a lo largo del tiempo.\nLa exposición reúne fotos históricas de distintos espacios de Villa Elisa junto a sus réplicas actuales\, generando un diálogo visual entre pasado y presente. \nEl valor del bono contribución de ingreso es de $2000 general y $1500 para menores entre 6 y 12 años inclusive\, jubilados y residentes de la micro región “Tierra de Palmares”. \nContacto: 3447436203 – www.museoelporvenir.com.ar
URL:https://villaelisa.gov.ar/evento/muestra-fotografica-villa-elisa-en-el-tiempo-una-mirada-a-los-135-anos-de-historia/2026-01-17/
LOCATION:Estancia Museo “El Porvenir”
ATTACH;FMTTYPE=image/jpeg:https://villaelisa.gov.ar/wp-content/uploads/2025/12/Muestra-temporal-2026-Villa-Elisa-en-el-tiempo-2.jpeg
END:VEVENT
BEGIN:VEVENT
DTSTART;TZID=America/Argentina/Buenos_Aires:20260117T140000
DTEND;TZID=America/Argentina/Buenos_Aires:20260117T200000
DTSTAMP:20260423T094646
CREATED:20260117T183024Z
LAST-MODIFIED:20260117T183024Z
UID:10009106-1768658400-1768680000@villaelisa.gov.ar
SUMMARY:Pileta Polideportivo Municipal
DESCRIPTION:Todos los sábados de ENERO\n🏊‍♂️ Natatorio Municipal de 14 a 20 hs. Entrada: $5000 ( asistir con gorro y traje de baño) \nInformes Solo msjs 3447-555062 Héctor de Elia y Bv. Churruarín.
URL:https://villaelisa.gov.ar/evento/pileta-polideportivo-municipal/
LOCATION:Polideportivo Municipal\, Bv. Churruarín y Héctor de Elía
ATTACH;FMTTYPE=image/jpeg:https://villaelisa.gov.ar/wp-content/uploads/2026/01/WhatsApp-Image-2026-01-17-at-15.27.33.jpeg
END:VEVENT
BEGIN:VEVENT
DTSTART;TZID=America/Argentina/Buenos_Aires:20260117T160000
DTEND;TZID=America/Argentina/Buenos_Aires:20260117T203000
DTSTAMP:20260423T094646
CREATED:20251229T180552Z
LAST-MODIFIED:20251230T132155Z
UID:10007202-1768665600-1768681800@villaelisa.gov.ar
SUMMARY:Estación Elisa – Ferroclub Central Entrerriano
DESCRIPTION:Todos los días desde las 16:00 hs. estará abierta la estación Elisa donde encontrarás maquinarias y elementos de época a las 17 y 19 horas habrá paseos en el tren histórico turístico para vivir una gran experiencia. \nCalle Centenario 2200 \nConsultas al 3442 551086
URL:https://villaelisa.gov.ar/evento/estacion-elisa-ferroclub-central-entrerriano-14/2026-01-17/
LOCATION:Estación ferroviaria Villa Elisa
ATTACH;FMTTYPE=image/jpeg:https://villaelisa.gov.ar/wp-content/uploads/2025/03/WhatsApp-Image-2025-06-25-at-3.17.24-PM.jpeg
END:VEVENT
BEGIN:VEVENT
DTSTART;TZID=America/Argentina/Buenos_Aires:20260117T200000
DTEND;TZID=America/Argentina/Buenos_Aires:20260117T210000
DTSTAMP:20260423T094646
CREATED:20260117T172409Z
LAST-MODIFIED:20260117T172409Z
UID:10009105-1768680000-1768683600@villaelisa.gov.ar
SUMMARY:Santa Misa
DESCRIPTION:Celebración de la Santa Misa\, en conmemoración de la novena patronal de Capilla San francisco de Sales
URL:https://villaelisa.gov.ar/evento/santa-misa-3/
LOCATION:Capilla San Francisco de Sales\, Dr. Gutiérrez y Víctor Gastal\, Villa Elisa\, Entre Rios\, 3265\, Argentina
ATTACH;FMTTYPE=image/jpeg:https://villaelisa.gov.ar/wp-content/uploads/2026/01/WhatsApp-Image-2026-01-17-at-14.17.36.jpeg
END:VEVENT
BEGIN:VEVENT
DTSTART;TZID=America/Argentina/Buenos_Aires:20260117T210000
DTEND;TZID=America/Argentina/Buenos_Aires:20260118T020000
DTSTAMP:20260423T094646
CREATED:20251226T185406Z
LAST-MODIFIED:20260117T203930Z
UID:10005042-1768683600-1768701600@villaelisa.gov.ar
SUMMARY:Cena en Parrilla "El Gringo"
DESCRIPTION:El lugar indicado para disfrutar de una gran noche con las promociones del Cordero a la estaca en  Parrilla “El Gringo”. \nInformes 3447-550616 \nLos esperamos!!!
URL:https://villaelisa.gov.ar/evento/cena-fin-de-ano-en-el-gringo/
LOCATION:Parrilla El Gringo
ATTACH;FMTTYPE=image/jpeg:https://villaelisa.gov.ar/wp-content/uploads/2025/12/WhatsApp-Image-2026-01-17-at-17.36.43.jpeg
END:VEVENT
END:VCALENDAR