BEGIN:VCALENDAR
VERSION:2.0
PRODID:-//Municipalidad de Villa Elisa, Entre Ríos - ECPv6.6.4.2//NONSGML v1.0//EN
CALSCALE:GREGORIAN
METHOD:PUBLISH
X-ORIGINAL-URL:https://villaelisa.gov.ar
X-WR-CALDESC:Eventos para Municipalidad de Villa Elisa, Entre Ríos
REFRESH-INTERVAL;VALUE=DURATION:PT1H
X-Robots-Tag:noindex
X-PUBLISHED-TTL:PT1H
BEGIN:VTIMEZONE
TZID:America/Argentina/Buenos_Aires
BEGIN:STANDARD
TZOFFSETFROM:-0300
TZOFFSETTO:-0300
TZNAME:-03
DTSTART:20260101T000000
END:STANDARD
END:VTIMEZONE
BEGIN:VEVENT
DTSTART;TZID=America/Argentina/Buenos_Aires:20260117T210000
DTEND;TZID=America/Argentina/Buenos_Aires:20260118T020000
DTSTAMP:20260423T094844
CREATED:20251226T185406Z
LAST-MODIFIED:20260117T203930Z
UID:10005042-1768683600-1768701600@villaelisa.gov.ar
SUMMARY:Cena en Parrilla "El Gringo"
DESCRIPTION:El lugar indicado para disfrutar de una gran noche con las promociones del Cordero a la estaca en  Parrilla “El Gringo”. \nInformes 3447-550616 \nLos esperamos!!!
URL:https://villaelisa.gov.ar/evento/cena-fin-de-ano-en-el-gringo/
LOCATION:Parrilla El Gringo
ATTACH;FMTTYPE=image/jpeg:https://villaelisa.gov.ar/wp-content/uploads/2025/12/WhatsApp-Image-2026-01-17-at-17.36.43.jpeg
END:VEVENT
BEGIN:VEVENT
DTSTART;TZID=America/Argentina/Buenos_Aires:20260118T100000
DTEND;TZID=America/Argentina/Buenos_Aires:20260118T130000
DTSTAMP:20260423T094844
CREATED:20241104T113404Z
LAST-MODIFIED:20241104T113404Z
UID:10002256-1768730400-1768741200@villaelisa.gov.ar
SUMMARY:Auto Tour
DESCRIPTION:TRAVELING VINA:  \nEs un servicio  extra\, que ofrece el complejo de Alojamientos “V I N A” \nExperiencia Rurales\, AUTO TOUR:  \nPlanificamos y coordinamos recorridos por bodegas\, fábricas de productos regionales\, y almacenes locales\, te llevamos a descubrir La Colonia\, cultura local y los paisajes mas hermosos de nuestra Tierra de Palmares.- \nOrganizado por Perla Lopez – \nReservas con anticipación: contacto 3447503491.- \nValor del recorrido: según destino elegido. \nTiempo demandado: aproximadamente 3 horas.- \nEl objetivo es formar una caravana\, con los vehículos de los interesados y hacer\, una mañana o una tarde de recorridos a los diferentes atractivos de nuestra zona  \nprevia coordinación.- \nPunto de salida: oficina de Turismo Villa Elisa.-
URL:https://villaelisa.gov.ar/evento/auto-tour/2026-01-18/
ATTACH;FMTTYPE=image/jpeg:https://villaelisa.gov.ar/wp-content/uploads/2024/11/Traveling-vina.jpg
END:VEVENT
BEGIN:VEVENT
DTSTART;TZID=America/Argentina/Buenos_Aires:20260118T100000
DTEND;TZID=America/Argentina/Buenos_Aires:20260118T203000
DTSTAMP:20260423T094844
CREATED:20251218T214149Z
LAST-MODIFIED:20251218T214149Z
UID:10005019-1768730400-1768768200@villaelisa.gov.ar
SUMMARY:Muestra fotográfica “Villa Elisa en el tiempo: una mirada a los 135 años de historia”
DESCRIPTION:De 10:00 a 13:00 y de 17:00 a 20:30 horas\, te invitamos a recorrer\, a través de esta muestra fotográfica\, la transformación urbana y social de nuestra ciudad a lo largo del tiempo.\nLa exposición reúne fotos históricas de distintos espacios de Villa Elisa junto a sus réplicas actuales\, generando un diálogo visual entre pasado y presente. \nEl valor del bono contribución de ingreso es de $2000 general y $1500 para menores entre 6 y 12 años inclusive\, jubilados y residentes de la micro región “Tierra de Palmares”. \nContacto: 3447436203 – www.museoelporvenir.com.ar
URL:https://villaelisa.gov.ar/evento/muestra-fotografica-villa-elisa-en-el-tiempo-una-mirada-a-los-135-anos-de-historia/2026-01-18/
LOCATION:Estancia Museo “El Porvenir”
ATTACH;FMTTYPE=image/jpeg:https://villaelisa.gov.ar/wp-content/uploads/2025/12/Muestra-temporal-2026-Villa-Elisa-en-el-tiempo-2.jpeg
END:VEVENT
BEGIN:VEVENT
DTSTART;TZID=America/Argentina/Buenos_Aires:20260118T160000
DTEND;TZID=America/Argentina/Buenos_Aires:20260118T203000
DTSTAMP:20260423T094844
CREATED:20251229T180552Z
LAST-MODIFIED:20251230T132155Z
UID:10007203-1768752000-1768768200@villaelisa.gov.ar
SUMMARY:Estación Elisa – Ferroclub Central Entrerriano
DESCRIPTION:Todos los días desde las 16:00 hs. estará abierta la estación Elisa donde encontrarás maquinarias y elementos de época a las 17 y 19 horas habrá paseos en el tren histórico turístico para vivir una gran experiencia. \nCalle Centenario 2200 \nConsultas al 3442 551086
URL:https://villaelisa.gov.ar/evento/estacion-elisa-ferroclub-central-entrerriano-14/2026-01-18/
LOCATION:Estación ferroviaria Villa Elisa
ATTACH;FMTTYPE=image/jpeg:https://villaelisa.gov.ar/wp-content/uploads/2025/03/WhatsApp-Image-2025-06-25-at-3.17.24-PM.jpeg
END:VEVENT
BEGIN:VEVENT
DTSTART;TZID=America/Argentina/Buenos_Aires:20260118T203000
DTEND;TZID=America/Argentina/Buenos_Aires:20260118T223000
DTSTAMP:20260423T094844
CREATED:20260107T212104Z
LAST-MODIFIED:20260107T212104Z
UID:10009049-1768768200-1768775400@villaelisa.gov.ar
SUMMARY:Peña del choripan
DESCRIPTION:🗓️ El domingo 18 de enero desde las 20:30 horas en el parque del Museo Estancia “El Porvenir”.\n🙌🏼 Vas a poder degustar choripanes preparados de distintas maneras.\n🎶 También\, disfrutarás de música en vivo de la mano de Canto Raíz con un repertorio de folklore entrerriano y popular argentino y Maxi Loker y su banda\, para bailar al ritmo de la cumbia. \n🆓 La entrada es libre y gratuita.
URL:https://villaelisa.gov.ar/evento/pena-del-choripan/
LOCATION:Estancia Museo “El Porvenir”
ATTACH;FMTTYPE=image/jpeg:https://villaelisa.gov.ar/wp-content/uploads/2026/01/12.1-Pena-del-choripan.jpeg
END:VEVENT
BEGIN:VEVENT
DTSTART;TZID=America/Argentina/Buenos_Aires:20260118T210000
DTEND;TZID=America/Argentina/Buenos_Aires:20260118T233000
DTSTAMP:20260423T094844
CREATED:20260112T122623Z
LAST-MODIFIED:20260112T122623Z
UID:10009091-1768770000-1768779000@villaelisa.gov.ar
SUMMARY:Paraná Berreta
DESCRIPTION:Este domingo 18/1 a las 21 hs te esperamos en La Fragua!\n✨ Llega Paraná Berreta con guitarra y voz para compartir canciones e historias únicas. 🎸🎤\n📍 ¡No te lo pierdas! 🔥😊\nLas Culturas siguen en movimiento!
URL:https://villaelisa.gov.ar/evento/parana-berreta/
LOCATION:Centro Cultural La Fragua
ATTACH;FMTTYPE=image/jpeg:https://villaelisa.gov.ar/wp-content/uploads/2026/01/WhatsApp-Image-2026-01-12-at-9.24.48-AM.jpeg
END:VEVENT
END:VCALENDAR