BEGIN:VCALENDAR
VERSION:2.0
PRODID:-//Municipalidad de Villa Elisa, Entre Ríos - ECPv6.6.4.2//NONSGML v1.0//EN
CALSCALE:GREGORIAN
METHOD:PUBLISH
X-WR-CALNAME:Municipalidad de Villa Elisa, Entre Ríos
X-ORIGINAL-URL:https://villaelisa.gov.ar
X-WR-CALDESC:Eventos para Municipalidad de Villa Elisa, Entre Ríos
REFRESH-INTERVAL;VALUE=DURATION:PT1H
X-Robots-Tag:noindex
X-PUBLISHED-TTL:PT1H
BEGIN:VTIMEZONE
TZID:America/Argentina/Buenos_Aires
BEGIN:STANDARD
TZOFFSETFROM:-0300
TZOFFSETTO:-0300
TZNAME:-03
DTSTART:20260101T000000
END:STANDARD
END:VTIMEZONE
BEGIN:VEVENT
DTSTART;TZID=America/Argentina/Buenos_Aires:20260120T140000
DTEND;TZID=America/Argentina/Buenos_Aires:20260120T190000
DTSTAMP:20260423T082018
CREATED:20251230T140030Z
LAST-MODIFIED:20251230T151536Z
UID:10009024-1768917600-1768935600@villaelisa.gov.ar
SUMMARY:Jugatón
DESCRIPTION:Durante todas las tardes de enero\, de 14 a 19 horas\, los chicos podrán disfrutar de juegos en PC\, arcade y consolas. \nLa propuesta es para niños a partir de los 8 años\, con entrada es libre y gratuita. \nEl Punto Digital funciona en las instalaciones del Centro Comunitario Pancho Ramírez (esquina de Rocamora y Tratado del Pilar).
URL:https://villaelisa.gov.ar/evento/jugaton-2/2026-01-20/
LOCATION:Punto Digital
ATTACH;FMTTYPE=image/jpeg:https://villaelisa.gov.ar/wp-content/uploads/2025/12/WhatsApp-Image-2025-12-30-at-10.39.44-AM.jpeg
END:VEVENT
BEGIN:VEVENT
DTSTART;TZID=America/Argentina/Buenos_Aires:20260120T160000
DTEND;TZID=America/Argentina/Buenos_Aires:20260120T203000
DTSTAMP:20260423T082018
CREATED:20251229T180552Z
LAST-MODIFIED:20251230T132155Z
UID:10007205-1768924800-1768941000@villaelisa.gov.ar
SUMMARY:Estación Elisa – Ferroclub Central Entrerriano
DESCRIPTION:Todos los días desde las 16:00 hs. estará abierta la estación Elisa donde encontrarás maquinarias y elementos de época a las 17 y 19 horas habrá paseos en el tren histórico turístico para vivir una gran experiencia. \nCalle Centenario 2200 \nConsultas al 3442 551086
URL:https://villaelisa.gov.ar/evento/estacion-elisa-ferroclub-central-entrerriano-14/2026-01-20/
LOCATION:Estación ferroviaria Villa Elisa
ATTACH;FMTTYPE=image/jpeg:https://villaelisa.gov.ar/wp-content/uploads/2025/03/WhatsApp-Image-2025-06-25-at-3.17.24-PM.jpeg
END:VEVENT
END:VCALENDAR