BEGIN:VCALENDAR
VERSION:2.0
PRODID:-//Municipalidad de Villa Elisa, Entre Ríos - ECPv6.6.4.2//NONSGML v1.0//EN
CALSCALE:GREGORIAN
METHOD:PUBLISH
X-WR-CALNAME:Municipalidad de Villa Elisa, Entre Ríos
X-ORIGINAL-URL:https://villaelisa.gov.ar
X-WR-CALDESC:Eventos para Municipalidad de Villa Elisa, Entre Ríos
REFRESH-INTERVAL;VALUE=DURATION:PT1H
X-Robots-Tag:noindex
X-PUBLISHED-TTL:PT1H
BEGIN:VTIMEZONE
TZID:America/Argentina/Buenos_Aires
BEGIN:STANDARD
TZOFFSETFROM:-0300
TZOFFSETTO:-0300
TZNAME:-03
DTSTART:20260101T000000
END:STANDARD
END:VTIMEZONE
BEGIN:VEVENT
DTSTART;TZID=America/Argentina/Buenos_Aires:20260131T090000
DTEND;TZID=America/Argentina/Buenos_Aires:20260131T203000
DTSTAMP:20260423T065724
CREATED:20260123T163551Z
LAST-MODIFIED:20260123T163642Z
UID:10009121-1769850000-1769891400@villaelisa.gov.ar
SUMMARY:Viviendo Historias
DESCRIPTION:En una visita al histórico Almacén Francou tendrás la posibilidad de compartir actividades fascinantes e inolvidables. \nLunes a sábado de 9 a 12 y de 16\,30 a 20\,30 hs.
URL:https://villaelisa.gov.ar/evento/viviendo-historias-15/2026-01-31/
LOCATION:Almacén de Ramos Generales Francou\, Colonia del Carmen\, Villa Elisa\, Entre Rios\, 3265\, Argentina
ATTACH;FMTTYPE=image/jpeg:https://villaelisa.gov.ar/wp-content/uploads/2025/12/WhatsApp-Image-2026-01-06-at-14.01.39.jpeg
END:VEVENT
BEGIN:VEVENT
DTSTART;TZID=America/Argentina/Buenos_Aires:20260131T100000
DTEND;TZID=America/Argentina/Buenos_Aires:20260131T170000
DTSTAMP:20260423T065724
CREATED:20260206T111319Z
LAST-MODIFIED:20260206T111319Z
UID:10009128-1769853600-1769878800@villaelisa.gov.ar
SUMMARY:Taller yuyero
DESCRIPTION:Charla herbal y recorrido botánico en L L YUYOS\,  jardin medicinal \n10:00\, 16:00 y 17:30 reservar turnos 3447454685 \nHerboristeria artesanal
URL:https://villaelisa.gov.ar/evento/taller-yuyero/
ATTACH;FMTTYPE=image/jpeg:https://villaelisa.gov.ar/wp-content/uploads/2026/01/Screenshot_20230114-150634_WhatsApp.jpg
END:VEVENT
BEGIN:VEVENT
DTSTART;TZID=America/Argentina/Buenos_Aires:20260131T100000
DTEND;TZID=America/Argentina/Buenos_Aires:20260131T203000
DTSTAMP:20260423T065724
CREATED:20251218T214149Z
LAST-MODIFIED:20251218T214149Z
UID:10005030-1769853600-1769891400@villaelisa.gov.ar
SUMMARY:Muestra fotográfica “Villa Elisa en el tiempo: una mirada a los 135 años de historia”
DESCRIPTION:De 10:00 a 13:00 y de 17:00 a 20:30 horas\, te invitamos a recorrer\, a través de esta muestra fotográfica\, la transformación urbana y social de nuestra ciudad a lo largo del tiempo.\nLa exposición reúne fotos históricas de distintos espacios de Villa Elisa junto a sus réplicas actuales\, generando un diálogo visual entre pasado y presente. \nEl valor del bono contribución de ingreso es de $2000 general y $1500 para menores entre 6 y 12 años inclusive\, jubilados y residentes de la micro región “Tierra de Palmares”. \nContacto: 3447436203 – www.museoelporvenir.com.ar
URL:https://villaelisa.gov.ar/evento/muestra-fotografica-villa-elisa-en-el-tiempo-una-mirada-a-los-135-anos-de-historia/2026-01-31/
LOCATION:Estancia Museo “El Porvenir”
ATTACH;FMTTYPE=image/jpeg:https://villaelisa.gov.ar/wp-content/uploads/2025/12/Muestra-temporal-2026-Villa-Elisa-en-el-tiempo-2.jpeg
END:VEVENT
BEGIN:VEVENT
DTSTART;TZID=America/Argentina/Buenos_Aires:20260131T160000
DTEND;TZID=America/Argentina/Buenos_Aires:20260131T203000
DTSTAMP:20260423T065724
CREATED:20251229T180552Z
LAST-MODIFIED:20251230T132155Z
UID:10007216-1769875200-1769891400@villaelisa.gov.ar
SUMMARY:Estación Elisa – Ferroclub Central Entrerriano
DESCRIPTION:Todos los días desde las 16:00 hs. estará abierta la estación Elisa donde encontrarás maquinarias y elementos de época a las 17 y 19 horas habrá paseos en el tren histórico turístico para vivir una gran experiencia. \nCalle Centenario 2200 \nConsultas al 3442 551086
URL:https://villaelisa.gov.ar/evento/estacion-elisa-ferroclub-central-entrerriano-14/2026-01-31/
LOCATION:Estación ferroviaria Villa Elisa
ATTACH;FMTTYPE=image/jpeg:https://villaelisa.gov.ar/wp-content/uploads/2025/03/WhatsApp-Image-2025-06-25-at-3.17.24-PM.jpeg
END:VEVENT
BEGIN:VEVENT
DTSTART;TZID=America/Argentina/Buenos_Aires:20260131T210000
DTEND;TZID=America/Argentina/Buenos_Aires:20260201T023000
DTSTAMP:20260423T065724
CREATED:20260105T154323Z
LAST-MODIFIED:20260129T173113Z
UID:10009031-1769893200-1769913000@villaelisa.gov.ar
SUMMARY:Gran Baile en Escuela 80
DESCRIPTION:El gran baile tan esperado en la Escuela 80 de Colonia La Suiza con la actuación de Leo Milezzi  y Grupo Galaxia !!!
URL:https://villaelisa.gov.ar/evento/gran-baile-en-escuela-17/
LOCATION:Club Huracán Colonia Hocker\, Villa Elisa\, Entre Rios\, 3265\, Argentina
ATTACH;FMTTYPE=image/jpeg:https://villaelisa.gov.ar/wp-content/uploads/2026/01/WhatsApp-Image-2026-01-29-at-2.27.26-PM.jpeg
END:VEVENT
END:VCALENDAR