BEGIN:VCALENDAR
VERSION:2.0
PRODID:-//Municipalidad de Villa Elisa, Entre Ríos - ECPv6.6.4.2//NONSGML v1.0//EN
CALSCALE:GREGORIAN
METHOD:PUBLISH
X-ORIGINAL-URL:https://villaelisa.gov.ar
X-WR-CALDESC:Eventos para Municipalidad de Villa Elisa, Entre Ríos
REFRESH-INTERVAL;VALUE=DURATION:PT1H
X-Robots-Tag:noindex
X-PUBLISHED-TTL:PT1H
BEGIN:VTIMEZONE
TZID:America/Argentina/Buenos_Aires
BEGIN:STANDARD
TZOFFSETFROM:-0300
TZOFFSETTO:-0300
TZNAME:-03
DTSTART:20260101T000000
END:STANDARD
END:VTIMEZONE
BEGIN:VEVENT
DTSTART;TZID=America/Argentina/Buenos_Aires:20260213T100000
DTEND;TZID=America/Argentina/Buenos_Aires:20260213T203000
DTSTAMP:20260423T041821
CREATED:20260108T223621Z
LAST-MODIFIED:20260108T223621Z
UID:10009063-1770976800-1771014600@villaelisa.gov.ar
SUMMARY:Muestra fotográfica “Villa Elisa en el tiempo: una mirada a los 135 años de historia”
DESCRIPTION:De 10:00 a 13:00 y de 17:00 a 20:30 horas\, te invitamos a recorrer\, a través de esta muestra fotográfica\, la transformación urbana y social de nuestra ciudad a lo largo del tiempo.\nLa exposición reúne fotos históricas de distintos espacios de Villa Elisa junto a sus réplicas actuales\, generando un diálogo visual entre pasado y presente. \nEl valor del bono contribución de ingreso es de $2000 general y $1500 para menores entre 6 y 12 años inclusive\, jubilados y residentes de la micro región “Tierra de Palmares”. \nContacto: 3447436203 – www.museoelporvenir.com.ar
URL:https://villaelisa.gov.ar/evento/muestra-fotografica-villa-elisa-en-el-tiempo-una-mirada-a-los-135-anos-de-historia-2/2026-02-13/
LOCATION:Estancia Museo “El Porvenir”
ATTACH;FMTTYPE=image/jpeg:https://villaelisa.gov.ar/wp-content/uploads/2026/01/Muestra-temporal-2026-Villa-Elisa-en-el-tiempo-2.jpeg
END:VEVENT
BEGIN:VEVENT
DTSTART;TZID=America/Argentina/Buenos_Aires:20260213T103000
DTEND;TZID=America/Argentina/Buenos_Aires:20260213T130000
DTSTAMP:20260423T041821
CREATED:20260108T224343Z
LAST-MODIFIED:20260108T224343Z
UID:10009084-1770978600-1770987600@villaelisa.gov.ar
SUMMARY:Visitas Guiadas en Estancia Museo El Porvenir
DESCRIPTION:De lunes a viernes (excepto martes) las 10:30 y 12:00 horas\,  pueden realizarse las visitas guiadas gratuitas por la Estancia. \nSi se lo desea\, se puede visitar el lugar en forma independiente (sin visita guiada) de 10:00 a 13:00 y de 17:00 a 20:30 horas\, recordando que también está habilitado el sector del parque recreativo. \nEl valor del bono contribución de ingreso es de $2000 general y $1500 para menores entre 6 y 12 años inclusive\, jubilados y residentes de la micro región “Tierra de Palmares”. \nContacto: 3447436203 – www.museoelporvenir.com.ar
URL:https://villaelisa.gov.ar/evento/visitas-guiadas-en-estancia-museo-el-porvenir-13/2026-02-13/
LOCATION:Estancia Museo “El Porvenir”
ATTACH;FMTTYPE=image/jpeg:https://villaelisa.gov.ar/wp-content/uploads/2026/01/Horarios-enero-febrero-2026-feed.jpeg
END:VEVENT
BEGIN:VEVENT
DTSTART;TZID=America/Argentina/Buenos_Aires:20260213T150000
DTEND;TZID=America/Argentina/Buenos_Aires:20260213T203000
DTSTAMP:20260423T041821
CREATED:20260107T135910Z
LAST-MODIFIED:20260210T183924Z
UID:10009047-1770994800-1771014600@villaelisa.gov.ar
SUMMARY:Feria "Patitas"
DESCRIPTION:FERIA DE PATITAS 🐾\nEste viernes y sábado desde las 15 hs te esperamos en Centro Unión 💛 \n👕👟 Mucha ropa de verano y calzado\n👨‍👩‍👧‍👦 Para toda la familia\n💥 ¡Todo por $2000! \n🤍 Al comprar\, ayudás a los perritos rescatados de Patitas en la Calle\n🐶 Cada aporte suma y hace la diferencia \n✨ ¡Te esperamos para ayudar y compartir una linda tarde!
URL:https://villaelisa.gov.ar/evento/feria-patitas-5/
LOCATION:Plaza Moreno\, Villa Elisa
ATTACH;FMTTYPE=image/jpeg:https://villaelisa.gov.ar/wp-content/uploads/2026/01/WhatsApp-Image-2026-02-10-at-3.35.47-PM.jpeg
END:VEVENT
BEGIN:VEVENT
DTSTART;TZID=America/Argentina/Buenos_Aires:20260213T160000
DTEND;TZID=America/Argentina/Buenos_Aires:20260213T203000
DTSTAMP:20260423T041821
CREATED:20251229T180552Z
LAST-MODIFIED:20251230T132155Z
UID:10007229-1770998400-1771014600@villaelisa.gov.ar
SUMMARY:Estación Elisa – Ferroclub Central Entrerriano
DESCRIPTION:Todos los días desde las 16:00 hs. estará abierta la estación Elisa donde encontrarás maquinarias y elementos de época a las 17 y 19 horas habrá paseos en el tren histórico turístico para vivir una gran experiencia. \nCalle Centenario 2200 \nConsultas al 3442 551086
URL:https://villaelisa.gov.ar/evento/estacion-elisa-ferroclub-central-entrerriano-14/2026-02-13/
LOCATION:Estación ferroviaria Villa Elisa
ATTACH;FMTTYPE=image/jpeg:https://villaelisa.gov.ar/wp-content/uploads/2025/03/WhatsApp-Image-2025-06-25-at-3.17.24-PM.jpeg
END:VEVENT
BEGIN:VEVENT
DTSTART;TZID=America/Argentina/Buenos_Aires:20260213T170000
DTEND;TZID=America/Argentina/Buenos_Aires:20260213T183000
DTSTAMP:20260423T041821
CREATED:20260212T162500Z
LAST-MODIFIED:20260212T162500Z
UID:10009157-1771002000-1771007400@villaelisa.gov.ar
SUMMARY:Carnaval en Termas
DESCRIPTION:Preparate para una tarde muy divertida en el Complejo Termal.
URL:https://villaelisa.gov.ar/evento/carnaval-en-termas/
LOCATION:Termas Villa Elisa
ATTACH;FMTTYPE=image/jpeg:https://villaelisa.gov.ar/wp-content/uploads/2026/02/WhatsApp-Image-2026-02-12-at-1.22.54-PM.jpeg
END:VEVENT
BEGIN:VEVENT
DTSTART;TZID=America/Argentina/Buenos_Aires:20260213T210000
DTEND;TZID=America/Argentina/Buenos_Aires:20260213T223000
DTSTAMP:20260423T041821
CREATED:20260206T150249Z
LAST-MODIFIED:20260206T150249Z
UID:10009143-1771016400-1771021800@villaelisa.gov.ar
SUMMARY:"Gualicho"
DESCRIPTION:Elenco Teatral Enredados\, presentan ” Gualicho” \n¿Por amor?  ¿Hhasta donde sos capaz de llegar? \nHermosa obra teatral basada en el cuento del escritor Roque Galetto\, apta mayores de 14 años.
URL:https://villaelisa.gov.ar/evento/gualicho/
LOCATION:La ENREDADA\, FRANCOU 1548\, Villa Elisa\, 3265
ATTACH;FMTTYPE=image/png:https://villaelisa.gov.ar/wp-content/uploads/2026/02/Gualicho-3.png
END:VEVENT
BEGIN:VEVENT
DTSTART;TZID=America/Argentina/Buenos_Aires:20260213T230000
DTEND;TZID=America/Argentina/Buenos_Aires:20260214T040000
DTSTAMP:20260423T041821
CREATED:20260212T161202Z
LAST-MODIFIED:20260212T161202Z
UID:10009156-1771023600-1771041600@villaelisa.gov.ar
SUMMARY:Carnaval en Fran Beer
DESCRIPTION:Música\, tragos en Carnaval
URL:https://villaelisa.gov.ar/evento/carnaval-en-fran-beer/
LOCATION:Fran Beer\, Bv. Guex 1694\, Villa Elisa\, 3265
ATTACH;FMTTYPE=image/jpeg:https://villaelisa.gov.ar/wp-content/uploads/2026/02/WhatsApp-Image-2026-02-12-at-1.09.43-PM.jpeg
END:VEVENT
END:VCALENDAR