BEGIN:VCALENDAR
VERSION:2.0
PRODID:-//Municipalidad de Villa Elisa, Entre Ríos - ECPv6.6.4.2//NONSGML v1.0//EN
CALSCALE:GREGORIAN
METHOD:PUBLISH
X-ORIGINAL-URL:https://villaelisa.gov.ar
X-WR-CALDESC:Eventos para Municipalidad de Villa Elisa, Entre Ríos
REFRESH-INTERVAL;VALUE=DURATION:PT1H
X-Robots-Tag:noindex
X-PUBLISHED-TTL:PT1H
BEGIN:VTIMEZONE
TZID:America/Argentina/Buenos_Aires
BEGIN:STANDARD
TZOFFSETFROM:-0300
TZOFFSETTO:-0300
TZNAME:-03
DTSTART:20260101T000000
END:STANDARD
END:VTIMEZONE
BEGIN:VEVENT
DTSTART;TZID=America/Argentina/Buenos_Aires:20260214T210000
DTEND;TZID=America/Argentina/Buenos_Aires:20260215T030000
DTSTAMP:20260423T041904
CREATED:20260119T121422Z
LAST-MODIFIED:20260119T121422Z
UID:10009108-1771102800-1771124400@villaelisa.gov.ar
SUMMARY:GRAN BAILE
DESCRIPTION:SÁBADO 14 DE FEBRERO  \nGRAN BAILE CON MAXI LOKER Y SU BANDA
URL:https://villaelisa.gov.ar/evento/gran-baile-20/
LOCATION:Centro María Auxiliadora\, H. Irigoyen 1269\, Villa Elisa
ATTACH;FMTTYPE=image/jpeg:https://villaelisa.gov.ar/wp-content/uploads/2026/01/InShot_20260119_083429710.jpg
END:VEVENT
BEGIN:VEVENT
DTSTART;TZID=America/Argentina/Buenos_Aires:20260215T090000
DTEND;TZID=America/Argentina/Buenos_Aires:20260215T190000
DTSTAMP:20260423T041904
CREATED:20260122T182552Z
LAST-MODIFIED:20260122T185443Z
UID:10009111-1771146000-1771182000@villaelisa.gov.ar
SUMMARY:Gran Reunión Hípica
DESCRIPTION:Sensacional encuentro con grandes clásicos en Hipódromo Jockey Club Villa Elisa E. Ríos
URL:https://villaelisa.gov.ar/evento/gran-reunion-hipica/
LOCATION:Hipódromo Jockey Club Villa Elisa
ATTACH;FMTTYPE=image/jpeg:https://villaelisa.gov.ar/wp-content/uploads/2026/01/WhatsApp-Image-2026-01-22-at-15.17.42-1.jpeg
END:VEVENT
BEGIN:VEVENT
DTSTART;TZID=America/Argentina/Buenos_Aires:20260215T100000
DTEND;TZID=America/Argentina/Buenos_Aires:20260215T130000
DTSTAMP:20260423T041904
CREATED:20241104T113404Z
LAST-MODIFIED:20241104T113404Z
UID:10002260-1771149600-1771160400@villaelisa.gov.ar
SUMMARY:Auto Tour
DESCRIPTION:TRAVELING VINA:  \nEs un servicio  extra\, que ofrece el complejo de Alojamientos “V I N A” \nExperiencia Rurales\, AUTO TOUR:  \nPlanificamos y coordinamos recorridos por bodegas\, fábricas de productos regionales\, y almacenes locales\, te llevamos a descubrir La Colonia\, cultura local y los paisajes mas hermosos de nuestra Tierra de Palmares.- \nOrganizado por Perla Lopez – \nReservas con anticipación: contacto 3447503491.- \nValor del recorrido: según destino elegido. \nTiempo demandado: aproximadamente 3 horas.- \nEl objetivo es formar una caravana\, con los vehículos de los interesados y hacer\, una mañana o una tarde de recorridos a los diferentes atractivos de nuestra zona  \nprevia coordinación.- \nPunto de salida: oficina de Turismo Villa Elisa.-
URL:https://villaelisa.gov.ar/evento/auto-tour/2026-02-15/
ATTACH;FMTTYPE=image/jpeg:https://villaelisa.gov.ar/wp-content/uploads/2024/11/Traveling-vina.jpg
END:VEVENT
BEGIN:VEVENT
DTSTART;TZID=America/Argentina/Buenos_Aires:20260215T100000
DTEND;TZID=America/Argentina/Buenos_Aires:20260215T190000
DTSTAMP:20260423T041904
CREATED:20260206T212010Z
LAST-MODIFIED:20260206T212010Z
UID:10009148-1771149600-1771182000@villaelisa.gov.ar
SUMMARY:Almacén Francou en Carnaval
DESCRIPTION:En una visita al histórico Almacén Francou tendrás la posibilidad de compartir actividades fascinantes e inolvidables. \nSábado 14 de febrero  de 10 a 19 hs.
URL:https://villaelisa.gov.ar/evento/almacen-francou-en-carnaval-3/
LOCATION:Almacén de Ramos Generales Francou\, Colonia del Carmen\, Villa Elisa\, Entre Rios\, 3265\, Argentina
ATTACH;FMTTYPE=image/jpeg:https://villaelisa.gov.ar/wp-content/uploads/2026/02/WhatsApp-Image-2026-02-06-at-11.46.52.jpeg
END:VEVENT
BEGIN:VEVENT
DTSTART;TZID=America/Argentina/Buenos_Aires:20260215T100000
DTEND;TZID=America/Argentina/Buenos_Aires:20260215T203000
DTSTAMP:20260423T041904
CREATED:20260108T223621Z
LAST-MODIFIED:20260108T223621Z
UID:10009065-1771149600-1771187400@villaelisa.gov.ar
SUMMARY:Muestra fotográfica “Villa Elisa en el tiempo: una mirada a los 135 años de historia”
DESCRIPTION:De 10:00 a 13:00 y de 17:00 a 20:30 horas\, te invitamos a recorrer\, a través de esta muestra fotográfica\, la transformación urbana y social de nuestra ciudad a lo largo del tiempo.\nLa exposición reúne fotos históricas de distintos espacios de Villa Elisa junto a sus réplicas actuales\, generando un diálogo visual entre pasado y presente. \nEl valor del bono contribución de ingreso es de $2000 general y $1500 para menores entre 6 y 12 años inclusive\, jubilados y residentes de la micro región “Tierra de Palmares”. \nContacto: 3447436203 – www.museoelporvenir.com.ar
URL:https://villaelisa.gov.ar/evento/muestra-fotografica-villa-elisa-en-el-tiempo-una-mirada-a-los-135-anos-de-historia-2/2026-02-15/
LOCATION:Estancia Museo “El Porvenir”
ATTACH;FMTTYPE=image/jpeg:https://villaelisa.gov.ar/wp-content/uploads/2026/01/Muestra-temporal-2026-Villa-Elisa-en-el-tiempo-2.jpeg
END:VEVENT
BEGIN:VEVENT
DTSTART;TZID=America/Argentina/Buenos_Aires:20260215T103000
DTEND;TZID=America/Argentina/Buenos_Aires:20260215T193000
DTSTAMP:20260423T041904
CREATED:20260204T203744Z
LAST-MODIFIED:20260204T203744Z
UID:10009141-1771151400-1771183800@villaelisa.gov.ar
SUMMARY:Visitas Guiadas en Estancia Museo El Porvenir
DESCRIPTION:Domingo 15 y lunes 16 de febrero a las 10:30\, 12:00\, 18:00 y 19:30 horas\, pueden realizarse las visitas guiadas gratuitas por la Estancia. \nSi se lo desea\, se puede visitar el lugar en forma independiente (sin visita guiada) de 10:00 a 13:00 y de 17:00 a 20:30 horas\, recordando que también está habilitado el sector del parque recreativo. \nEl valor del bono contribución de ingreso es de $2000 general y $1500 para menores entre 6 y 12 años inclusive\, jubilados y residentes de la micro región “Tierra de Palmares”. \nContacto: 3447436203 – www.museoelporvenir.com.ar
URL:https://villaelisa.gov.ar/evento/visitas-guiadas-en-estancia-museo-el-porvenir-14/2026-02-15/
LOCATION:Estancia Museo “El Porvenir”
ATTACH;FMTTYPE=image/jpeg:https://villaelisa.gov.ar/wp-content/uploads/2026/02/Fin-de-semana-largo-carnaval-2026-feed.jpeg
END:VEVENT
BEGIN:VEVENT
DTSTART;TZID=America/Argentina/Buenos_Aires:20260215T160000
DTEND;TZID=America/Argentina/Buenos_Aires:20260215T173000
DTSTAMP:20260423T041904
CREATED:20260215T154543Z
LAST-MODIFIED:20260215T175243Z
UID:10009166-1771171200-1771176600@villaelisa.gov.ar
SUMMARY:CAMINATUR
DESCRIPTION:No es solo un city tour.\nEs una invitación a sentir la ciudad. \nA caminar sin prisa\,\na escuchar las historias que viven en sus calles\,\na descubrir rincones que emocionan\ny a dejar que los paseos arbolados 💚 nos abracen en cada paso. \nLa ciudad se vive mejor cuando se camina\,\ncuando se mira distinto\,\ncuando se la recorre con todos los sentidos. \n🚶🏻‍♂️👩‍🦽🚶🏽‍♀️🚶🏼🚶🏼‍♂️🌳\n📞 Reservas: 3447 456151\n👩‍🦰 Graciela Antonin\nGuía Nacional de Turismo – UADER\nMatrícula Nº 0054\nCoProTuer
URL:https://villaelisa.gov.ar/evento/caminatur-9/
ATTACH;FMTTYPE=image/jpeg:https://villaelisa.gov.ar/wp-content/uploads/2026/02/WhatsApp-Image-2026-02-15-at-12.20.45.jpeg
END:VEVENT
BEGIN:VEVENT
DTSTART;TZID=America/Argentina/Buenos_Aires:20260215T160000
DTEND;TZID=America/Argentina/Buenos_Aires:20260215T203000
DTSTAMP:20260423T041904
CREATED:20251229T180552Z
LAST-MODIFIED:20251230T132155Z
UID:10007231-1771171200-1771187400@villaelisa.gov.ar
SUMMARY:Estación Elisa – Ferroclub Central Entrerriano
DESCRIPTION:Todos los días desde las 16:00 hs. estará abierta la estación Elisa donde encontrarás maquinarias y elementos de época a las 17 y 19 horas habrá paseos en el tren histórico turístico para vivir una gran experiencia. \nCalle Centenario 2200 \nConsultas al 3442 551086
URL:https://villaelisa.gov.ar/evento/estacion-elisa-ferroclub-central-entrerriano-14/2026-02-15/
LOCATION:Estación ferroviaria Villa Elisa
ATTACH;FMTTYPE=image/jpeg:https://villaelisa.gov.ar/wp-content/uploads/2025/03/WhatsApp-Image-2025-06-25-at-3.17.24-PM.jpeg
END:VEVENT
BEGIN:VEVENT
DTSTART;TZID=America/Argentina/Buenos_Aires:20260215T210000
DTEND;TZID=America/Argentina/Buenos_Aires:20260216T010000
DTSTAMP:20260423T041904
CREATED:20260212T182306Z
LAST-MODIFIED:20260212T182306Z
UID:10009159-1771189200-1771203600@villaelisa.gov.ar
SUMMARY:Cena Show en "El Paso"
DESCRIPTION:Tu plan de fin de semana largo\, es aquí con platos exquisitos\, musica en vivo y momentos inolvidables
URL:https://villaelisa.gov.ar/evento/cena-show-en-el-paso-7/
LOCATION:Parrilla El Paso\, Av. Urquiza 3145\, Villa Elisa\, 3265
ATTACH;FMTTYPE=image/jpeg:https://villaelisa.gov.ar/wp-content/uploads/2026/02/WhatsApp-Image-2026-02-12-at-2.55.17-PM-1.jpeg
END:VEVENT
BEGIN:VEVENT
DTSTART;TZID=America/Argentina/Buenos_Aires:20260215T210000
DTEND;TZID=America/Argentina/Buenos_Aires:20260216T010000
DTSTAMP:20260423T041904
CREATED:20260213T130615Z
LAST-MODIFIED:20260213T130615Z
UID:10009160-1771189200-1771203600@villaelisa.gov.ar
SUMMARY:Musica en Parrilla El Gringo con "Pato Viganoni"
DESCRIPTION:Viví una noche bien argentina\, donde la guitarra criolla y la voz profunda del Pato Viganoni\, se mezclan con el aroma de la parrilla y el calor del encuentro.
URL:https://villaelisa.gov.ar/evento/musica-en-parrilla-el-gringo-con-pato-viganoni/
LOCATION:Parrilla El Gringo
ATTACH;FMTTYPE=image/jpeg:https://villaelisa.gov.ar/wp-content/uploads/2026/02/WhatsApp-Image-2026-02-13-at-9.57.31-AM.jpeg
END:VEVENT
END:VCALENDAR