BEGIN:VCALENDAR
VERSION:2.0
PRODID:-//Municipalidad de Villa Elisa, Entre Ríos - ECPv6.6.4.2//NONSGML v1.0//EN
CALSCALE:GREGORIAN
METHOD:PUBLISH
X-WR-CALNAME:Municipalidad de Villa Elisa, Entre Ríos
X-ORIGINAL-URL:https://villaelisa.gov.ar
X-WR-CALDESC:Eventos para Municipalidad de Villa Elisa, Entre Ríos
REFRESH-INTERVAL;VALUE=DURATION:PT1H
X-Robots-Tag:noindex
X-PUBLISHED-TTL:PT1H
BEGIN:VTIMEZONE
TZID:America/Argentina/Buenos_Aires
BEGIN:STANDARD
TZOFFSETFROM:-0300
TZOFFSETTO:-0300
TZNAME:-03
DTSTART:20260101T000000
END:STANDARD
END:VTIMEZONE
BEGIN:VEVENT
DTSTART;TZID=America/Argentina/Buenos_Aires:20260215T210000
DTEND;TZID=America/Argentina/Buenos_Aires:20260216T010000
DTSTAMP:20260423T024522
CREATED:20260212T182306Z
LAST-MODIFIED:20260212T182306Z
UID:10009159-1771189200-1771203600@villaelisa.gov.ar
SUMMARY:Cena Show en "El Paso"
DESCRIPTION:Tu plan de fin de semana largo\, es aquí con platos exquisitos\, musica en vivo y momentos inolvidables
URL:https://villaelisa.gov.ar/evento/cena-show-en-el-paso-7/
LOCATION:Parrilla El Paso\, Av. Urquiza 3145\, Villa Elisa\, 3265
ATTACH;FMTTYPE=image/jpeg:https://villaelisa.gov.ar/wp-content/uploads/2026/02/WhatsApp-Image-2026-02-12-at-2.55.17-PM-1.jpeg
END:VEVENT
BEGIN:VEVENT
DTSTART;TZID=America/Argentina/Buenos_Aires:20260215T210000
DTEND;TZID=America/Argentina/Buenos_Aires:20260216T010000
DTSTAMP:20260423T024522
CREATED:20260213T130615Z
LAST-MODIFIED:20260213T130615Z
UID:10009160-1771189200-1771203600@villaelisa.gov.ar
SUMMARY:Musica en Parrilla El Gringo con "Pato Viganoni"
DESCRIPTION:Viví una noche bien argentina\, donde la guitarra criolla y la voz profunda del Pato Viganoni\, se mezclan con el aroma de la parrilla y el calor del encuentro.
URL:https://villaelisa.gov.ar/evento/musica-en-parrilla-el-gringo-con-pato-viganoni/
LOCATION:Parrilla El Gringo
ATTACH;FMTTYPE=image/jpeg:https://villaelisa.gov.ar/wp-content/uploads/2026/02/WhatsApp-Image-2026-02-13-at-9.57.31-AM.jpeg
END:VEVENT
BEGIN:VEVENT
DTSTART;TZID=America/Argentina/Buenos_Aires:20260216T100000
DTEND;TZID=America/Argentina/Buenos_Aires:20260216T190000
DTSTAMP:20260423T024522
CREATED:20260206T212128Z
LAST-MODIFIED:20260206T212128Z
UID:10009149-1771236000-1771268400@villaelisa.gov.ar
SUMMARY:Almacén Francou en Carnaval
DESCRIPTION:En una visita al histórico Almacén Francou tendrás la posibilidad de compartir actividades fascinantes e inolvidables. \nSábado 14 de febrero  de 10 a 19 hs.
URL:https://villaelisa.gov.ar/evento/almacen-francou-en-carnaval-4/
LOCATION:Almacén de Ramos Generales Francou\, Colonia del Carmen\, Villa Elisa\, Entre Rios\, 3265\, Argentina
ATTACH;FMTTYPE=image/jpeg:https://villaelisa.gov.ar/wp-content/uploads/2026/02/WhatsApp-Image-2026-02-06-at-11.46.52.jpeg
END:VEVENT
BEGIN:VEVENT
DTSTART;TZID=America/Argentina/Buenos_Aires:20260216T100000
DTEND;TZID=America/Argentina/Buenos_Aires:20260216T203000
DTSTAMP:20260423T024522
CREATED:20260108T223621Z
LAST-MODIFIED:20260108T223621Z
UID:10009066-1771236000-1771273800@villaelisa.gov.ar
SUMMARY:Muestra fotográfica “Villa Elisa en el tiempo: una mirada a los 135 años de historia”
DESCRIPTION:De 10:00 a 13:00 y de 17:00 a 20:30 horas\, te invitamos a recorrer\, a través de esta muestra fotográfica\, la transformación urbana y social de nuestra ciudad a lo largo del tiempo.\nLa exposición reúne fotos históricas de distintos espacios de Villa Elisa junto a sus réplicas actuales\, generando un diálogo visual entre pasado y presente. \nEl valor del bono contribución de ingreso es de $2000 general y $1500 para menores entre 6 y 12 años inclusive\, jubilados y residentes de la micro región “Tierra de Palmares”. \nContacto: 3447436203 – www.museoelporvenir.com.ar
URL:https://villaelisa.gov.ar/evento/muestra-fotografica-villa-elisa-en-el-tiempo-una-mirada-a-los-135-anos-de-historia-2/2026-02-16/
LOCATION:Estancia Museo “El Porvenir”
ATTACH;FMTTYPE=image/jpeg:https://villaelisa.gov.ar/wp-content/uploads/2026/01/Muestra-temporal-2026-Villa-Elisa-en-el-tiempo-2.jpeg
END:VEVENT
BEGIN:VEVENT
DTSTART;TZID=America/Argentina/Buenos_Aires:20260216T103000
DTEND;TZID=America/Argentina/Buenos_Aires:20260216T193000
DTSTAMP:20260423T024522
CREATED:20260204T203744Z
LAST-MODIFIED:20260204T203744Z
UID:10009142-1771237800-1771270200@villaelisa.gov.ar
SUMMARY:Visitas Guiadas en Estancia Museo El Porvenir
DESCRIPTION:Domingo 15 y lunes 16 de febrero a las 10:30\, 12:00\, 18:00 y 19:30 horas\, pueden realizarse las visitas guiadas gratuitas por la Estancia. \nSi se lo desea\, se puede visitar el lugar en forma independiente (sin visita guiada) de 10:00 a 13:00 y de 17:00 a 20:30 horas\, recordando que también está habilitado el sector del parque recreativo. \nEl valor del bono contribución de ingreso es de $2000 general y $1500 para menores entre 6 y 12 años inclusive\, jubilados y residentes de la micro región “Tierra de Palmares”. \nContacto: 3447436203 – www.museoelporvenir.com.ar
URL:https://villaelisa.gov.ar/evento/visitas-guiadas-en-estancia-museo-el-porvenir-14/2026-02-16/
LOCATION:Estancia Museo “El Porvenir”
ATTACH;FMTTYPE=image/jpeg:https://villaelisa.gov.ar/wp-content/uploads/2026/02/Fin-de-semana-largo-carnaval-2026-feed.jpeg
END:VEVENT
BEGIN:VEVENT
DTSTART;TZID=America/Argentina/Buenos_Aires:20260216T160000
DTEND;TZID=America/Argentina/Buenos_Aires:20260216T203000
DTSTAMP:20260423T024522
CREATED:20251229T180552Z
LAST-MODIFIED:20251230T132155Z
UID:10007232-1771257600-1771273800@villaelisa.gov.ar
SUMMARY:Estación Elisa – Ferroclub Central Entrerriano
DESCRIPTION:Todos los días desde las 16:00 hs. estará abierta la estación Elisa donde encontrarás maquinarias y elementos de época a las 17 y 19 horas habrá paseos en el tren histórico turístico para vivir una gran experiencia. \nCalle Centenario 2200 \nConsultas al 3442 551086
URL:https://villaelisa.gov.ar/evento/estacion-elisa-ferroclub-central-entrerriano-14/2026-02-16/
LOCATION:Estación ferroviaria Villa Elisa
ATTACH;FMTTYPE=image/jpeg:https://villaelisa.gov.ar/wp-content/uploads/2025/03/WhatsApp-Image-2025-06-25-at-3.17.24-PM.jpeg
END:VEVENT
BEGIN:VEVENT
DTSTART;TZID=America/Argentina/Buenos_Aires:20260216T203000
DTEND;TZID=America/Argentina/Buenos_Aires:20260217T003000
DTSTAMP:20260423T024522
CREATED:20260105T132517Z
LAST-MODIFIED:20260215T175248Z
UID:10009027-1771273800-1771288200@villaelisa.gov.ar
SUMMARY:Festival FUEGO
DESCRIPTION:  \n16 de febrero 2026\nVuelve el festival que marco la historia de los festivales solidarios\n👩‍🚒🚒 \nEntrada LIBRE Y GRATUITA \n🎼 La Aplanadora\n🎼 Pasión y Vida – Tributo a Eduardo Franco y sus Iracundos\n🎼 Canto Raíz\n🎼 Pitingo Izaguirre\ny mucho más\nSorteo de un Auto 🚘 y 9 premios en 💲 \nExcelente servicio de comidas\, Paseo de Artesanos\,\nPeloteros inflables para los más pequeños \nQue no te lo cuenten\, vivilo de la mano de Bomberos Villa Elisa
URL:https://villaelisa.gov.ar/evento/festival-fuego/
LOCATION:Parque San Jorge\, Bv. Schroeder y Emilio Francou\, Villa Elisa
ATTACH;FMTTYPE=image/jpeg:https://villaelisa.gov.ar/wp-content/uploads/2026/01/WhatsApp-Image-2026-02-15-at-12.50.07.jpeg
END:VEVENT
END:VCALENDAR