BEGIN:VCALENDAR
VERSION:2.0
PRODID:-//Municipalidad de Villa Elisa, Entre Ríos - ECPv6.6.4.2//NONSGML v1.0//EN
CALSCALE:GREGORIAN
METHOD:PUBLISH
X-ORIGINAL-URL:https://villaelisa.gov.ar
X-WR-CALDESC:Eventos para Municipalidad de Villa Elisa, Entre Ríos
REFRESH-INTERVAL;VALUE=DURATION:PT1H
X-Robots-Tag:noindex
X-PUBLISHED-TTL:PT1H
BEGIN:VTIMEZONE
TZID:America/Argentina/Buenos_Aires
BEGIN:STANDARD
TZOFFSETFROM:-0300
TZOFFSETTO:-0300
TZNAME:-03
DTSTART:20260101T000000
END:STANDARD
END:VTIMEZONE
BEGIN:VEVENT
DTSTART;TZID=America/Argentina/Buenos_Aires:20260306T100000
DTEND;TZID=America/Argentina/Buenos_Aires:20260306T190000
DTSTAMP:20260422T235211
CREATED:20260220T210452Z
LAST-MODIFIED:20260220T210452Z
UID:10009192-1772791200-1772823600@villaelisa.gov.ar
SUMMARY:Muestra fotográfica “Villa Elisa en el tiempo: una mirada a los 135 años de historia”
DESCRIPTION:De 10:00 a 13:00 y de 16:00 a 19:00 horas\, te invitamos a recorrer\, a través de esta muestra fotográfica\, la transformación urbana y social de nuestra ciudad a lo largo del tiempo.\nLa exposición reúne fotos históricas de distintos espacios de Villa Elisa junto a sus réplicas actuales\, generando un diálogo visual entre pasado y presente. \nEl valor del bono contribución de ingreso es de $2000 general y $1500 para menores entre 6 y 12 años inclusive\, jubilados y residentes de la micro región “Tierra de Palmares”. \nContacto: 3447436203 – www.museoelporvenir.com.ar
URL:https://villaelisa.gov.ar/evento/muestra-fotografica-villa-elisa-en-el-tiempo-una-mirada-a-los-135-anos-de-historia-5/2026-03-06/
LOCATION:Estancia Museo “El Porvenir”
ATTACH;FMTTYPE=image/jpeg:https://villaelisa.gov.ar/wp-content/uploads/2026/02/Muestra-temporal-2026-Villa-Elisa-en-el-tiempo-2-1.jpeg
END:VEVENT
BEGIN:VEVENT
DTSTART;TZID=America/Argentina/Buenos_Aires:20260306T103000
DTEND;TZID=America/Argentina/Buenos_Aires:20260306T130000
DTSTAMP:20260422T235211
CREATED:20260220T205709Z
LAST-MODIFIED:20260220T205709Z
UID:10009176-1772793000-1772802000@villaelisa.gov.ar
SUMMARY:Visitas Guiadas en Estancia Museo El Porvenir
DESCRIPTION:De lunes a viernes (excepto martes) las 10:30 y 12:00 horas\,  pueden realizarse las visitas guiadas gratuitas por la Estancia. \nSi se lo desea\, se puede visitar el lugar en forma independiente (sin visita guiada) de 10:00 a 13:00 y de 16:00 a 19:00 horas\, recordando que también está habilitado el sector del parque recreativo. \nEl valor del bono contribución de ingreso es de $2000 general y $1500 para menores entre 6 y 12 años inclusive\, jubilados y residentes de la micro región “Tierra de Palmares”. \nContacto: 3447436203 – www.museoelporvenir.com.ar
URL:https://villaelisa.gov.ar/evento/visitas-guiadas-en-estancia-museo-el-porvenir-16/2026-03-06/
LOCATION:Estancia Museo “El Porvenir”
ATTACH;FMTTYPE=image/jpeg:https://villaelisa.gov.ar/wp-content/uploads/2026/02/Horarios-marzo-2026-feed.jpeg
END:VEVENT
BEGIN:VEVENT
DTSTART;TZID=America/Argentina/Buenos_Aires:20260306T210000
DTEND;TZID=America/Argentina/Buenos_Aires:20260306T230000
DTSTAMP:20260422T235211
CREATED:20260226T102030Z
LAST-MODIFIED:20260226T102211Z
UID:10009208-1772830800-1772838000@villaelisa.gov.ar
SUMMARY:"El Caso Julia"
DESCRIPTION:Gran Estreno 🎭Teatral en Villa Elisa ” El Caso Julia” de Paula Tabachnik \nDentro del marco del Mes de la Mujer ” La Enredada” Espacio Cultural – ” El Mujerío” – Área de la Mujer \, Diversidad y Género Municipalidad de Villa Elisa\, presentan este gran proyecto integrado por artistas de Bariloche\, Paraná y Concordia Esta propuesta toma como punto de partida el relato documentado de una víctima de violencia de género\, indagando en los límites entre realidad y ficción\, se hace foco en los vínculos humanos y las diferentes maneras de transitar situaciones conflictivas.\nCon la dirección de Paula Tabachnik y Gustavo Bendersky. Actúan: Melina Forte\, Marta Cot\, Valentín Abuaf\, Gustavo Bendersky. \nDespués de la obra\, se realizará un conversatorio con los actores y público sobre la temática.
URL:https://villaelisa.gov.ar/evento/el-caso-julia/
LOCATION:La ENREDADA\, FRANCOU 1548\, Villa Elisa\, 3265
ATTACH;FMTTYPE=image/png:https://villaelisa.gov.ar/wp-content/uploads/2026/02/Viernes-6-03.png
END:VEVENT
BEGIN:VEVENT
DTSTART;TZID=America/Argentina/Buenos_Aires:20260306T213000
DTEND;TZID=America/Argentina/Buenos_Aires:20260306T223000
DTSTAMP:20260422T235211
CREATED:20260226T151037Z
LAST-MODIFIED:20260226T151037Z
UID:10009211-1772832600-1772836200@villaelisa.gov.ar
SUMMARY:Obra de Teatro Made in Lanús
DESCRIPTION:Con la direccion de Marcelo Daguerre y un gran elenco de actores se ofrece la reconocida obra “Made in Lanús”
URL:https://villaelisa.gov.ar/evento/obra-de-teatro-made-in-lanus/
LOCATION:Auditorio Municipal Heraldo N. Peragallo\, Av. Mitre 1301\, Villa Elisa\, 3265
ATTACH;FMTTYPE=image/jpeg:https://villaelisa.gov.ar/wp-content/uploads/2026/02/WhatsApp-Image-2026-02-25-at-10.55.44-PM-1.jpeg
END:VEVENT
END:VCALENDAR