BEGIN:VCALENDAR
VERSION:2.0
PRODID:-//Municipalidad de Villa Elisa, Entre Ríos - ECPv6.6.4.2//NONSGML v1.0//EN
CALSCALE:GREGORIAN
METHOD:PUBLISH
X-ORIGINAL-URL:https://villaelisa.gov.ar
X-WR-CALDESC:Eventos para Municipalidad de Villa Elisa, Entre Ríos
REFRESH-INTERVAL;VALUE=DURATION:PT1H
X-Robots-Tag:noindex
X-PUBLISHED-TTL:PT1H
BEGIN:VTIMEZONE
TZID:America/Argentina/Buenos_Aires
BEGIN:STANDARD
TZOFFSETFROM:-0300
TZOFFSETTO:-0300
TZNAME:-03
DTSTART:20260101T000000
END:STANDARD
END:VTIMEZONE
BEGIN:VEVENT
DTSTART;TZID=America/Argentina/Buenos_Aires:20260307T100000
DTEND;TZID=America/Argentina/Buenos_Aires:20260307T190000
DTSTAMP:20260422T235232
CREATED:20260220T210452Z
LAST-MODIFIED:20260220T210452Z
UID:10009193-1772877600-1772910000@villaelisa.gov.ar
SUMMARY:Muestra fotográfica “Villa Elisa en el tiempo: una mirada a los 135 años de historia”
DESCRIPTION:De 10:00 a 13:00 y de 16:00 a 19:00 horas\, te invitamos a recorrer\, a través de esta muestra fotográfica\, la transformación urbana y social de nuestra ciudad a lo largo del tiempo.\nLa exposición reúne fotos históricas de distintos espacios de Villa Elisa junto a sus réplicas actuales\, generando un diálogo visual entre pasado y presente. \nEl valor del bono contribución de ingreso es de $2000 general y $1500 para menores entre 6 y 12 años inclusive\, jubilados y residentes de la micro región “Tierra de Palmares”. \nContacto: 3447436203 – www.museoelporvenir.com.ar
URL:https://villaelisa.gov.ar/evento/muestra-fotografica-villa-elisa-en-el-tiempo-una-mirada-a-los-135-anos-de-historia-5/2026-03-07/
LOCATION:Estancia Museo “El Porvenir”
ATTACH;FMTTYPE=image/jpeg:https://villaelisa.gov.ar/wp-content/uploads/2026/02/Muestra-temporal-2026-Villa-Elisa-en-el-tiempo-2-1.jpeg
END:VEVENT
BEGIN:VEVENT
DTSTART;TZID=America/Argentina/Buenos_Aires:20260307T150000
DTEND;TZID=America/Argentina/Buenos_Aires:20260307T210000
DTSTAMP:20260422T235232
CREATED:20260212T151605Z
LAST-MODIFIED:20260305T180038Z
UID:10009155-1772895600-1772917200@villaelisa.gov.ar
SUMMARY:Básquetbol Provincial
DESCRIPTION:Categorías intermedias masculinas!!!! \nEste sábado participando el Torneo Provincial!!! \nLos esperamos a todos en el estadio cerrado del CAVE. \nCave\, camino a los 100 años
URL:https://villaelisa.gov.ar/evento/amistoso-de-basquetbol/
LOCATION:Estadio cerrado CAVE\, Emilio Francou e Irigoyen\, Villa Elisa\, 3264
ATTACH;FMTTYPE=image/jpeg:https://villaelisa.gov.ar/wp-content/uploads/2026/02/WhatsApp-Image-2026-03-05-at-12.58.00-PM.jpeg
GEO:-32.164117;-58.397421
X-APPLE-STRUCTURED-LOCATION;VALUE=URI;X-ADDRESS=Estadio cerrado CAVE Emilio Francou e Irigoyen Villa Elisa 3264;X-APPLE-RADIUS=500;X-TITLE=Emilio Francou e Irigoyen:geo:-58.397421,-32.164117
END:VEVENT
BEGIN:VEVENT
DTSTART;TZID=America/Argentina/Buenos_Aires:20260307T210000
DTEND;TZID=America/Argentina/Buenos_Aires:20260308T010000
DTSTAMP:20260422T235232
CREATED:20260302T154058Z
LAST-MODIFIED:20260302T154058Z
UID:10009214-1772917200-1772931600@villaelisa.gov.ar
SUMMARY:Juana en una nube
DESCRIPTION:Desde Santa Fe\, llega este unipersonal potente\, poético y político. \nEntrada gratis\, salida a la gorra. \nCharla con la actriz + comidas y bebidas\, bar El Nacional. \nLa Fragua\, Hector de Elia 1489 \n 
URL:https://villaelisa.gov.ar/evento/juana-en-una-nube/
LOCATION:Asociación Civil La Fragua\, Héctor de Elía 1489\, Villa Elisa\, 3265
ATTACH;FMTTYPE=image/png:https://villaelisa.gov.ar/wp-content/uploads/2026/03/Historia-Juana-marcas-1.png
END:VEVENT
END:VCALENDAR