BEGIN:VCALENDAR
VERSION:2.0
PRODID:-//Municipalidad de Villa Elisa, Entre Ríos - ECPv6.6.4.2//NONSGML v1.0//EN
CALSCALE:GREGORIAN
METHOD:PUBLISH
X-ORIGINAL-URL:https://villaelisa.gov.ar
X-WR-CALDESC:Eventos para Municipalidad de Villa Elisa, Entre Ríos
REFRESH-INTERVAL;VALUE=DURATION:PT1H
X-Robots-Tag:noindex
X-PUBLISHED-TTL:PT1H
BEGIN:VTIMEZONE
TZID:America/Argentina/Buenos_Aires
BEGIN:STANDARD
TZOFFSETFROM:-0300
TZOFFSETTO:-0300
TZNAME:-03
DTSTART:20260101T000000
END:STANDARD
END:VTIMEZONE
BEGIN:VEVENT
DTSTART;TZID=America/Argentina/Buenos_Aires:20260307T210000
DTEND;TZID=America/Argentina/Buenos_Aires:20260308T010000
DTSTAMP:20260422T235957
CREATED:20260302T154058Z
LAST-MODIFIED:20260302T154058Z
UID:10009214-1772917200-1772931600@villaelisa.gov.ar
SUMMARY:Juana en una nube
DESCRIPTION:Desde Santa Fe\, llega este unipersonal potente\, poético y político. \nEntrada gratis\, salida a la gorra. \nCharla con la actriz + comidas y bebidas\, bar El Nacional. \nLa Fragua\, Hector de Elia 1489 \n 
URL:https://villaelisa.gov.ar/evento/juana-en-una-nube/
LOCATION:Asociación Civil La Fragua\, Héctor de Elía 1489\, Villa Elisa\, 3265
ATTACH;FMTTYPE=image/png:https://villaelisa.gov.ar/wp-content/uploads/2026/03/Historia-Juana-marcas-1.png
END:VEVENT
BEGIN:VEVENT
DTSTART;TZID=America/Argentina/Buenos_Aires:20260308T100000
DTEND;TZID=America/Argentina/Buenos_Aires:20260308T130000
DTSTAMP:20260422T235957
CREATED:20241104T113404Z
LAST-MODIFIED:20241104T113404Z
UID:10002263-1772964000-1772974800@villaelisa.gov.ar
SUMMARY:Auto Tour
DESCRIPTION:TRAVELING VINA:  \nEs un servicio  extra\, que ofrece el complejo de Alojamientos “V I N A” \nExperiencia Rurales\, AUTO TOUR:  \nPlanificamos y coordinamos recorridos por bodegas\, fábricas de productos regionales\, y almacenes locales\, te llevamos a descubrir La Colonia\, cultura local y los paisajes mas hermosos de nuestra Tierra de Palmares.- \nOrganizado por Perla Lopez – \nReservas con anticipación: contacto 3447503491.- \nValor del recorrido: según destino elegido. \nTiempo demandado: aproximadamente 3 horas.- \nEl objetivo es formar una caravana\, con los vehículos de los interesados y hacer\, una mañana o una tarde de recorridos a los diferentes atractivos de nuestra zona  \nprevia coordinación.- \nPunto de salida: oficina de Turismo Villa Elisa.-
URL:https://villaelisa.gov.ar/evento/auto-tour/2026-03-08/
ATTACH;FMTTYPE=image/jpeg:https://villaelisa.gov.ar/wp-content/uploads/2024/11/Traveling-vina.jpg
END:VEVENT
BEGIN:VEVENT
DTSTART;TZID=America/Argentina/Buenos_Aires:20260308T100000
DTEND;TZID=America/Argentina/Buenos_Aires:20260308T190000
DTSTAMP:20260422T235957
CREATED:20260220T210452Z
LAST-MODIFIED:20260220T210452Z
UID:10009194-1772964000-1772996400@villaelisa.gov.ar
SUMMARY:Muestra fotográfica “Villa Elisa en el tiempo: una mirada a los 135 años de historia”
DESCRIPTION:De 10:00 a 13:00 y de 16:00 a 19:00 horas\, te invitamos a recorrer\, a través de esta muestra fotográfica\, la transformación urbana y social de nuestra ciudad a lo largo del tiempo.\nLa exposición reúne fotos históricas de distintos espacios de Villa Elisa junto a sus réplicas actuales\, generando un diálogo visual entre pasado y presente. \nEl valor del bono contribución de ingreso es de $2000 general y $1500 para menores entre 6 y 12 años inclusive\, jubilados y residentes de la micro región “Tierra de Palmares”. \nContacto: 3447436203 – www.museoelporvenir.com.ar
URL:https://villaelisa.gov.ar/evento/muestra-fotografica-villa-elisa-en-el-tiempo-una-mirada-a-los-135-anos-de-historia-5/2026-03-08/
LOCATION:Estancia Museo “El Porvenir”
ATTACH;FMTTYPE=image/jpeg:https://villaelisa.gov.ar/wp-content/uploads/2026/02/Muestra-temporal-2026-Villa-Elisa-en-el-tiempo-2-1.jpeg
END:VEVENT
BEGIN:VEVENT
DTSTART;TZID=America/Argentina/Buenos_Aires:20260308T140000
DTEND;TZID=America/Argentina/Buenos_Aires:20260308T183000
DTSTAMP:20260422T235957
CREATED:20260220T184512Z
LAST-MODIFIED:20260305T172644Z
UID:10009172-1772978400-1772994600@villaelisa.gov.ar
SUMMARY:Básquetbol Femenino Provincial
DESCRIPTION:Categorías intermedias femeninas !!!! \nEste domingo un encuentro del Torneo Provincial!!! \nLos esperamos a todos en el estadio cerrado del CAVE. \nCave\, camino a los 100 años
URL:https://villaelisa.gov.ar/evento/amistoso-de-basquetbol-2/
LOCATION:Estadio cerrado CAVE\, Emilio Francou e Irigoyen\, Villa Elisa\, 3264
ATTACH;FMTTYPE=image/jpeg:https://villaelisa.gov.ar/wp-content/uploads/2026/02/WhatsApp-Image-2026-03-05-at-12.58.13-PM.jpeg
GEO:-32.164117;-58.397421
X-APPLE-STRUCTURED-LOCATION;VALUE=URI;X-ADDRESS=Estadio cerrado CAVE Emilio Francou e Irigoyen Villa Elisa 3264;X-APPLE-RADIUS=500;X-TITLE=Emilio Francou e Irigoyen:geo:-58.397421,-32.164117
END:VEVENT
BEGIN:VEVENT
DTSTART;TZID=America/Argentina/Buenos_Aires:20260308T160000
DTEND;TZID=America/Argentina/Buenos_Aires:20260308T190000
DTSTAMP:20260422T235957
CREATED:20260305T125540Z
LAST-MODIFIED:20260305T125540Z
UID:10009347-1772985600-1772996400@villaelisa.gov.ar
SUMMARY:Estación Elisa – Ferroclub Central Entrerriano
DESCRIPTION:Sábados y Domingos  16:00 hs. estará abierta la estación Elisa donde encontrarás maquinarias y elementos de época\, a las 17 horas habrá paseos en el tren histórico turístico para vivir una gran experiencia. \nCalle Centenario 2200 \nConsultas al 3442 551086
URL:https://villaelisa.gov.ar/evento/estacion-elisa-ferroclub-central-entrerriano-18/
LOCATION:Estación ferroviaria Villa Elisa
ATTACH;FMTTYPE=image/jpeg:https://villaelisa.gov.ar/wp-content/uploads/2025/03/WhatsApp-Image-2025-06-25-at-3.17.24-PM.jpeg
END:VEVENT
BEGIN:VEVENT
DTSTART;TZID=America/Argentina/Buenos_Aires:20260308T203000
DTEND;TZID=America/Argentina/Buenos_Aires:20260308T213000
DTSTAMP:20260422T235957
CREATED:20260226T151727Z
LAST-MODIFIED:20260226T151727Z
UID:10009212-1773001800-1773005400@villaelisa.gov.ar
SUMMARY:Obra de Teatro "Made in Lanús"
DESCRIPTION:Con la direccion de Marcelo Daguerre y un gran elenco de actores se ofrece la reconocida obra “Made in Lanús” \n 
URL:https://villaelisa.gov.ar/evento/obra-de-teatro-made-in-lanus-2/
LOCATION:Auditorio Municipal Heraldo N. Peragallo\, Av. Mitre 1301\, Villa Elisa\, 3265
ATTACH;FMTTYPE=image/jpeg:https://villaelisa.gov.ar/wp-content/uploads/2026/02/WhatsApp-Image-2026-02-25-at-10.55.44-PM-1.jpeg
END:VEVENT
END:VCALENDAR