BEGIN:VCALENDAR
VERSION:2.0
PRODID:-//Municipalidad de Villa Elisa, Entre Ríos - ECPv6.6.4.2//NONSGML v1.0//EN
CALSCALE:GREGORIAN
METHOD:PUBLISH
X-WR-CALNAME:Municipalidad de Villa Elisa, Entre Ríos
X-ORIGINAL-URL:https://villaelisa.gov.ar
X-WR-CALDESC:Eventos para Municipalidad de Villa Elisa, Entre Ríos
REFRESH-INTERVAL;VALUE=DURATION:PT1H
X-Robots-Tag:noindex
X-PUBLISHED-TTL:PT1H
BEGIN:VTIMEZONE
TZID:America/Argentina/Buenos_Aires
BEGIN:STANDARD
TZOFFSETFROM:-0300
TZOFFSETTO:-0300
TZNAME:-03
DTSTART:20260101T000000
END:STANDARD
END:VTIMEZONE
BEGIN:VEVENT
DTSTART;TZID=America/Argentina/Buenos_Aires:20260314T100000
DTEND;TZID=America/Argentina/Buenos_Aires:20260314T190000
DTSTAMP:20260422T222715
CREATED:20260220T210452Z
LAST-MODIFIED:20260220T210452Z
UID:10009199-1773482400-1773514800@villaelisa.gov.ar
SUMMARY:Muestra fotográfica “Villa Elisa en el tiempo: una mirada a los 135 años de historia”
DESCRIPTION:De 10:00 a 13:00 y de 16:00 a 19:00 horas\, te invitamos a recorrer\, a través de esta muestra fotográfica\, la transformación urbana y social de nuestra ciudad a lo largo del tiempo.\nLa exposición reúne fotos históricas de distintos espacios de Villa Elisa junto a sus réplicas actuales\, generando un diálogo visual entre pasado y presente. \nEl valor del bono contribución de ingreso es de $2000 general y $1500 para menores entre 6 y 12 años inclusive\, jubilados y residentes de la micro región “Tierra de Palmares”. \nContacto: 3447436203 – www.museoelporvenir.com.ar
URL:https://villaelisa.gov.ar/evento/muestra-fotografica-villa-elisa-en-el-tiempo-una-mirada-a-los-135-anos-de-historia-5/2026-03-14/
LOCATION:Estancia Museo “El Porvenir”
ATTACH;FMTTYPE=image/jpeg:https://villaelisa.gov.ar/wp-content/uploads/2026/02/Muestra-temporal-2026-Villa-Elisa-en-el-tiempo-2-1.jpeg
END:VEVENT
BEGIN:VEVENT
DTSTART;TZID=America/Argentina/Buenos_Aires:20260314T100000
DTEND;TZID=America/Argentina/Buenos_Aires:20260314T193000
DTSTAMP:20260422T222715
CREATED:20260310T142955Z
LAST-MODIFIED:20260310T142955Z
UID:10009359-1773482400-1773516600@villaelisa.gov.ar
SUMMARY:Mujerío Vol. 7
DESCRIPTION:Será un hemoso encuentro para compartir talleres\, teatro\, exposiciones\, danzas\, show en vivo. Te esperamos!!!
URL:https://villaelisa.gov.ar/evento/mujerio-vol-7/
LOCATION:Asociación Civil La Fragua\, Héctor de Elía 1489\, Villa Elisa\, 3265
ATTACH;FMTTYPE=image/jpeg:https://villaelisa.gov.ar/wp-content/uploads/2026/03/WhatsApp-Image-2026-03-10-at-11.25.13-AM.jpeg
END:VEVENT
BEGIN:VEVENT
DTSTART;TZID=America/Argentina/Buenos_Aires:20260314T150000
DTEND;TZID=America/Argentina/Buenos_Aires:20260314T190000
DTSTAMP:20260422T222715
CREATED:20260310T124802Z
LAST-MODIFIED:20260312T161559Z
UID:10009358-1773500400-1773514800@villaelisa.gov.ar
SUMMARY:ÚLTIMA FERIA DE PATITAS DEL VERANO🐾
DESCRIPTION:  \nEste viernes y sábado desde las 15 hs te esperamos en el Salón del Centro Unión de Jubilados (El Ñandubay 1075\, frente a Plaza Moreno) para disfrutar de nuestra feria solidaria. \n👕 ¡Muchísima ropa a $2.000!\n👚 2 prendas por $3.000\n👟 También vas a encontrar calzado para toda la familia\, adornos\, accesorios y muchas cosas más. \n💛 Todo lo recaudado es para cubrir los gastos de los perritos del Refugio. \nTu ayuda hace la diferencia para ellos 🐶\nTe esperamos!!!
URL:https://villaelisa.gov.ar/evento/ultima-feria-de-patitas-del-verano%f0%9f%90%be/2026-03-14/
LOCATION:Centro Unión de Jubilados\, El Ñandubay 1475
ATTACH;FMTTYPE=image/jpeg:https://villaelisa.gov.ar/wp-content/uploads/2026/03/WhatsApp-Image-2026-03-10-at-1.31.30-PM.jpeg
END:VEVENT
BEGIN:VEVENT
DTSTART;TZID=America/Argentina/Buenos_Aires:20260314T180000
DTEND;TZID=America/Argentina/Buenos_Aires:20260314T190000
DTSTAMP:20260422T222715
CREATED:20260311T145008Z
LAST-MODIFIED:20260311T145008Z
UID:10009361-1773511200-1773514800@villaelisa.gov.ar
SUMMARY:Misa Capilla San Benito
DESCRIPTION:Celebración de la Santa Misa en Capilla San Benito de Colonia La Suiza
URL:https://villaelisa.gov.ar/evento/misa-capilla-san-benito/
LOCATION:Capilla San Benito La Suiza\, Col La Suiza
ATTACH;FMTTYPE=image/jpeg:https://villaelisa.gov.ar/wp-content/uploads/2026/03/WhatsApp-Image-2026-03-10-at-7.27.16-PM.jpeg
END:VEVENT
BEGIN:VEVENT
DTSTART;TZID=America/Argentina/Buenos_Aires:20260314T210000
DTEND;TZID=America/Argentina/Buenos_Aires:20260315T010000
DTSTAMP:20260422T222715
CREATED:20260212T182127Z
LAST-MODIFIED:20260312T164539Z
UID:10009158-1773522000-1773536400@villaelisa.gov.ar
SUMMARY:Cena Show en "El Paso"
DESCRIPTION:El mejor plan para una hermosa noche con platos exquisitos\, música en vivo y momentos inolvidables.
URL:https://villaelisa.gov.ar/evento/cena-show-en-el-paso-2/
LOCATION:Parrilla El Paso\, Av. Urquiza 3145\, Villa Elisa\, 3265
ATTACH;FMTTYPE=image/jpeg:https://villaelisa.gov.ar/wp-content/uploads/2026/02/WhatsApp-Image-2026-03-12-at-12.51.14-PM.jpeg
END:VEVENT
BEGIN:VEVENT
DTSTART;TZID=America/Argentina/Buenos_Aires:20260314T210000
DTEND;TZID=America/Argentina/Buenos_Aires:20260315T023000
DTSTAMP:20260422T222715
CREATED:20260219T124205Z
LAST-MODIFIED:20260313T132915Z
UID:10009170-1773522000-1773541800@villaelisa.gov.ar
SUMMARY:Súper Bailazo en Club Vázquez
DESCRIPTION:Veni a este súper bailazo con grandes músicos que nos alegraran toda la noche
URL:https://villaelisa.gov.ar/evento/super-bailazo-en-club-vazquez/
LOCATION:Club Vazquez\, Ruta provincial 23\, km8\, Villa Elisa\, Entre Rios\, 3265\, Argentina
ATTACH;FMTTYPE=image/jpeg:https://villaelisa.gov.ar/wp-content/uploads/2026/02/WhatsApp-Image-2026-03-13-at-10.27.57-AM.jpeg
END:VEVENT
BEGIN:VEVENT
DTSTART;TZID=America/Argentina/Buenos_Aires:20260314T210000
DTEND;TZID=America/Argentina/Buenos_Aires:20260315T030000
DTSTAMP:20260422T222715
CREATED:20260224T135911Z
LAST-MODIFIED:20260224T135911Z
UID:10009204-1773522000-1773543600@villaelisa.gov.ar
SUMMARY:Gran Baile
DESCRIPTION:SÁBADO 14 DE MARZO \nGRAN BAILE CON BETOLA BOURLOT “EL VAGABUNDO”.
URL:https://villaelisa.gov.ar/evento/gran-baile-5/
LOCATION:Centro María Auxiliadora\, H. Irigoyen 1269\, Villa Elisa
ATTACH;FMTTYPE=image/jpeg:https://villaelisa.gov.ar/wp-content/uploads/2026/02/InShot_20260224_102452657.jpg
END:VEVENT
END:VCALENDAR