BEGIN:VCALENDAR
VERSION:2.0
PRODID:-//Municipalidad de Villa Elisa, Entre Ríos - ECPv6.6.4.2//NONSGML v1.0//EN
CALSCALE:GREGORIAN
METHOD:PUBLISH
X-WR-CALNAME:Municipalidad de Villa Elisa, Entre Ríos
X-ORIGINAL-URL:https://villaelisa.gov.ar
X-WR-CALDESC:Eventos para Municipalidad de Villa Elisa, Entre Ríos
REFRESH-INTERVAL;VALUE=DURATION:PT1H
X-Robots-Tag:noindex
X-PUBLISHED-TTL:PT1H
BEGIN:VTIMEZONE
TZID:America/Argentina/Buenos_Aires
BEGIN:STANDARD
TZOFFSETFROM:-0300
TZOFFSETTO:-0300
TZNAME:-03
DTSTART:20260101T000000
END:STANDARD
END:VTIMEZONE
BEGIN:VEVENT
DTSTART;TZID=America/Argentina/Buenos_Aires:20260314T210000
DTEND;TZID=America/Argentina/Buenos_Aires:20260315T010000
DTSTAMP:20260422T222741
CREATED:20260212T182127Z
LAST-MODIFIED:20260312T164539Z
UID:10009158-1773522000-1773536400@villaelisa.gov.ar
SUMMARY:Cena Show en "El Paso"
DESCRIPTION:El mejor plan para una hermosa noche con platos exquisitos\, música en vivo y momentos inolvidables.
URL:https://villaelisa.gov.ar/evento/cena-show-en-el-paso-2/
LOCATION:Parrilla El Paso\, Av. Urquiza 3145\, Villa Elisa\, 3265
ATTACH;FMTTYPE=image/jpeg:https://villaelisa.gov.ar/wp-content/uploads/2026/02/WhatsApp-Image-2026-03-12-at-12.51.14-PM.jpeg
END:VEVENT
BEGIN:VEVENT
DTSTART;TZID=America/Argentina/Buenos_Aires:20260314T210000
DTEND;TZID=America/Argentina/Buenos_Aires:20260315T023000
DTSTAMP:20260422T222741
CREATED:20260219T124205Z
LAST-MODIFIED:20260313T132915Z
UID:10009170-1773522000-1773541800@villaelisa.gov.ar
SUMMARY:Súper Bailazo en Club Vázquez
DESCRIPTION:Veni a este súper bailazo con grandes músicos que nos alegraran toda la noche
URL:https://villaelisa.gov.ar/evento/super-bailazo-en-club-vazquez/
LOCATION:Club Vazquez\, Ruta provincial 23\, km8\, Villa Elisa\, Entre Rios\, 3265\, Argentina
ATTACH;FMTTYPE=image/jpeg:https://villaelisa.gov.ar/wp-content/uploads/2026/02/WhatsApp-Image-2026-03-13-at-10.27.57-AM.jpeg
END:VEVENT
BEGIN:VEVENT
DTSTART;TZID=America/Argentina/Buenos_Aires:20260314T210000
DTEND;TZID=America/Argentina/Buenos_Aires:20260315T030000
DTSTAMP:20260422T222741
CREATED:20260224T135911Z
LAST-MODIFIED:20260224T135911Z
UID:10009204-1773522000-1773543600@villaelisa.gov.ar
SUMMARY:Gran Baile
DESCRIPTION:SÁBADO 14 DE MARZO \nGRAN BAILE CON BETOLA BOURLOT “EL VAGABUNDO”.
URL:https://villaelisa.gov.ar/evento/gran-baile-5/
LOCATION:Centro María Auxiliadora\, H. Irigoyen 1269\, Villa Elisa
ATTACH;FMTTYPE=image/jpeg:https://villaelisa.gov.ar/wp-content/uploads/2026/02/InShot_20260224_102452657.jpg
END:VEVENT
BEGIN:VEVENT
DTSTART;TZID=America/Argentina/Buenos_Aires:20260315T100000
DTEND;TZID=America/Argentina/Buenos_Aires:20260315T130000
DTSTAMP:20260422T222741
CREATED:20241104T113404Z
LAST-MODIFIED:20241104T113404Z
UID:10002264-1773568800-1773579600@villaelisa.gov.ar
SUMMARY:Auto Tour
DESCRIPTION:TRAVELING VINA:  \nEs un servicio  extra\, que ofrece el complejo de Alojamientos “V I N A” \nExperiencia Rurales\, AUTO TOUR:  \nPlanificamos y coordinamos recorridos por bodegas\, fábricas de productos regionales\, y almacenes locales\, te llevamos a descubrir La Colonia\, cultura local y los paisajes mas hermosos de nuestra Tierra de Palmares.- \nOrganizado por Perla Lopez – \nReservas con anticipación: contacto 3447503491.- \nValor del recorrido: según destino elegido. \nTiempo demandado: aproximadamente 3 horas.- \nEl objetivo es formar una caravana\, con los vehículos de los interesados y hacer\, una mañana o una tarde de recorridos a los diferentes atractivos de nuestra zona  \nprevia coordinación.- \nPunto de salida: oficina de Turismo Villa Elisa.-
URL:https://villaelisa.gov.ar/evento/auto-tour/2026-03-15/
ATTACH;FMTTYPE=image/jpeg:https://villaelisa.gov.ar/wp-content/uploads/2024/11/Traveling-vina.jpg
END:VEVENT
BEGIN:VEVENT
DTSTART;TZID=America/Argentina/Buenos_Aires:20260315T100000
DTEND;TZID=America/Argentina/Buenos_Aires:20260315T190000
DTSTAMP:20260422T222741
CREATED:20260220T210452Z
LAST-MODIFIED:20260220T210452Z
UID:10009200-1773568800-1773601200@villaelisa.gov.ar
SUMMARY:Muestra fotográfica “Villa Elisa en el tiempo: una mirada a los 135 años de historia”
DESCRIPTION:De 10:00 a 13:00 y de 16:00 a 19:00 horas\, te invitamos a recorrer\, a través de esta muestra fotográfica\, la transformación urbana y social de nuestra ciudad a lo largo del tiempo.\nLa exposición reúne fotos históricas de distintos espacios de Villa Elisa junto a sus réplicas actuales\, generando un diálogo visual entre pasado y presente. \nEl valor del bono contribución de ingreso es de $2000 general y $1500 para menores entre 6 y 12 años inclusive\, jubilados y residentes de la micro región “Tierra de Palmares”. \nContacto: 3447436203 – www.museoelporvenir.com.ar
URL:https://villaelisa.gov.ar/evento/muestra-fotografica-villa-elisa-en-el-tiempo-una-mirada-a-los-135-anos-de-historia-5/2026-03-15/
LOCATION:Estancia Museo “El Porvenir”
ATTACH;FMTTYPE=image/jpeg:https://villaelisa.gov.ar/wp-content/uploads/2026/02/Muestra-temporal-2026-Villa-Elisa-en-el-tiempo-2-1.jpeg
END:VEVENT
BEGIN:VEVENT
DTSTART;TZID=America/Argentina/Buenos_Aires:20260315T143000
DTEND;TZID=America/Argentina/Buenos_Aires:20260315T190000
DTSTAMP:20260422T222741
CREATED:20260313T132815Z
LAST-MODIFIED:20260313T132815Z
UID:10009367-1773585000-1773601200@villaelisa.gov.ar
SUMMARY:Fútbol Departamental
DESCRIPTION:Domingo en el “2 de junio” Cave recibe a Sauce por la segunda fecha del Torneo Apertura. \n🕢 3ra: 14.30hs | 1ra: 16.45hs.
URL:https://villaelisa.gov.ar/evento/futbol-departamental-14/
LOCATION:CAVE Estadio 2 de Junio
ATTACH;FMTTYPE=image/jpeg:https://villaelisa.gov.ar/wp-content/uploads/2026/03/WhatsApp-Image-2026-03-13-at-10.24.12-AM.jpeg
END:VEVENT
BEGIN:VEVENT
DTSTART;TZID=America/Argentina/Buenos_Aires:20260315T190000
DTEND;TZID=America/Argentina/Buenos_Aires:20260315T223000
DTSTAMP:20260422T222741
CREATED:20260304T143104Z
LAST-MODIFIED:20260304T143104Z
UID:10009339-1773601200-1773613800@villaelisa.gov.ar
SUMMARY:🎉✨ Gran Bingo Benéfico ✨🎉
DESCRIPTION:Te invitamos a compartir una tardecita llena de diversión\, premios y solidaridad 💖 \nEl 15 de marzo en Salón Jockey Club a las 19 hs \nHabrá increíbles premios\, sorteos especiales y venta de tortas fritas junto a algunas cositas más.¡Sumate y colaborá con una gran causa! \n💗 Organiza: LALCEC🎟️ ¡Te esperamos!
URL:https://villaelisa.gov.ar/evento/%f0%9f%8e%89%e2%9c%a8-gran-bingo-benefico-%e2%9c%a8%f0%9f%8e%89/
LOCATION:Salón Jockey Club Villa Elisa
ATTACH;FMTTYPE=image/jpeg:https://villaelisa.gov.ar/wp-content/uploads/2026/03/WhatsApp-Image-2026-03-04-at-10.07.20-AM.jpeg
END:VEVENT
END:VCALENDAR