BEGIN:VCALENDAR
VERSION:2.0
PRODID:-//Municipalidad de Villa Elisa, Entre Ríos - ECPv6.6.4.2//NONSGML v1.0//EN
CALSCALE:GREGORIAN
METHOD:PUBLISH
X-ORIGINAL-URL:https://villaelisa.gov.ar
X-WR-CALDESC:Eventos para Municipalidad de Villa Elisa, Entre Ríos
REFRESH-INTERVAL;VALUE=DURATION:PT1H
X-Robots-Tag:noindex
X-PUBLISHED-TTL:PT1H
BEGIN:VTIMEZONE
TZID:America/Argentina/Buenos_Aires
BEGIN:STANDARD
TZOFFSETFROM:-0300
TZOFFSETTO:-0300
TZNAME:-03
DTSTART:20260101T000000
END:STANDARD
END:VTIMEZONE
BEGIN:VEVENT
DTSTART;TZID=America/Argentina/Buenos_Aires:20260322T210000
DTEND;TZID=America/Argentina/Buenos_Aires:20260323T003000
DTSTAMP:20260422T195009
CREATED:20260318T140554Z
LAST-MODIFIED:20260318T140554Z
UID:10009392-1774213200-1774225800@villaelisa.gov.ar
SUMMARY:Cena Show en "El Paso"
DESCRIPTION:Vení a disfrutar de una experiencia única donde vas a poder degustar exquisitos menús\, con lo mejor de la parrilla y platos abundantes\, en un ambiente cálido y familiar. \nAdemás\, viví una noche diferente con show musical en vivo\, ideal para compartir con amigos o en familia.
URL:https://villaelisa.gov.ar/evento/cena-show-en-el-paso-14/
ATTACH;FMTTYPE=image/jpeg:https://villaelisa.gov.ar/wp-content/uploads/2026/03/WhatsApp-Image-2026-03-18-at-7.54.31-AM-1.jpeg
END:VEVENT
BEGIN:VEVENT
DTSTART;TZID=America/Argentina/Buenos_Aires:20260322T210000
DTEND;TZID=America/Argentina/Buenos_Aires:20260323T003000
DTSTAMP:20260422T195009
CREATED:20260319T123532Z
LAST-MODIFIED:20260319T123532Z
UID:10009393-1774213200-1774225800@villaelisa.gov.ar
SUMMARY:"Somos Asi" en El Paisanito
DESCRIPTION: ¡EL PLAN PERFECTO EXISTE! \nSi buscás el mejor lugar\, la mejor comida y la mejor música en vivo\, este es el lugar que no te podés perder… \n🍽️ Menúes exquisitos que te van a sorprender\n🎶 Todo el ritmo y la buena energía de Somos Así\n💃 En un ambiente único para disfrutar sin parar \n✨ Una experiencia que se vive de verdad ✨ \n  \n 
URL:https://villaelisa.gov.ar/evento/somos-asi-en-el-paisanito/
LOCATION:El Paisanito\, Bv. Schroeder 1430\, Villa Elisa\, 3265
ATTACH;FMTTYPE=image/png:https://villaelisa.gov.ar/wp-content/uploads/2026/03/somos-asi-el-paisa.png
END:VEVENT
BEGIN:VEVENT
DTSTART;TZID=America/Argentina/Buenos_Aires:20260323T100000
DTEND;TZID=America/Argentina/Buenos_Aires:20260323T113000
DTSTAMP:20260422T195009
CREATED:20260317T135327Z
LAST-MODIFIED:20260317T135327Z
UID:10009385-1774260000-1774265400@villaelisa.gov.ar
SUMMARY:Caminatur
DESCRIPTION:No es solo un city tour…\nes una invitación a sentir la ciudad. \nA caminar sin prisa\,\na escuchar las historias que viven en sus calles\,\na descubrir rincones que emocionan\ncuando se mira distinto\ny se recorre con todos los sentidos. \nCosto colaboración a voluntad. \n📞 Reservas: 3447 456151\n👩‍🦰 Graciela Antonin\nGuía Nacional de Turismo – UADER\nMatrícula Nº 0054\nCoProTuer
URL:https://villaelisa.gov.ar/evento/caminatur-10/2026-03-23/
ATTACH;FMTTYPE=image/jpeg:https://villaelisa.gov.ar/wp-content/uploads/2026/03/WhatsApp-Image-2026-03-17-at-10.41.59-AM.jpeg
END:VEVENT
BEGIN:VEVENT
DTSTART;TZID=America/Argentina/Buenos_Aires:20260323T100000
DTEND;TZID=America/Argentina/Buenos_Aires:20260323T190000
DTSTAMP:20260422T195009
CREATED:20260316T202426Z
LAST-MODIFIED:20260316T202426Z
UID:10009379-1774260000-1774292400@villaelisa.gov.ar
SUMMARY:Muestra fotográfica “Villa Elisa en el tiempo: una mirada a los 135 años de historia”
DESCRIPTION:De 10:00 a 13:00 y de 16:00 a 19:00 horas\, te invitamos a recorrer\, a través de esta muestra fotográfica\, la transformación urbana y social de nuestra ciudad a lo largo del tiempo.\nLa exposición reúne fotos históricas de distintos espacios de Villa Elisa junto a sus réplicas actuales\, generando un diálogo visual entre pasado y presente. \nEl valor del bono contribución de ingreso es de $2000 general y $1500 para menores entre 6 y 12 años inclusive\, jubilados y residentes de la micro región “Tierra de Palmares”. \nContacto: 3447436203 – www.museoelporvenir.com.ar
URL:https://villaelisa.gov.ar/evento/muestra-fotografica-villa-elisa-en-el-tiempo-una-mirada-a-los-135-anos-de-historia-6/2026-03-23/
LOCATION:Estancia Museo “El Porvenir”
ATTACH;FMTTYPE=image/jpeg:https://villaelisa.gov.ar/wp-content/uploads/2026/02/Muestra-temporal-2026-Villa-Elisa-en-el-tiempo-2.jpeg
END:VEVENT
BEGIN:VEVENT
DTSTART;TZID=America/Argentina/Buenos_Aires:20260323T103000
DTEND;TZID=America/Argentina/Buenos_Aires:20260323T173000
DTSTAMP:20260422T195009
CREATED:20260306T201624Z
LAST-MODIFIED:20260306T201624Z
UID:10009350-1774261800-1774287000@villaelisa.gov.ar
SUMMARY:Visitas Guiadas en Estancia Museo El Porvenir
DESCRIPTION:Domingo 22 y lunes 23 a las 10:30\, 12:00\, 16:30 y 17:30 horas\,  pueden realizarse las visitas guiadas gratuitas por la Estancia. \nSi se lo desea\, se puede visitar el lugar en forma independiente (sin visita guiada) de 10:00 a 13:00 y de 16:00 a 19:00 horas\, recordando que también está habilitado el sector del parque recreativo. \nEl valor del bono contribución de ingreso es de $2000 general y $1500 para menores entre 6 y 12 años inclusive\, jubilados y residentes de la micro región “Tierra de Palmares”. \nContacto: 3447436203 – www.museoelporvenir.com.ar
URL:https://villaelisa.gov.ar/evento/visitas-guiadas-en-estancia-museo-el-porvenir-18/2026-03-23/
LOCATION:Estancia Museo “El Porvenir”
ATTACH;FMTTYPE=image/jpeg:https://villaelisa.gov.ar/wp-content/uploads/2026/03/Fin-de-semana-largo-21-al-24-de-marzo-2026-feed.jpeg
END:VEVENT
BEGIN:VEVENT
DTSTART;TZID=America/Argentina/Buenos_Aires:20260323T150000
DTEND;TZID=America/Argentina/Buenos_Aires:20260323T190000
DTSTAMP:20260422T195009
CREATED:20260303T133233Z
LAST-MODIFIED:20260317T141340Z
UID:10009388-1774278000-1774292400@villaelisa.gov.ar
SUMMARY:Estación Elisa – Ferroclub Central Entrerriano
DESCRIPTION:Sábado\, Domingo y Lunes  desde 15:00 hs. estará abierta la estación Elisa donde encontrarás maquinarias y elementos de época\, a las 15:30 y 18 horas habrá paseos en el tren histórico turístico para vivir una gran experiencia. \nCalle Centenario 2200 \nConsultas al 3442 551086
URL:https://villaelisa.gov.ar/evento/estacion-elisa-ferroclub-central-entrerriano-14-2/2026-03-23/
LOCATION:Estación ferroviaria Villa Elisa
ATTACH;FMTTYPE=image/jpeg:https://villaelisa.gov.ar/wp-content/uploads/2026/03/WhatsApp-Image-2026-03-17-at-10.58.48-AM.jpeg
END:VEVENT
BEGIN:VEVENT
DTSTART;TZID=America/Argentina/Buenos_Aires:20260323T190000
DTEND;TZID=America/Argentina/Buenos_Aires:20260324T010000
DTSTAMP:20260422T195009
CREATED:20260316T130409Z
LAST-MODIFIED:20260316T130409Z
UID:10009368-1774292400-1774314000@villaelisa.gov.ar
SUMMARY:LUNES DE BAILE
DESCRIPTION:LUNES 23 DE MARZO \nBAILAMOS PARA RECIBIR EL FERIADO
URL:https://villaelisa.gov.ar/evento/lunes-de-baile/
LOCATION:Centro María Auxiliadora\, H. Irigoyen 1269\, Villa Elisa
ATTACH;FMTTYPE=image/jpeg:https://villaelisa.gov.ar/wp-content/uploads/2026/03/InShot_20260316_084020936-scaled.jpg
END:VEVENT
END:VCALENDAR