BEGIN:VCALENDAR
VERSION:2.0
PRODID:-//Municipalidad de Villa Elisa, Entre Ríos - ECPv6.6.4.2//NONSGML v1.0//EN
CALSCALE:GREGORIAN
METHOD:PUBLISH
X-ORIGINAL-URL:https://villaelisa.gov.ar
X-WR-CALDESC:Eventos para Municipalidad de Villa Elisa, Entre Ríos
REFRESH-INTERVAL;VALUE=DURATION:PT1H
X-Robots-Tag:noindex
X-PUBLISHED-TTL:PT1H
BEGIN:VTIMEZONE
TZID:America/Argentina/Buenos_Aires
BEGIN:STANDARD
TZOFFSETFROM:-0300
TZOFFSETTO:-0300
TZNAME:-03
DTSTART:20260101T000000
END:STANDARD
END:VTIMEZONE
BEGIN:VEVENT
DTSTART;TZID=America/Argentina/Buenos_Aires:20260328T160000
DTEND;TZID=America/Argentina/Buenos_Aires:20260328T190000
DTSTAMP:20260422T195009
CREATED:20260312T163157Z
LAST-MODIFIED:20260312T163628Z
UID:10009364-1774713600-1774724400@villaelisa.gov.ar
SUMMARY:Taller Teórico Práctico
DESCRIPTION:Las danzas del litoral también cuentan la historia de nuestro pueblo \nEstrella Federal junto a la Biblioteca Popular General Mitre realizaremos la presentación del libro Danzas\, bailes y costumbres del litoral argentino\, de la profesora e investigadora Claudia García. \n📚La jornada incluirá la presentación de la obra y un taller teórico-práctico de danzas del litoral\, donde se abordarán ritmos\, estilos y tradiciones que forman parte de nuestra identidad cultural. \nUn encuentro para aprender\, bailar y seguir manteniendo viva nuestra cultura. ✨ \n📍 Biblioteca Popular General Mitre – Villa Elisa\n🗓 Sábado 28 de marzo – 16:00 hs \nInscripciones:\n📞 Biblioteca Popular Mitre: 3447-642088 (de 9 a 16 hs)\n📞 Estrella Federal: 3442-679873
URL:https://villaelisa.gov.ar/evento/taller-teorico-practico/
LOCATION:Biblioteca Popular General Mitre\, Av. Mitre 1160\, Villa Elisa\, 3265
ATTACH;FMTTYPE=image/jpeg:https://villaelisa.gov.ar/wp-content/uploads/2026/03/WhatsApp-Image-2026-03-12-at-1.27.11-PM.jpeg
END:VEVENT
BEGIN:VEVENT
DTSTART;TZID=America/Argentina/Buenos_Aires:20260328T170000
DTEND;TZID=America/Argentina/Buenos_Aires:20260328T193000
DTSTAMP:20260422T195009
CREATED:20260317T140714Z
LAST-MODIFIED:20260328T121451Z
UID:10009426-1774717200-1774726200@villaelisa.gov.ar
SUMMARY:Estación Elisa – Ferroclub Central Entrerriano
DESCRIPTION:Sábado\, Domingo  desde 17:00 hs. estará abierta la estación Elisa donde encontrarás maquinarias y elementos de época\, a las 18 horas habrá paseos en el tren histórico turístico para vivir una gran experiencia. \nCalle Centenario 2200 \nConsultas al 3442 551086
URL:https://villaelisa.gov.ar/evento/estacion-elisa-ferroclub-central-entrerriano-14-2-3/2026-03-28/
LOCATION:Estación ferroviaria Villa Elisa
ATTACH;FMTTYPE=image/jpeg:https://villaelisa.gov.ar/wp-content/uploads/2026/03/WhatsApp-Image-2026-03-27-at-21.08.22.jpeg
END:VEVENT
BEGIN:VEVENT
DTSTART;TZID=America/Argentina/Buenos_Aires:20260328T210000
DTEND;TZID=America/Argentina/Buenos_Aires:20260328T210000
DTSTAMP:20260422T195009
CREATED:20260406T132810Z
LAST-MODIFIED:20260406T132810Z
UID:10009467-1774731600-1774731600@villaelisa.gov.ar
SUMMARY:2da. Fecha del ciclo Mujeres a las Tablas
DESCRIPTION:El Sábado 28 de Marzo a las 21 hs. \n📍En La Fragua\, Villa Elisa \nLlega desde Colón “El regreso de los pájaros” \, unipersonal de danza clown de Victoria Vinzón\, actriz\, productora general y autora de esta obra. \nEl regreso de los pájaros propone un recorrido por el paisaje del campo entrerriano donde la realidad y el recuerdo se bifurcan\, abriendo paso a situaciones tan absurdas como poéticas.\nAurora\, una joven de modales refinados y apariencia elegante\, irrumpe en ese paisaje llevando consigo una cartera de la que comienzan a surgir herramientas\, objetos y recuerdos que revelan lentamente sus paisajes internos.\nEn escena conviven la brutalidad humana y la ingenuidad de lo silvestre\, en un delirio escénico que\, a través del humor\, la danza y el lenguaje del clown\, cuestiona nuestra mirada cosificadora sobre la naturaleza. \nLuego de la función\, conversamos con la artista\, una instancia para que nos cuente cómo lo hizo y responda las preguntas del público\, en un ambiente distendido. \nTendremos servicio de cantina desde las 20:30 hs. \n🎟️ este ciclo es con entrada gratis y salida a la gorra. \nLos esperamos!! \nOrganiza: Malarriadas
URL:https://villaelisa.gov.ar/evento/2da-fecha-del-ciclo-mujeres-a-las-tablas/
LOCATION:Asociación Civil La Fragua\, Héctor de Elía 1489\, Villa Elisa\, 3265
ATTACH;FMTTYPE=image/png:https://villaelisa.gov.ar/wp-content/uploads/2026/03/el-regreso-de-los-pajaros-p-feed-150.png
END:VEVENT
BEGIN:VEVENT
DTSTART;TZID=America/Argentina/Buenos_Aires:20260328T210000
DTEND;TZID=America/Argentina/Buenos_Aires:20260328T223000
DTSTAMP:20260422T195009
CREATED:20260328T144855Z
LAST-MODIFIED:20260328T144855Z
UID:10009428-1774731600-1774737000@villaelisa.gov.ar
SUMMARY:El Regreso de los Pájaros
DESCRIPTION:Llega desde Colón El regreso de los pájaros\, de Victoria Vinzón\, a La Fragua. \nAurora vuelve a su lugar después de muchos años en la ciudad. Pero el paisaje ya no es el mismo…\nEntre la aparente calma\, la naturaleza y los recuerdos\, comienza a revelarse aquello que se esconde detrás de los buenos modales. \nY una pregunta se abre paso:\n👉 ¿Qué hay del otro lado del río? \n🌻 Una obra poética\, sensible y profundamente nuestra para mirar distinto\n🎩 Función a la gorra. \nOrganizan: Malarriadas / Contier / La Fragua \nEntrada libre y salida colaboración a la gorra.
URL:https://villaelisa.gov.ar/evento/el-regreso-de-los-pajaros/
LOCATION:Centro cultural “La fragua”
ATTACH;FMTTYPE=image/png:https://villaelisa.gov.ar/wp-content/uploads/2026/03/el-regreso-de-los-pajaros-p-feed-150.png
END:VEVENT
BEGIN:VEVENT
DTSTART;TZID=America/Argentina/Buenos_Aires:20260328T210000
DTEND;TZID=America/Argentina/Buenos_Aires:20260329T023000
DTSTAMP:20260422T195009
CREATED:20260313T131625Z
LAST-MODIFIED:20260313T131625Z
UID:10009366-1774731600-1774751400@villaelisa.gov.ar
SUMMARY:Gran Noche Bailable
DESCRIPTION:💃🕺 Como siempre\, los bailes más lindos para disfrutar a puro ritmo. \nEsta vez nos visita el espectacular Grupo Cinco\, y desde Santa Fe llega El Combo 10 para ponerle toda la música y la alegría a una noche imperdible. \n¡Vení a divertirte y a bailar toda la noche ! 🎶✨
URL:https://villaelisa.gov.ar/evento/gran-noche-bailable/
LOCATION:Club Huracán Colonia Hocker\, Villa Elisa\, Entre Rios\, 3265\, Argentina
ATTACH;FMTTYPE=image/jpeg:https://villaelisa.gov.ar/wp-content/uploads/2026/03/WhatsApp-Image-2026-03-13-at-9.59.22-AM.jpeg
END:VEVENT
END:VCALENDAR