BEGIN:VCALENDAR
VERSION:2.0
PRODID:-//Municipalidad de Villa Elisa, Entre Ríos - ECPv6.6.4.2//NONSGML v1.0//EN
CALSCALE:GREGORIAN
METHOD:PUBLISH
X-WR-CALNAME:Municipalidad de Villa Elisa, Entre Ríos
X-ORIGINAL-URL:https://villaelisa.gov.ar
X-WR-CALDESC:Eventos para Municipalidad de Villa Elisa, Entre Ríos
REFRESH-INTERVAL;VALUE=DURATION:PT1H
X-Robots-Tag:noindex
X-PUBLISHED-TTL:PT1H
BEGIN:VTIMEZONE
TZID:America/Argentina/Buenos_Aires
BEGIN:STANDARD
TZOFFSETFROM:-0300
TZOFFSETTO:-0300
TZNAME:-03
DTSTART:20260101T000000
END:STANDARD
END:VTIMEZONE
BEGIN:VEVENT
DTSTART;TZID=America/Argentina/Buenos_Aires:20260403T100000
DTEND;TZID=America/Argentina/Buenos_Aires:20260403T180000
DTSTAMP:20260422T180958
CREATED:20260206T195045Z
LAST-MODIFIED:20260401T123440Z
UID:10009450-1775210400-1775239200@villaelisa.gov.ar
SUMMARY:Almacén Francou en Semana Santa
DESCRIPTION:En una visita al histórico Almacén Francou tendrás la posibilidad de compartir actividades fascinantes e inolvidables. \nDe Jueves a Sabado de 10 a 18 Hs \n 
URL:https://villaelisa.gov.ar/evento/almacen-francou-en-carnaval/2026-04-03/
LOCATION:Almacén de Ramos Generales Francou\, Colonia del Carmen\, Villa Elisa\, Entre Rios\, 3265\, Argentina
ATTACH;FMTTYPE=image/jpeg:https://villaelisa.gov.ar/wp-content/uploads/2026/02/WhatsApp-Image-2026-04-01-at-8.47.01-AM.jpeg
END:VEVENT
BEGIN:VEVENT
DTSTART;TZID=America/Argentina/Buenos_Aires:20260403T100000
DTEND;TZID=America/Argentina/Buenos_Aires:20260403T200000
DTSTAMP:20260422T180958
CREATED:20260221T174951Z
LAST-MODIFIED:20260403T144528Z
UID:10009202-1775210400-1775246400@villaelisa.gov.ar
SUMMARY:Actividades en Complejo Termal
DESCRIPTION:Una hermosa jornada para compartir en nuestro Complejo Termal
URL:https://villaelisa.gov.ar/evento/actividades-en-complejo-termal/
LOCATION:Termas Villa Elisa
ATTACH;FMTTYPE=image/jpeg:https://villaelisa.gov.ar/wp-content/uploads/2026/02/WhatsApp-Image-2026-04-03-at-11.04.47-AM.jpeg
END:VEVENT
BEGIN:VEVENT
DTSTART;TZID=America/Argentina/Buenos_Aires:20260403T103000
DTEND;TZID=America/Argentina/Buenos_Aires:20260403T173000
DTSTAMP:20260422T180958
CREATED:20260330T200616Z
LAST-MODIFIED:20260330T200616Z
UID:10009440-1775212200-1775237400@villaelisa.gov.ar
SUMMARY:Visitas Guiadas en Estancia Museo El Porvenir
DESCRIPTION:Viernes 3 y sábado 4 de abril a las 10:30\, 12:00\, 16:30 y 17:30 horas\,  pueden realizarse las visitas guiadas gratuitas por la Estancia. \nSi se lo desea\, se puede visitar el lugar en forma independiente (sin visita guiada) de 10:00 a 13:00 y de 16:00 a 19:00 horas\, recordando que también está habilitado el sector del parque recreativo. \nEl valor del bono contribución de ingreso es de $2000 general y $1500 para menores entre 6 y 12 años inclusive\, jubilados y residentes de la micro región “Tierra de Palmares”. \nContacto: 3447436203 – www.museoelporvenir.com.ar
URL:https://villaelisa.gov.ar/evento/visitas-guiadas-en-estancia-museo-el-porvenir-20/2026-04-03/
LOCATION:Estancia Museo “El Porvenir”
ATTACH;FMTTYPE=image/jpeg:https://villaelisa.gov.ar/wp-content/uploads/2026/03/1.4-horario-fin-de-semana-largo.jpeg
END:VEVENT
BEGIN:VEVENT
DTSTART;TZID=America/Argentina/Buenos_Aires:20260403T113000
DTEND;TZID=America/Argentina/Buenos_Aires:20260403T170000
DTSTAMP:20260422T180958
CREATED:20260401T160052Z
LAST-MODIFIED:20260401T181206Z
UID:10009454-1775215800-1775235600@villaelisa.gov.ar
SUMMARY:Almacén Don Leandro
DESCRIPTION:Visita y relato de nuestros orígenes Alpinos\,degustación de Licores y Almuerzos.
URL:https://villaelisa.gov.ar/evento/almacen-don-leandro-10/2026-04-03/
ATTACH;FMTTYPE=image/jpeg:https://villaelisa.gov.ar/wp-content/uploads/2026/04/IMG-20260325-WA0111-4.jpg
END:VEVENT
BEGIN:VEVENT
DTSTART;TZID=America/Argentina/Buenos_Aires:20260403T150000
DTEND;TZID=America/Argentina/Buenos_Aires:20260403T193000
DTSTAMP:20260422T180958
CREATED:20260328T152238Z
LAST-MODIFIED:20260330T194129Z
UID:10009432-1775228400-1775244600@villaelisa.gov.ar
SUMMARY:Tren Histórico
DESCRIPTION:Jueves\, Viernes\, Sábado y Domingo desde 10:00 hs. estará abierta la estación Elisa donde encontrarás para observar maquinarias y elementos de época\, a las 10\,30\,15:30 y 18 horas habrá paseos en el tren histórico turístico para vivir una gran experiencia. \nCalle Centenario 2200 \nConsultas al 3442 551086
URL:https://villaelisa.gov.ar/evento/tren-historico/2026-04-03/
LOCATION:Estación ferroviaria Villa Elisa
ATTACH;FMTTYPE=image/jpeg:https://villaelisa.gov.ar/wp-content/uploads/2026/03/WhatsApp-Image-2026-03-30-at-4.38.15-PM.jpeg
END:VEVENT
BEGIN:VEVENT
DTSTART;TZID=America/Argentina/Buenos_Aires:20260403T170000
DTEND;TZID=America/Argentina/Buenos_Aires:20260403T223000
DTSTAMP:20260422T180958
CREATED:20260330T170046Z
LAST-MODIFIED:20260401T121337Z
UID:10009446-1775235600-1775255400@villaelisa.gov.ar
SUMMARY:Feria Activa Paseo de la Vida XL
DESCRIPTION:  \nEste fin de semana largo\, emprendedores y artesanos se preparan para participar de la Feria Activa XL. \nSe realizará durante la tarde del jueves 2\, viernes 3 y sábado 4 de abril . A partir de las 17 horas\, se podrán recorrer los distintos stands ubicados en el Paseo de la Vida (Av. Urquiza entre calles Las Heras y Alvear). \nDurante los dos primeros días de feria se podrá disfrutar\, además\, de un cuadro musical de la mano de la Escuela de Danzas Folklóricas Raices Nativas \nHabrá venta de tortas fritas\, empanadas y masas dulces. La entrada es libre y gratuita. \n 
URL:https://villaelisa.gov.ar/evento/feria-activa-paseo-de-la-vida-xl-2/2026-04-03/
ATTACH;FMTTYPE=image/jpeg:https://villaelisa.gov.ar/wp-content/uploads/2026/03/WhatsApp-Image-2026-03-30-at-1.58.53-PM.jpeg
END:VEVENT
BEGIN:VEVENT
DTSTART;TZID=America/Argentina/Buenos_Aires:20260403T180000
DTEND;TZID=America/Argentina/Buenos_Aires:20260404T000000
DTSTAMP:20260422T180958
CREATED:20260330T181031Z
LAST-MODIFIED:20260330T181031Z
UID:10009439-1775239200-1775260800@villaelisa.gov.ar
SUMMARY:Wine Bar en Bodega Alonso Saenz
DESCRIPTION:En la visita tendremos cata y degustación de nuestros vinos\, picadas artesanales en un paisaje increible. \nSolo con reserva previa 3454331443
URL:https://villaelisa.gov.ar/evento/wine-bar-en-bodega-alonso-saenz/
LOCATION:Bodega Alonso Sáenz\, Ruta provincial 23\, km 28\, Arroyo Barú
ATTACH;FMTTYPE=image/jpeg:https://villaelisa.gov.ar/wp-content/uploads/2026/03/WhatsApp-Image-2026-03-30-at-2.58.19-PM.jpeg
END:VEVENT
BEGIN:VEVENT
DTSTART;TZID=America/Argentina/Buenos_Aires:20260403T203000
DTEND;TZID=America/Argentina/Buenos_Aires:20260403T220000
DTSTAMP:20260422T180958
CREATED:20260316T135939Z
LAST-MODIFIED:20260401T121923Z
UID:10009445-1775248200-1775253600@villaelisa.gov.ar
SUMMARY:Música y Danzas en Paseo de la Vida Feria Activa XL
DESCRIPTION:  \nEste fin de semana largo\, emprendedores y artesanos se preparan para participar de la Feria Activa XL. \nDurante los dos primeros días de feria se podrá disfrutar desde 20:30 hs\, de un cuadro musical de la mano de la Escuela de Danzas Folklóricas Raices Nativas. \nHabrá venta de tortas fritas\, empanadas y masas dulces. La entrada es libre y gratuita. \n 
URL:https://villaelisa.gov.ar/evento/feria-activa-paseo-de-la-vida-xl/
ATTACH;FMTTYPE=image/jpeg:https://villaelisa.gov.ar/wp-content/uploads/2026/03/Feria-Activa-XL-Semana-Santa.jpeg
END:VEVENT
BEGIN:VEVENT
DTSTART;TZID=America/Argentina/Buenos_Aires:20260403T210000
DTEND;TZID=America/Argentina/Buenos_Aires:20260403T220000
DTSTAMP:20260422T180958
CREATED:20260330T133834Z
LAST-MODIFIED:20260401T122246Z
UID:10009435-1775250000-1775253600@villaelisa.gov.ar
SUMMARY:Música en La Feria XL de Paseo de la Vida
DESCRIPTION:Junto a la Feria XL de Emprendedores en Paseo de la Vida viviremos un gran espectáculo musical! 🎶 \nContaremos con la presentación de Ezequiel Fretes\, para disfrutar de una jornada de buenos momentos y tambien variedad de comidas rápidas. \n¡Los esperamos para compartir juntos una hermosa experiencia!
URL:https://villaelisa.gov.ar/evento/musica-en-la-feria-xl-de-paseo-de-la-vida/
LOCATION:Paseo de la Vida\, Villa Elisa
ATTACH;FMTTYPE=image/jpeg:https://villaelisa.gov.ar/wp-content/uploads/2026/03/WhatsApp-Image-2026-03-27-at-8.27.19-PM.jpeg
END:VEVENT
BEGIN:VEVENT
DTSTART;TZID=America/Argentina/Buenos_Aires:20260403T210000
DTEND;TZID=America/Argentina/Buenos_Aires:20260404T003000
DTSTAMP:20260422T180958
CREATED:20260319T134032Z
LAST-MODIFIED:20260401T121005Z
UID:10009394-1775250000-1775262600@villaelisa.gov.ar
SUMMARY:Cena Show en Restaurante "Los Teros"
DESCRIPTION:El mejor lugar\, la mejor comida y la mejor música en vivo del reconocido Grupo Somos Así te esperan con un variado menú y exquisito cordero al asador en Restaurante Los Teros del Complejo Termal… una noche que no te podés perder !!!
URL:https://villaelisa.gov.ar/evento/cena-show-en-restaurante-los-teros-2/
ATTACH;FMTTYPE=image/jpeg:https://villaelisa.gov.ar/wp-content/uploads/2026/03/WhatsApp-Image-2026-03-19-at-10.06.20-AM.jpeg
END:VEVENT
END:VCALENDAR