BEGIN:VCALENDAR
VERSION:2.0
PRODID:-//Municipalidad de Villa Elisa, Entre Ríos - ECPv6.6.4.2//NONSGML v1.0//EN
CALSCALE:GREGORIAN
METHOD:PUBLISH
X-ORIGINAL-URL:https://villaelisa.gov.ar
X-WR-CALDESC:Eventos para Municipalidad de Villa Elisa, Entre Ríos
REFRESH-INTERVAL;VALUE=DURATION:PT1H
X-Robots-Tag:noindex
X-PUBLISHED-TTL:PT1H
BEGIN:VTIMEZONE
TZID:America/Argentina/Buenos_Aires
BEGIN:STANDARD
TZOFFSETFROM:-0300
TZOFFSETTO:-0300
TZNAME:-03
DTSTART:20260101T000000
END:STANDARD
END:VTIMEZONE
BEGIN:VEVENT
DTSTART;TZID=America/Argentina/Buenos_Aires:20260417T100000
DTEND;TZID=America/Argentina/Buenos_Aires:20260417T170000
DTSTAMP:20260422T154004
CREATED:20260415T145721Z
LAST-MODIFIED:20260415T145721Z
UID:10009490-1776420000-1776445200@villaelisa.gov.ar
SUMMARY:Feria de Cáritas
DESCRIPTION:Te esperamos en una nueva oportunidad de visitar la hermosa Feria de Cáritas\, donde encontrarás prendas y calzado a precios accesibles\, y al mismo tiempo estarás colaborando con una noble causa. \nSerá un placer recibirlod de 10 a 17 hs en Estrada 1010
URL:https://villaelisa.gov.ar/evento/feria-de-caritas-2/
LOCATION:Caritas Villa Elisa\, Estrada y Bvard. Francou\, Villa Elisa
ATTACH;FMTTYPE=image/jpeg:https://villaelisa.gov.ar/wp-content/uploads/2026/04/WhatsApp-Image-2026-04-15-at-6.33.36-AM.jpeg
END:VEVENT
BEGIN:VEVENT
DTSTART;TZID=America/Argentina/Buenos_Aires:20260417T103000
DTEND;TZID=America/Argentina/Buenos_Aires:20260417T130000
DTSTAMP:20260422T154004
CREATED:20260319T195924Z
LAST-MODIFIED:20260319T195924Z
UID:10009405-1776421800-1776430800@villaelisa.gov.ar
SUMMARY:Visitas Guiadas en Estancia Museo El Porvenir
DESCRIPTION:De lunes a viernes (excepto martes) las 10:30 y 12:00 horas\,  pueden realizarse las visitas guiadas gratuitas por la Estancia. \nSi se lo desea\, se puede visitar el lugar en forma independiente (sin visita guiada) de 10:00 a 13:00 y de 16:00 a 19:00 horas\, recordando que también está habilitado el sector del parque recreativo. \nEl valor del bono contribución de ingreso es de $2000 general y $1500 para menores entre 6 y 12 años inclusive\, jubilados y residentes de la micro región “Tierra de Palmares”. \nContacto: 3447436203 – www.museoelporvenir.com.ar
URL:https://villaelisa.gov.ar/evento/visitas-guiadas-en-estancia-museo-el-porvenir-19/2026-04-17/
LOCATION:Estancia Museo “El Porvenir”
ATTACH;FMTTYPE=image/jpeg:https://villaelisa.gov.ar/wp-content/uploads/2026/02/Horarios-marzo-2026-feed.jpeg
END:VEVENT
BEGIN:VEVENT
DTSTART;TZID=America/Argentina/Buenos_Aires:20260417T210000
DTEND;TZID=America/Argentina/Buenos_Aires:20260417T210000
DTSTAMP:20260422T154004
CREATED:20260417T185456Z
LAST-MODIFIED:20260417T185603Z
UID:10009498-1776459600-1776459600@villaelisa.gov.ar
SUMMARY:GRAN PEÑA FOLCLÓRICA 🔥🎶
DESCRIPTION:🌟 Desde Salta\, el canto que emociona de “Los Cantores del Alba” y nuestro orgullo entrerriano: El Pato Viganoni \n💃🕺 Una noche a puro folklore\, guitarreadas y baile\n🍷 Servicio de cantina\n🥟 Comidas típicas \nEn Club Vázquez \n👉 ¡No te lo podés perder! Vení a vivir una verdadera peña folclórica
URL:https://villaelisa.gov.ar/evento/286029/
LOCATION:Club Vazquez\, Ruta provincial 23\, km8\, Villa Elisa\, Entre Rios\, 3265\, Argentina
ATTACH;FMTTYPE=image/jpeg:https://villaelisa.gov.ar/wp-content/uploads/2026/04/WhatsApp-Image-2026-04-17-at-3.48.02-PM.jpeg
END:VEVENT
END:VCALENDAR