BEGIN:VCALENDAR
VERSION:2.0
PRODID:-//Municipalidad de Villa Elisa, Entre Ríos - ECPv6.6.4.2//NONSGML v1.0//EN
CALSCALE:GREGORIAN
METHOD:PUBLISH
X-WR-CALNAME:Municipalidad de Villa Elisa, Entre Ríos
X-ORIGINAL-URL:https://villaelisa.gov.ar
X-WR-CALDESC:Eventos para Municipalidad de Villa Elisa, Entre Ríos
REFRESH-INTERVAL;VALUE=DURATION:PT1H
X-Robots-Tag:noindex
X-PUBLISHED-TTL:PT1H
BEGIN:VTIMEZONE
TZID:America/Argentina/Buenos_Aires
BEGIN:STANDARD
TZOFFSETFROM:-0300
TZOFFSETTO:-0300
TZNAME:-03
DTSTART:20260101T000000
END:STANDARD
END:VTIMEZONE
BEGIN:VEVENT
DTSTART;TZID=America/Argentina/Buenos_Aires:20260418T200000
DTEND;TZID=America/Argentina/Buenos_Aires:20260418T213000
DTSTAMP:20260422T153848
CREATED:20260407T100526Z
LAST-MODIFIED:20260416T135642Z
UID:10009469-1776542400-1776547800@villaelisa.gov.ar
SUMMARY:"La Moreira"
DESCRIPTION:Desde Gral. Campos llega una gran comedia para toda la familia \nDel amor al humor \n  \nLa historia transcurre en la Tumba de Juan Moreira van apareciendo como recuerdos los momentos vividos y el trágico desenlace que le da a La Moreira la vida que siempre quiso tener y nunca pudo.\nLa Moreira es una obra en tono de Sátira\, busca darle visibilidad a la vida de Andrea Santillan ( Mujer de Juan Moreira ) enmarcada en un contexto histórico y folklórico \, contando escenas cotidianas \, recreando las vivencias de la mujer al lado del personaje y la relación con la política y el poder.\nEl Grupo Colifatos de Campos se imagina y recrea diferentes momentos de la vida de La Vicenta\, en convivencia con Juan Moreira. Observando y resignificando el rol de la mujer \nDirección: Mario Marzoratti-\nActúan : Matías Gusalli\, Angela Tschop\, Hugo Oribe\, Teresa Romero\, Jesús Garay \,Mirta Marzoratti- Mario Marzoratti-Lorena Bard
URL:https://villaelisa.gov.ar/evento/la-moreyra/
LOCATION:La ENREDADA\, FRANCOU 1548\, Villa Elisa\, 3265
ATTACH;FMTTYPE=image/png:https://villaelisa.gov.ar/wp-content/uploads/2026/04/Moreira-ig.png
END:VEVENT
BEGIN:VEVENT
DTSTART;TZID=America/Argentina/Buenos_Aires:20260418T210000
DTEND;TZID=America/Argentina/Buenos_Aires:20260419T003000
DTSTAMP:20260422T153848
CREATED:20260318T140151Z
LAST-MODIFIED:20260417T124918Z
UID:10009391-1776546000-1776558600@villaelisa.gov.ar
SUMMARY:Cena Show en "El Paso"
DESCRIPTION:Vení a disfrutar de una experiencia única donde vas a poder degustar exquisitos menús\, con lo mejor de la parrilla y platos abundantes\, en un ambiente cálido y familiar. \nAdemás\, viví una noche diferente con show musical en vivo\, ideal para compartir con amigos o en familia. \n 
URL:https://villaelisa.gov.ar/evento/cena-show-en-el-paso-10/
LOCATION:Parrilla El Paso\, Av. Urquiza 3145\, Villa Elisa\, 3265
ATTACH;FMTTYPE=image/jpeg:https://villaelisa.gov.ar/wp-content/uploads/2026/03/WhatsApp-Image-2026-04-17-at-9.42.21-AM.jpeg
END:VEVENT
BEGIN:VEVENT
DTSTART;TZID=America/Argentina/Buenos_Aires:20260418T210000
DTEND;TZID=America/Argentina/Buenos_Aires:20260419T020000
DTSTAMP:20260422T153848
CREATED:20260219T123941Z
LAST-MODIFIED:20260417T160420Z
UID:10009169-1776546000-1776564000@villaelisa.gov.ar
SUMMARY:Super Bailazo
DESCRIPTION:Te invitamos a disfrutar de los bailes más lindos\, ideal para divertirse y pasar gratos momentos junto a amigos y familia. \n🎶 Con toda la música y la alegría de Miguel Angel y Leo Milezzi\, que harán de esta noche una verdadera fiesta. \n💃🕺 Preparate para bailar SIN PARAR y vivir una noche única!
URL:https://villaelisa.gov.ar/evento/fieston-bailable-del-dia-de-la-mujer/
LOCATION:Club Huracán Colonia Hocker\, Villa Elisa\, Entre Rios\, 3265\, Argentina
ATTACH;FMTTYPE=image/jpeg:https://villaelisa.gov.ar/wp-content/uploads/2026/02/WhatsApp-Image-2026-04-15-at-1.06.32-PM.jpeg
END:VEVENT
BEGIN:VEVENT
DTSTART;TZID=America/Argentina/Buenos_Aires:20260418T213000
DTEND;TZID=America/Argentina/Buenos_Aires:20260419T013000
DTSTAMP:20260422T153848
CREATED:20251127T124954Z
LAST-MODIFIED:20260414T155827Z
UID:10004944-1776547800-1776562200@villaelisa.gov.ar
SUMMARY:GRAN BAILE
DESCRIPTION:Gran Baile con la muy buena música de ” Mitaí” para divertirse toda la noche\, con servicio de comidas y bebidas en Centro Unión.
URL:https://villaelisa.gov.ar/evento/gran-baile-19/
LOCATION:Centro Union\, El Ñandubay 1075\, Villa Elisa\, Entre Rios\, 3265\, Argentina
ATTACH;FMTTYPE=image/jpeg:https://villaelisa.gov.ar/wp-content/uploads/2025/11/WhatsApp-Image-2026-04-14-at-9.52.27-AM.jpeg
END:VEVENT
END:VCALENDAR