BEGIN:VCALENDAR
VERSION:2.0
PRODID:-//Municipalidad de Villa Elisa, Entre Ríos - ECPv6.6.4.2//NONSGML v1.0//EN
CALSCALE:GREGORIAN
METHOD:PUBLISH
X-ORIGINAL-URL:https://villaelisa.gov.ar
X-WR-CALDESC:Eventos para Municipalidad de Villa Elisa, Entre Ríos
REFRESH-INTERVAL;VALUE=DURATION:PT1H
X-Robots-Tag:noindex
X-PUBLISHED-TTL:PT1H
BEGIN:VTIMEZONE
TZID:America/Argentina/Buenos_Aires
BEGIN:STANDARD
TZOFFSETFROM:-0300
TZOFFSETTO:-0300
TZNAME:-03
DTSTART:20260101T000000
END:STANDARD
END:VTIMEZONE
BEGIN:VEVENT
DTSTART;TZID=America/Argentina/Buenos_Aires:20260502T163000
DTEND;TZID=America/Argentina/Buenos_Aires:20260502T220000
DTSTAMP:20260422T154134
CREATED:20260404T153906Z
LAST-MODIFIED:20260421T182908Z
UID:10009447-1777739400-1777759200@villaelisa.gov.ar
SUMMARY:Feria Emprendedores Paseo de la Vida
DESCRIPTION:  \nEste fin de semana\, emprendedores y artesanos se preparan para una nueva jornada de feria que invita a disfrutar de una tarde diferente. \nLa cita será el sábado 2 de mayo a partir de las 16:30 horas\, en el Paseo de la Vida (Av. Urquiza entre Las Heras y Alvear)\, donde se podrán recorrer diversos stands con productos locales. \nAdemás\, el encuentro contará con cuadros musicales a cargo de Fusión Ballet\, sumando arte y movimiento a la jornada. \nComo siempre\, no faltarán las delicias caseras: tortas fritas\, empanadas y masas dulces para acompañar la tarde. \nLa entrada es libre y gratuita. \n 
URL:https://villaelisa.gov.ar/evento/feria-activa-paseo-de-la-vida-xl-2-2/
LOCATION:Paseo de la Vida\, Villa Elisa
ATTACH;FMTTYPE=image/jpeg:https://villaelisa.gov.ar/wp-content/uploads/2026/04/WhatsApp-Image-2026-04-21-at-11.39.16-AM.jpeg
END:VEVENT
END:VCALENDAR