BEGIN:VCALENDAR
VERSION:2.0
PRODID:-//Municipalidad de Villa Elisa, Entre Ríos - ECPv6.6.4.2//NONSGML v1.0//EN
CALSCALE:GREGORIAN
METHOD:PUBLISH
X-ORIGINAL-URL:https://villaelisa.gov.ar
X-WR-CALDESC:Eventos para Municipalidad de Villa Elisa, Entre Ríos
REFRESH-INTERVAL;VALUE=DURATION:PT1H
X-Robots-Tag:noindex
X-PUBLISHED-TTL:PT1H
BEGIN:VTIMEZONE
TZID:America/Argentina/Buenos_Aires
BEGIN:STANDARD
TZOFFSETFROM:-0300
TZOFFSETTO:-0300
TZNAME:-03
DTSTART:20260101T000000
END:STANDARD
END:VTIMEZONE
BEGIN:VEVENT
DTSTART;TZID=America/Argentina/Buenos_Aires:20260523T213000
DTEND;TZID=America/Argentina/Buenos_Aires:20260523T223000
DTSTAMP:20260422T194941
CREATED:20260416T143020Z
LAST-MODIFIED:20260416T143445Z
UID:10009494-1779571800-1779575400@villaelisa.gov.ar
SUMMARY:Canciones de Bolsillo
DESCRIPTION:Somos músicos nómadas\, recorriendo nuestra Argentina\, llevando este espectáculo con Canciones de Bolsillo\, con un repertorio que incluye tango\, folclore\, y algunos tesoros del rock nacional. Llevamos en nuestro andar canciones de Eladia Blazquez\, Gardel\, Spinetta\, Fandermole\, Yupanqui\, Trullenque\, y muchos más. También hay pintura en vivo \, la cual sorteamos durante el espectáculo. Vamos buscando inspiración\, una experiencia artística única en cada lugar.
URL:https://villaelisa.gov.ar/evento/canciones-de-bolsillo/
LOCATION:Biblioteca Popular General Mitre\, Av. Mitre 1160\, Villa Elisa\, 3265
ATTACH;FMTTYPE=image/jpeg:https://villaelisa.gov.ar/wp-content/uploads/2026/04/WhatsApp-Image-2026-04-16-at-11.23.42-AM.jpeg
END:VEVENT
END:VCALENDAR