BEGIN:VCALENDAR
VERSION:2.0
PRODID:-//Municipalidad de Villa Elisa, Entre Ríos - ECPv6.6.4.2//NONSGML v1.0//EN
CALSCALE:GREGORIAN
METHOD:PUBLISH
X-ORIGINAL-URL:https://villaelisa.gov.ar
X-WR-CALDESC:Eventos para Municipalidad de Villa Elisa, Entre Ríos
REFRESH-INTERVAL;VALUE=DURATION:PT1H
X-Robots-Tag:noindex
X-PUBLISHED-TTL:PT1H
BEGIN:VTIMEZONE
TZID:America/Argentina/Buenos_Aires
BEGIN:STANDARD
TZOFFSETFROM:-0300
TZOFFSETTO:-0300
TZNAME:-03
DTSTART:20260101T000000
END:STANDARD
END:VTIMEZONE
BEGIN:VEVENT
DTSTART;TZID=America/Argentina/Buenos_Aires:20260711T100000
DTEND;TZID=America/Argentina/Buenos_Aires:20260711T200000
DTSTAMP:20260423T072717
CREATED:20260114T143350Z
LAST-MODIFIED:20260114T143350Z
UID:10009098-1783764000-1783800000@villaelisa.gov.ar
SUMMARY:EXPO-FERIA COMERCIAL
DESCRIPTION:UN FIN DE SEMANA (SABADO Y DOMINGO) DESTINADO A LAS COMPRAS A UN PRECIO “SUPER REBAJADO” Y MERCADERIA DE PRIMERA CALIDAD. \nPODRÁS ENCONTRAR: INDUMENTARIA\, JUGETERÍA\, JOYERIA\, FERRETERIA\, ENTRE OTROS; ENTRETENIMIENTO INFANTIL Y BUEN SERVICIO DE BUFFET. \nLOS COMERCIOS Y PRESTADORES DE VILLA ELISA\, SE UNEN EN UN SÓLO ESPACIO
URL:https://villaelisa.gov.ar/evento/expo-feria-comercial/
ATTACH;FMTTYPE=image/jpeg:https://villaelisa.gov.ar/wp-content/uploads/2026/01/Expo_caratula.jpeg
END:VEVENT
END:VCALENDAR