BEGIN:VCALENDAR
VERSION:2.0
PRODID:-//Municipalidad de Villa Elisa, Entre Ríos - ECPv6.6.4.2//NONSGML v1.0//EN
CALSCALE:GREGORIAN
METHOD:PUBLISH
X-WR-CALNAME:Municipalidad de Villa Elisa, Entre Ríos
X-ORIGINAL-URL:https://villaelisa.gov.ar
X-WR-CALDESC:Eventos para Municipalidad de Villa Elisa, Entre Ríos
REFRESH-INTERVAL;VALUE=DURATION:PT1H
X-Robots-Tag:noindex
X-PUBLISHED-TTL:PT1H
BEGIN:VTIMEZONE
TZID:America/Argentina/Buenos_Aires
BEGIN:STANDARD
TZOFFSETFROM:-0300
TZOFFSETTO:-0300
TZNAME:-03
DTSTART:20250101T000000
END:STANDARD
END:VTIMEZONE
BEGIN:VEVENT
DTSTART;TZID=America/Argentina/Buenos_Aires:20250729T100000
DTEND;TZID=America/Argentina/Buenos_Aires:20250729T180000
DTSTAMP:20260425T083727
CREATED:20250715T130517Z
LAST-MODIFIED:20250723T162633Z
UID:10004458-1753783200-1753812000@villaelisa.gov.ar
SUMMARY:Viviendo Historias
DESCRIPTION:En una visita al histórico Almacen Francou tendras la posibilidad de compartir actividades fascinantes e inolvidables.
URL:https://villaelisa.gov.ar/evento/viviendo-historias-3/2025-07-29/
LOCATION:Almacén de Ramos Generales Francou\, Colonia del Carmen\, Villa Elisa\, Entre Rios\, 3265\, Argentina
ATTACH;FMTTYPE=image/jpeg:https://villaelisa.gov.ar/wp-content/uploads/2025/07/WhatsApp-Image-2025-07-23-at-11.29.52-AM.jpeg
END:VEVENT
BEGIN:VEVENT
DTSTART;TZID=America/Argentina/Buenos_Aires:20250729T103000
DTEND;TZID=America/Argentina/Buenos_Aires:20250729T130000
DTSTAMP:20260425T083727
CREATED:20250623T183526Z
LAST-MODIFIED:20250623T183526Z
UID:10004195-1753785000-1753794000@villaelisa.gov.ar
SUMMARY:Visitas Guiadas en Estancia Museo El Porvenir
DESCRIPTION:Las visitas guiadas pueden realizarse todos los días a las 10:30 y 12:00 horas. Si se lo desea\, se puede visitar el lugar en forma independiente (sin visita guiada) de 10:00 a 18:00 horas\, recordando que también está habilitado el sector del parque recreativo. \nEl valor del bono contribución de ingreso es de $1500 general y $1000 para menores entre 6 y 12 años inclusive\, jubilados y residentes de la micro región “Tierra de Palmares”. \nContacto: 3447436203 – www.museoelporvenir.com.ar
URL:https://villaelisa.gov.ar/evento/visitas-guiadas-en-estancia-museo-el-porvenir-3/2025-07-29/
LOCATION:Estancia Museo “El Porvenir”
ATTACH;FMTTYPE=image/jpeg:https://villaelisa.gov.ar/wp-content/uploads/2025/06/Horarios-vacaciones-invierno-2025-feed.jpeg
END:VEVENT
BEGIN:VEVENT
DTSTART;TZID=America/Argentina/Buenos_Aires:20250729T150000
DTEND;TZID=America/Argentina/Buenos_Aires:20250729T183000
DTSTAMP:20260425T083727
CREATED:20250728T135247Z
LAST-MODIFIED:20250728T135248Z
UID:10004366-1753801200-1753813800@villaelisa.gov.ar
SUMMARY:Estación Elisa - Ferroclub Central Entrerriano
DESCRIPTION:  \nEn vacaciones de invierno todos los días desde las 15:00 estará abierta la estación Elisa donde encontrarás maquinarias y elementos de época a las 15:30 y 17 horas habrá paseos en el tren histórico turístico para vivir una gran experiencia. \nCalle Centenario 2200 \nConsultas al 3442 551086
URL:https://villaelisa.gov.ar/evento/ferroclub-central-entrerriano-6-2-2-2-5-4/
LOCATION:Ferroclub Central Entrerriano\, Centenario y Arenales\, Villa Elisa\, 3265
ATTACH;FMTTYPE=image/jpeg:https://villaelisa.gov.ar/wp-content/uploads/2025/01/IMG_20231210_175944197-scaled.jpg
END:VEVENT
BEGIN:VEVENT
DTSTART;TZID=America/Argentina/Buenos_Aires:20250730T100000
DTEND;TZID=America/Argentina/Buenos_Aires:20250730T180000
DTSTAMP:20260425T083727
CREATED:20250715T130517Z
LAST-MODIFIED:20250723T162633Z
UID:10004459-1753869600-1753898400@villaelisa.gov.ar
SUMMARY:Viviendo Historias
DESCRIPTION:En una visita al histórico Almacen Francou tendras la posibilidad de compartir actividades fascinantes e inolvidables.
URL:https://villaelisa.gov.ar/evento/viviendo-historias-3/2025-07-30/
LOCATION:Almacén de Ramos Generales Francou\, Colonia del Carmen\, Villa Elisa\, Entre Rios\, 3265\, Argentina
ATTACH;FMTTYPE=image/jpeg:https://villaelisa.gov.ar/wp-content/uploads/2025/07/WhatsApp-Image-2025-07-23-at-11.29.52-AM.jpeg
END:VEVENT
BEGIN:VEVENT
DTSTART;TZID=America/Argentina/Buenos_Aires:20250730T103000
DTEND;TZID=America/Argentina/Buenos_Aires:20250730T130000
DTSTAMP:20260425T083727
CREATED:20250623T183526Z
LAST-MODIFIED:20250623T183526Z
UID:10004196-1753871400-1753880400@villaelisa.gov.ar
SUMMARY:Visitas Guiadas en Estancia Museo El Porvenir
DESCRIPTION:Las visitas guiadas pueden realizarse todos los días a las 10:30 y 12:00 horas. Si se lo desea\, se puede visitar el lugar en forma independiente (sin visita guiada) de 10:00 a 18:00 horas\, recordando que también está habilitado el sector del parque recreativo. \nEl valor del bono contribución de ingreso es de $1500 general y $1000 para menores entre 6 y 12 años inclusive\, jubilados y residentes de la micro región “Tierra de Palmares”. \nContacto: 3447436203 – www.museoelporvenir.com.ar
URL:https://villaelisa.gov.ar/evento/visitas-guiadas-en-estancia-museo-el-porvenir-3/2025-07-30/
LOCATION:Estancia Museo “El Porvenir”
ATTACH;FMTTYPE=image/jpeg:https://villaelisa.gov.ar/wp-content/uploads/2025/06/Horarios-vacaciones-invierno-2025-feed.jpeg
END:VEVENT
BEGIN:VEVENT
DTSTART;TZID=America/Argentina/Buenos_Aires:20250730T150000
DTEND;TZID=America/Argentina/Buenos_Aires:20250730T183000
DTSTAMP:20260425T083727
CREATED:20250728T135128Z
LAST-MODIFIED:20250728T135129Z
UID:10004367-1753887600-1753900200@villaelisa.gov.ar
SUMMARY:Estación Elisa - Ferroclub Central Entrerriano
DESCRIPTION:  \nEn vacaciones de invierno todos los días desde las 15:00 estará abierta la estación Elisa donde encontrarás maquinarias y elementos de época a las 15:30 y 17 horas habrá paseos en el tren histórico turístico para vivir una gran experiencia. \nCalle Centenario 2200 \nConsultas al 3442 551086
URL:https://villaelisa.gov.ar/evento/ferroclub-central-entrerriano-6-2-2-2-5-3/
LOCATION:Ferroclub Central Entrerriano\, Centenario y Arenales\, Villa Elisa\, 3265
ATTACH;FMTTYPE=image/jpeg:https://villaelisa.gov.ar/wp-content/uploads/2025/01/IMG_20231210_175944197-scaled.jpg
END:VEVENT
BEGIN:VEVENT
DTSTART;TZID=America/Argentina/Buenos_Aires:20250731T100000
DTEND;TZID=America/Argentina/Buenos_Aires:20250731T180000
DTSTAMP:20260425T083727
CREATED:20250715T130517Z
LAST-MODIFIED:20250723T162633Z
UID:10004460-1753956000-1753984800@villaelisa.gov.ar
SUMMARY:Viviendo Historias
DESCRIPTION:En una visita al histórico Almacen Francou tendras la posibilidad de compartir actividades fascinantes e inolvidables.
URL:https://villaelisa.gov.ar/evento/viviendo-historias-3/2025-07-31/
LOCATION:Almacén de Ramos Generales Francou\, Colonia del Carmen\, Villa Elisa\, Entre Rios\, 3265\, Argentina
ATTACH;FMTTYPE=image/jpeg:https://villaelisa.gov.ar/wp-content/uploads/2025/07/WhatsApp-Image-2025-07-23-at-11.29.52-AM.jpeg
END:VEVENT
BEGIN:VEVENT
DTSTART;TZID=America/Argentina/Buenos_Aires:20250731T103000
DTEND;TZID=America/Argentina/Buenos_Aires:20250731T130000
DTSTAMP:20260425T083727
CREATED:20250623T183526Z
LAST-MODIFIED:20250623T183526Z
UID:10004197-1753957800-1753966800@villaelisa.gov.ar
SUMMARY:Visitas Guiadas en Estancia Museo El Porvenir
DESCRIPTION:Las visitas guiadas pueden realizarse todos los días a las 10:30 y 12:00 horas. Si se lo desea\, se puede visitar el lugar en forma independiente (sin visita guiada) de 10:00 a 18:00 horas\, recordando que también está habilitado el sector del parque recreativo. \nEl valor del bono contribución de ingreso es de $1500 general y $1000 para menores entre 6 y 12 años inclusive\, jubilados y residentes de la micro región “Tierra de Palmares”. \nContacto: 3447436203 – www.museoelporvenir.com.ar
URL:https://villaelisa.gov.ar/evento/visitas-guiadas-en-estancia-museo-el-porvenir-3/2025-07-31/
LOCATION:Estancia Museo “El Porvenir”
ATTACH;FMTTYPE=image/jpeg:https://villaelisa.gov.ar/wp-content/uploads/2025/06/Horarios-vacaciones-invierno-2025-feed.jpeg
END:VEVENT
BEGIN:VEVENT
DTSTART;TZID=America/Argentina/Buenos_Aires:20250801T103000
DTEND;TZID=America/Argentina/Buenos_Aires:20250801T130000
DTSTAMP:20260425T083727
CREATED:20250724T200626Z
LAST-MODIFIED:20250724T200626Z
UID:10004467-1754044200-1754053200@villaelisa.gov.ar
SUMMARY:Visitas Guiadas en Estancia Museo El Porvenir
DESCRIPTION:Las visitas guiadas pueden realizarse de lunes a viernes (excepto martes) a las 10:30 y 12:00 horas. Si se lo desea\, se puede visitar el lugar en forma independiente (sin visita guiada) de 10:00 a 13:00 y de 15:00 a 18:00 horas\, recordando que también está habilitado el sector del parque recreativo. \nEl valor del bono contribución de ingreso es de $1500 general y $1000 para menores entre 6 y 12 años inclusive\, jubilados y residentes de la micro región “Tierra de Palmares”. \nContacto: 3447436203 – www.museoelporvenir.com.ar
URL:https://villaelisa.gov.ar/evento/visitas-guiadas-en-estancia-museo-el-porvenir-4/2025-08-01/
LOCATION:Estancia Museo “El Porvenir”
ATTACH;FMTTYPE=image/jpeg:https://villaelisa.gov.ar/wp-content/uploads/2025/07/02.8-Horarios-Agosto.jpeg
END:VEVENT
BEGIN:VEVENT
DTSTART;TZID=America/Argentina/Buenos_Aires:20250801T190000
DTEND;TZID=America/Argentina/Buenos_Aires:20250801T203000
DTSTAMP:20260425T083727
CREATED:20250725T143740Z
LAST-MODIFIED:20250725T143740Z
UID:10004483-1754074800-1754080200@villaelisa.gov.ar
SUMMARY:Taller de Educación Emocional
DESCRIPTION:Viernes 01 de agosto en salón Heraldo Peragallo.
URL:https://villaelisa.gov.ar/evento/taller-de-educacion-emocional/
LOCATION:Auditorio Municipal Heraldo N. Peragallo\, Av. Mitre 1301\, Villa Elisa\, 3265
ATTACH;FMTTYPE=image/jpeg:https://villaelisa.gov.ar/wp-content/uploads/2025/07/WhatsApp-Image-2025-07-24-at-9.46.25-PM.jpeg
END:VEVENT
BEGIN:VEVENT
DTSTART;TZID=America/Argentina/Buenos_Aires:20250802T100000
DTEND;TZID=America/Argentina/Buenos_Aires:20250802T113000
DTSTAMP:20260425T083727
CREATED:20250628T215351Z
LAST-MODIFIED:20250801T190144Z
UID:10004340-1754128800-1754134200@villaelisa.gov.ar
SUMMARY:Caminatur
DESCRIPTION:Listos para conocer Villa Elisa Entre Rios en una experiencia inolvidable ?\n🚶🏻‍♀️👨🏼‍🦽🚶🏽‍♂️🚶🏼‍♀️🚶🏼 \nAl visitar nuestra ciudad\, disfrutá con esta propuesta en la cual te sentirás protagonista!!!\nDescubriendo a través de entretenidos circuitos guiados\, curiosidades y lugares poco conocidos de los espacios públicos que generalmente no se ven\, conectando con la historia\, cultura y naturaleza local. \nReservas e información 3447456151\nGraciela Antonin\nGuía Nacional de Turismo\nReg 0054 COPROTUER
URL:https://villaelisa.gov.ar/evento/caminatur-4/
ATTACH;FMTTYPE=image/jpeg:https://villaelisa.gov.ar/wp-content/uploads/2025/03/WhatsApp-Image-2025-05-08-at-10.54.45-AM.jpeg
END:VEVENT
BEGIN:VEVENT
DTSTART;TZID=America/Argentina/Buenos_Aires:20250802T140000
DTEND;TZID=America/Argentina/Buenos_Aires:20250802T190000
DTSTAMP:20260425T083727
CREATED:20250723T120845Z
LAST-MODIFIED:20250729T162359Z
UID:10004448-1754143200-1754161200@villaelisa.gov.ar
SUMMARY:Feria de Emprendedores
DESCRIPTION:Los stands que conforman la feria se ubican sobre un tramo del paseo de Av. Urquiza\, comprendido entre calles Las Heras y Alvear.⁣ \nUna excelente posibilidad para conectar y acceder a trabajos\, manualidades y servicios que llevan adelante manos elisenses y de la zona.
URL:https://villaelisa.gov.ar/evento/feria-de-emprendedores-8/
LOCATION:Paseo de la Vida\, Villa Elisa
ATTACH;FMTTYPE=image/jpeg:https://villaelisa.gov.ar/wp-content/uploads/2025/07/WhatsApp-Image-2025-07-29-at-1.18.30-PM.jpeg
END:VEVENT
BEGIN:VEVENT
DTSTART;TZID=America/Argentina/Buenos_Aires:20250802T200000
DTEND;TZID=America/Argentina/Buenos_Aires:20250803T003000
DTSTAMP:20260425T083727
CREATED:20250729T155045Z
LAST-MODIFIED:20250729T155045Z
UID:10004486-1754164800-1754181000@villaelisa.gov.ar
SUMMARY:Noche de Tango
DESCRIPTION:Te proponemos una clase para que aprendas a bailar de la mano de Patricia Borgogno. Y luego abrimos la noche a pura Milonga con el show de Juan Lima y musicalizacion de Andy Áreas. \nPodes hacer la clase y luego quedarte a la Milonga o elegir por separado. \nValor de la clase: $3000\nEntrada a Milonga solo en puerta: $4000 \nNo te quedes con las ganas de milonguear. Te esperamos!!!
URL:https://villaelisa.gov.ar/evento/noche-de-tango/
LOCATION:Centro Cultural La Fragua
ATTACH;FMTTYPE=image/jpeg:https://villaelisa.gov.ar/wp-content/uploads/2025/07/WhatsApp-Image-2025-07-29-at-12.45.37-PM.jpeg
END:VEVENT
BEGIN:VEVENT
DTSTART;TZID=America/Argentina/Buenos_Aires:20250802T203000
DTEND;TZID=America/Argentina/Buenos_Aires:20250802T220000
DTSTAMP:20260425T083727
CREATED:20250731T151734Z
LAST-MODIFIED:20250731T151734Z
UID:10004489-1754166600-1754172000@villaelisa.gov.ar
SUMMARY:El Destino Película en Cine Paradiso
DESCRIPTION:Historia atrapante con maravillosos paisajes del norte argentino Veni a Cine Paradiso  en Alvear 942 Entrada solo $1000
URL:https://villaelisa.gov.ar/evento/el-destino-pelicula-en-cine-paradiso/
LOCATION:Cine Paradiso\, Gral. Alvear 942\, Villa Elisa\, 3265
ATTACH;FMTTYPE=image/jpeg:https://villaelisa.gov.ar/wp-content/uploads/2025/07/WhatsApp-Image-2025-07-31-at-12.07.18-PM.jpeg
END:VEVENT
BEGIN:VEVENT
DTSTART;TZID=America/Argentina/Buenos_Aires:20250803T100000
DTEND;TZID=America/Argentina/Buenos_Aires:20250803T130000
DTSTAMP:20260425T083727
CREATED:20241104T113404Z
LAST-MODIFIED:20241104T113404Z
UID:10002232-1754215200-1754226000@villaelisa.gov.ar
SUMMARY:Auto Tour
DESCRIPTION:TRAVELING VINA:  \nEs un servicio  extra\, que ofrece el complejo de Alojamientos “V I N A” \nExperiencia Rurales\, AUTO TOUR:  \nPlanificamos y coordinamos recorridos por bodegas\, fábricas de productos regionales\, y almacenes locales\, te llevamos a descubrir La Colonia\, cultura local y los paisajes mas hermosos de nuestra Tierra de Palmares.- \nOrganizado por Perla Lopez – \nReservas con anticipación: contacto 3447503491.- \nValor del recorrido: según destino elegido. \nTiempo demandado: aproximadamente 3 horas.- \nEl objetivo es formar una caravana\, con los vehículos de los interesados y hacer\, una mañana o una tarde de recorridos a los diferentes atractivos de nuestra zona  \nprevia coordinación.- \nPunto de salida: oficina de Turismo Villa Elisa.-
URL:https://villaelisa.gov.ar/evento/auto-tour/2025-08-03/
ATTACH;FMTTYPE=image/jpeg:https://villaelisa.gov.ar/wp-content/uploads/2024/11/Traveling-vina.jpg
END:VEVENT
BEGIN:VEVENT
DTSTART;TZID=America/Argentina/Buenos_Aires:20250803T103000
DTEND;TZID=America/Argentina/Buenos_Aires:20250803T180000
DTSTAMP:20260425T083727
CREATED:20250711T133548Z
LAST-MODIFIED:20250801T131627Z
UID:10004414-1754217000-1754244000@villaelisa.gov.ar
SUMMARY:Tradiciones Nuestras
DESCRIPTION:Un dia con muestra de artesanos\, exquisita comida\, y excelente musica para rescatar y preservar nuestras costumbres. \nLos esperamos!!!
URL:https://villaelisa.gov.ar/evento/tradiciones-nuestras/
LOCATION:Club Vazquez\, Ruta provincial 23\, km8\, Villa Elisa\, Entre Rios\, 3265\, Argentina
ATTACH;FMTTYPE=image/jpeg:https://villaelisa.gov.ar/wp-content/uploads/2025/07/WhatsApp-Image-2025-07-30-at-8.43.03-AM.jpeg
END:VEVENT
BEGIN:VEVENT
DTSTART;TZID=America/Argentina/Buenos_Aires:20250803T133000
DTEND;TZID=America/Argentina/Buenos_Aires:20250803T173000
DTSTAMP:20260425T083727
CREATED:20250723T124028Z
LAST-MODIFIED:20250801T123442Z
UID:10004450-1754227800-1754242200@villaelisa.gov.ar
SUMMARY:Fútbol Departamental
DESCRIPTION:️ Se viene la Gran definición!! Vamos todos a la cancha!! \nEste domingo próximo\, 15hs. se juega el partido de Ida San Jorge VS. Campito. \nApertura de entrada: 13.30hs \nHagamos que este domingo el J. J. Lescano se vista de fiesta!!
URL:https://villaelisa.gov.ar/evento/futbol-departamental-9/
LOCATION:Estadio Justo José Lezcano (Cancha San Jorge)\, Villa Elisa\, 3265
ATTACH;FMTTYPE=image/jpeg:https://villaelisa.gov.ar/wp-content/uploads/2025/07/WhatsApp-Image-2025-07-31-at-8.42.20-PM.jpeg
END:VEVENT
BEGIN:VEVENT
DTSTART;TZID=America/Argentina/Buenos_Aires:20250803T150000
DTEND;TZID=America/Argentina/Buenos_Aires:20250803T183000
DTSTAMP:20260425T083727
CREATED:20250723T190823Z
LAST-MODIFIED:20250723T190823Z
UID:10004369-1754233200-1754245800@villaelisa.gov.ar
SUMMARY:Estación Elisa - Ferroclub Central Entrerriano
DESCRIPTION:  \nEn vacaciones de invierno todos los días desde las 15:00 estará abierta la estación Elisa donde encontrarás maquinarias y elementos de época a las 15:30 y 17 horas habrá paseos en el tren histórico turístico para vivir una gran experiencia. \nCalle Centenario 2200 \nConsultas al 3442 551086
URL:https://villaelisa.gov.ar/evento/ferroclub-central-entrerriano-6-2-2-2-5-2/
LOCATION:Ferroclub Central Entrerriano\, Centenario y Arenales\, Villa Elisa\, 3265
ATTACH;FMTTYPE=image/jpeg:https://villaelisa.gov.ar/wp-content/uploads/2025/01/IMG_20231210_175944197-scaled.jpg
END:VEVENT
BEGIN:VEVENT
DTSTART;TZID=America/Argentina/Buenos_Aires:20250803T150000
DTEND;TZID=America/Argentina/Buenos_Aires:20250803T190000
DTSTAMP:20260425T083727
CREATED:20250730T141936Z
LAST-MODIFIED:20250730T141936Z
UID:10004488-1754233200-1754247600@villaelisa.gov.ar
SUMMARY:Festejos Día de las Infancias
DESCRIPTION:En el marco de esta fecha\, se organiza una jornada especial que se llevará a cabo el domingo 3 de agosto de 15 a 18 horas en Plaza Moreno. \nLos niños disfrutarán de una tarde de juego libre: con inflables para distintas edades\, actividades de modelado\, kermesse y  deportivas\, entre otras propuestas. Además\, se ofrecerá a los agasajados un riquísimo chocolate caliente. \nOrganizado por áreas municipales de Cultura y Niñez\, conjuntamente con la Comisión Directiva de la UENI N° 128 “Hogar de Niños”\, el Centro Comunitario “Comedor Evita”\, Grupo Diversidad Viva y la Liga de Madres de Familia. \nEsta celebración apunta a promover el juego como una actividad esencial que impulsa su desarrollo integral durante la infancia\, ya que al jugar los niños no solo se divierten\, sino que también aprenden\, desarrollan habilidades sociales\, emocionales y cognitivas\, exploran el mundo y construyen su identidad.
URL:https://villaelisa.gov.ar/evento/festejos-dia-de-las-infancias/
LOCATION:Plaza Moreno\, Villa Elisa
ATTACH;FMTTYPE=image/jpeg:https://villaelisa.gov.ar/wp-content/uploads/2025/07/WhatsApp-Image-2025-07-30-at-11.12.10-AM.jpeg
END:VEVENT
BEGIN:VEVENT
DTSTART;TZID=America/Argentina/Buenos_Aires:20250804T103000
DTEND;TZID=America/Argentina/Buenos_Aires:20250804T130000
DTSTAMP:20260425T083727
CREATED:20250724T200626Z
LAST-MODIFIED:20250724T200626Z
UID:10004468-1754303400-1754312400@villaelisa.gov.ar
SUMMARY:Visitas Guiadas en Estancia Museo El Porvenir
DESCRIPTION:Las visitas guiadas pueden realizarse de lunes a viernes (excepto martes) a las 10:30 y 12:00 horas. Si se lo desea\, se puede visitar el lugar en forma independiente (sin visita guiada) de 10:00 a 13:00 y de 15:00 a 18:00 horas\, recordando que también está habilitado el sector del parque recreativo. \nEl valor del bono contribución de ingreso es de $1500 general y $1000 para menores entre 6 y 12 años inclusive\, jubilados y residentes de la micro región “Tierra de Palmares”. \nContacto: 3447436203 – www.museoelporvenir.com.ar
URL:https://villaelisa.gov.ar/evento/visitas-guiadas-en-estancia-museo-el-porvenir-4/2025-08-04/
LOCATION:Estancia Museo “El Porvenir”
ATTACH;FMTTYPE=image/jpeg:https://villaelisa.gov.ar/wp-content/uploads/2025/07/02.8-Horarios-Agosto.jpeg
END:VEVENT
BEGIN:VEVENT
DTSTART;TZID=America/Argentina/Buenos_Aires:20250806T103000
DTEND;TZID=America/Argentina/Buenos_Aires:20250806T130000
DTSTAMP:20260425T083727
CREATED:20250724T200626Z
LAST-MODIFIED:20250724T200626Z
UID:10004469-1754476200-1754485200@villaelisa.gov.ar
SUMMARY:Visitas Guiadas en Estancia Museo El Porvenir
DESCRIPTION:Las visitas guiadas pueden realizarse de lunes a viernes (excepto martes) a las 10:30 y 12:00 horas. Si se lo desea\, se puede visitar el lugar en forma independiente (sin visita guiada) de 10:00 a 13:00 y de 15:00 a 18:00 horas\, recordando que también está habilitado el sector del parque recreativo. \nEl valor del bono contribución de ingreso es de $1500 general y $1000 para menores entre 6 y 12 años inclusive\, jubilados y residentes de la micro región “Tierra de Palmares”. \nContacto: 3447436203 – www.museoelporvenir.com.ar
URL:https://villaelisa.gov.ar/evento/visitas-guiadas-en-estancia-museo-el-porvenir-4/2025-08-06/
LOCATION:Estancia Museo “El Porvenir”
ATTACH;FMTTYPE=image/jpeg:https://villaelisa.gov.ar/wp-content/uploads/2025/07/02.8-Horarios-Agosto.jpeg
END:VEVENT
BEGIN:VEVENT
DTSTART;TZID=America/Argentina/Buenos_Aires:20250807T103000
DTEND;TZID=America/Argentina/Buenos_Aires:20250807T130000
DTSTAMP:20260425T083727
CREATED:20250724T200626Z
LAST-MODIFIED:20250724T200626Z
UID:10004470-1754562600-1754571600@villaelisa.gov.ar
SUMMARY:Visitas Guiadas en Estancia Museo El Porvenir
DESCRIPTION:Las visitas guiadas pueden realizarse de lunes a viernes (excepto martes) a las 10:30 y 12:00 horas. Si se lo desea\, se puede visitar el lugar en forma independiente (sin visita guiada) de 10:00 a 13:00 y de 15:00 a 18:00 horas\, recordando que también está habilitado el sector del parque recreativo. \nEl valor del bono contribución de ingreso es de $1500 general y $1000 para menores entre 6 y 12 años inclusive\, jubilados y residentes de la micro región “Tierra de Palmares”. \nContacto: 3447436203 – www.museoelporvenir.com.ar
URL:https://villaelisa.gov.ar/evento/visitas-guiadas-en-estancia-museo-el-porvenir-4/2025-08-07/
LOCATION:Estancia Museo “El Porvenir”
ATTACH;FMTTYPE=image/jpeg:https://villaelisa.gov.ar/wp-content/uploads/2025/07/02.8-Horarios-Agosto.jpeg
END:VEVENT
BEGIN:VEVENT
DTSTART;TZID=America/Argentina/Buenos_Aires:20250808T103000
DTEND;TZID=America/Argentina/Buenos_Aires:20250808T130000
DTSTAMP:20260425T083727
CREATED:20250724T200626Z
LAST-MODIFIED:20250724T200626Z
UID:10004471-1754649000-1754658000@villaelisa.gov.ar
SUMMARY:Visitas Guiadas en Estancia Museo El Porvenir
DESCRIPTION:Las visitas guiadas pueden realizarse de lunes a viernes (excepto martes) a las 10:30 y 12:00 horas. Si se lo desea\, se puede visitar el lugar en forma independiente (sin visita guiada) de 10:00 a 13:00 y de 15:00 a 18:00 horas\, recordando que también está habilitado el sector del parque recreativo. \nEl valor del bono contribución de ingreso es de $1500 general y $1000 para menores entre 6 y 12 años inclusive\, jubilados y residentes de la micro región “Tierra de Palmares”. \nContacto: 3447436203 – www.museoelporvenir.com.ar
URL:https://villaelisa.gov.ar/evento/visitas-guiadas-en-estancia-museo-el-porvenir-4/2025-08-08/
LOCATION:Estancia Museo “El Porvenir”
ATTACH;FMTTYPE=image/jpeg:https://villaelisa.gov.ar/wp-content/uploads/2025/07/02.8-Horarios-Agosto.jpeg
END:VEVENT
BEGIN:VEVENT
DTSTART;TZID=America/Argentina/Buenos_Aires:20250808T140000
DTEND;TZID=America/Argentina/Buenos_Aires:20250808T180000
DTSTAMP:20260425T083727
CREATED:20250808T115211Z
LAST-MODIFIED:20250808T115211Z
UID:10004503-1754661600-1754676000@villaelisa.gov.ar
SUMMARY:Gran Feria Patitas
DESCRIPTION:Te esperamos con muchos artículos a muy buen precio\, todo a beneficio APA PATITAS
URL:https://villaelisa.gov.ar/evento/gran-feria-patitas-3/
LOCATION:Centro Union\, El Ñandubay 1075\, Villa Elisa\, Entre Rios\, 3265\, Argentina
ATTACH;FMTTYPE=image/jpeg:https://villaelisa.gov.ar/wp-content/uploads/2025/08/WhatsApp-Image-2025-08-08-at-8.47.29-AM.jpeg
END:VEVENT
BEGIN:VEVENT
DTSTART;TZID=America/Argentina/Buenos_Aires:20250808T213000
DTEND;TZID=America/Argentina/Buenos_Aires:20250808T223000
DTSTAMP:20260425T083727
CREATED:20250807T154623Z
LAST-MODIFIED:20250807T154623Z
UID:10004500-1754688600-1754692200@villaelisa.gov.ar
SUMMARY:Basquetbol en CAVE
DESCRIPTION:El local Club Atlético Villa Elisa recibe al Club Rocamora de Concepción del Uruguay en un atrapante partido de basquetbol.
URL:https://villaelisa.gov.ar/evento/basquetbol-en-cave/
LOCATION:Estadio cerrado CAVE\, Emilio Francou e Irigoyen\, Villa Elisa\, 3264
ATTACH;FMTTYPE=image/jpeg:https://villaelisa.gov.ar/wp-content/uploads/2025/08/WhatsApp-Image-2025-08-07-at-12.28.41-PM.jpeg
GEO:-32.164117;-58.397421
X-APPLE-STRUCTURED-LOCATION;VALUE=URI;X-ADDRESS=Estadio cerrado CAVE Emilio Francou e Irigoyen Villa Elisa 3264;X-APPLE-RADIUS=500;X-TITLE=Emilio Francou e Irigoyen:geo:-58.397421,-32.164117
END:VEVENT
BEGIN:VEVENT
DTSTART;TZID=America/Argentina/Buenos_Aires:20250809T140000
DTEND;TZID=America/Argentina/Buenos_Aires:20250809T180000
DTSTAMP:20260425T083727
CREATED:20250808T115303Z
LAST-MODIFIED:20250808T115303Z
UID:10004504-1754748000-1754762400@villaelisa.gov.ar
SUMMARY:Gran Feria Patitas
DESCRIPTION:Te esperamos con muchos artículos a muy buen precio\, todo a beneficio APA PATITAS
URL:https://villaelisa.gov.ar/evento/gran-feria-patitas-4/
LOCATION:Centro Union\, El Ñandubay 1075\, Villa Elisa\, Entre Rios\, 3265\, Argentina
ATTACH;FMTTYPE=image/jpeg:https://villaelisa.gov.ar/wp-content/uploads/2025/08/WhatsApp-Image-2025-08-08-at-8.47.29-AM.jpeg
END:VEVENT
BEGIN:VEVENT
DTSTART;TZID=America/Argentina/Buenos_Aires:20250809T140000
DTEND;TZID=America/Argentina/Buenos_Aires:20250809T183000
DTSTAMP:20260425T083727
CREATED:20250724T183706Z
LAST-MODIFIED:20250724T183706Z
UID:10004466-1754748000-1754764200@villaelisa.gov.ar
SUMMARY:Festejo de las Infancias
DESCRIPTION:Una jornada para celebrar el mes de las infancias\, poder jugar\, disfrutar de merienda y algunas sorpresas más en Colonia Hocker. \nVeni a pasarlo lindo!!!
URL:https://villaelisa.gov.ar/evento/festejo-de-las-infancias/
LOCATION:Colonia Hocker
ATTACH;FMTTYPE=image/jpeg:https://villaelisa.gov.ar/wp-content/uploads/2025/07/WhatsApp-Image-2025-07-18-at-8.11.47-AM-1.jpeg
END:VEVENT
BEGIN:VEVENT
DTSTART;TZID=America/Argentina/Buenos_Aires:20250809T150000
DTEND;TZID=America/Argentina/Buenos_Aires:20250809T183000
DTSTAMP:20260425T083727
CREATED:20250808T115615Z
LAST-MODIFIED:20250808T115616Z
UID:10004255-1754751600-1754764200@villaelisa.gov.ar
SUMMARY:Estación Elisa - Ferroclub Central Entrerriano
DESCRIPTION:  \nDesde las 15:00 estará abierta la estación Elisa donde encontrarás maquinarias y elementos de época a las 15:30 y 17 horas habrá paseos en el tren histórico turístico para vivir una gran experiencia. \nCalle Centenario 2200 \nConsultas al 3442 551086
URL:https://villaelisa.gov.ar/evento/ferroclub-central-entrerriano-6-2-2-2-5-5/
LOCATION:Ferroclub Central Entrerriano\, Centenario y Arenales\, Villa Elisa\, 3265
ATTACH;FMTTYPE=image/jpeg:https://villaelisa.gov.ar/wp-content/uploads/2025/01/IMG_20231210_175944197-scaled.jpg
END:VEVENT
BEGIN:VEVENT
DTSTART;TZID=America/Argentina/Buenos_Aires:20250809T203000
DTEND;TZID=America/Argentina/Buenos_Aires:20250809T220000
DTSTAMP:20260425T083727
CREATED:20250716T150304Z
LAST-MODIFIED:20250805T151221Z
UID:10004431-1754771400-1754776800@villaelisa.gov.ar
SUMMARY:"Una Aventura de Niñeras" en Cine Paradiso
DESCRIPTION:Una historia de confusión con entretenidos recorridos e impecablemente actuada que causará diversas reacciones emocionales en más de un miembro del público en el cine.
URL:https://villaelisa.gov.ar/evento/la-habitacion-en-cine-paradiso/
LOCATION:Cine Paradiso\, Gral. Alvear 942\, Villa Elisa\, 3265
ATTACH;FMTTYPE=image/jpeg:https://villaelisa.gov.ar/wp-content/uploads/2025/07/WhatsApp-Image-2025-08-05-at-11.39.39-AM.jpeg
END:VEVENT
BEGIN:VEVENT
DTSTART;TZID=America/Argentina/Buenos_Aires:20250809T210000
DTEND;TZID=America/Argentina/Buenos_Aires:20250810T030000
DTSTAMP:20260425T083727
CREATED:20250728T140705Z
LAST-MODIFIED:20250728T140705Z
UID:10004484-1754773200-1754794800@villaelisa.gov.ar
SUMMARY:SÁBADO 9 DE AGOSTO
DESCRIPTION:GRAN BAILE CON MAXI LOKER Y SU BANDA \nCUMBIA CON ACORDEÓN
URL:https://villaelisa.gov.ar/evento/sabado-9-de-agosto/
LOCATION:Centro María Auxiliadora\, H. Irigoyen 1269\, Villa Elisa
ATTACH;FMTTYPE=image/jpeg:https://villaelisa.gov.ar/wp-content/uploads/2025/07/InShot_20250728_090049922.jpg
END:VEVENT
END:VCALENDAR