BEGIN:VCALENDAR
VERSION:2.0
PRODID:-//Municipalidad de Villa Elisa, Entre Ríos - ECPv6.6.4.2//NONSGML v1.0//EN
CALSCALE:GREGORIAN
METHOD:PUBLISH
X-WR-CALNAME:Municipalidad de Villa Elisa, Entre Ríos
X-ORIGINAL-URL:https://villaelisa.gov.ar
X-WR-CALDESC:Eventos para Municipalidad de Villa Elisa, Entre Ríos
REFRESH-INTERVAL;VALUE=DURATION:PT1H
X-Robots-Tag:noindex
X-PUBLISHED-TTL:PT1H
BEGIN:VTIMEZONE
TZID:America/Argentina/Buenos_Aires
BEGIN:STANDARD
TZOFFSETFROM:-0300
TZOFFSETTO:-0300
TZNAME:-03
DTSTART:20250101T000000
END:STANDARD
END:VTIMEZONE
BEGIN:VEVENT
DTSTART;TZID=America/Argentina/Buenos_Aires:20250906T200000
DTEND;TZID=America/Argentina/Buenos_Aires:20250907T020000
DTSTAMP:20260424T192825
CREATED:20250902T143957Z
LAST-MODIFIED:20250902T143957Z
UID:10004599-1757188800-1757210400@villaelisa.gov.ar
SUMMARY:Noche de tango en La Fragua
DESCRIPTION:Noche de Tango en la Fragua.\nEste sábado 06 de septiembre a partir de las 20 hs\, noche de tango!!\nEn primera instancia a las 20 hs te proponemos una clase para que aprendas a bailar de la mano de los profesores Gabriel y Siomara de la ciudad de Concordia\, y a partir de las 21:30 abrimos la noche a pura milonga\, con música en Vivo de Juan Lima y musicalización de Andy Áreas\, una velada para bailar toda la noche!  \n💃Podes hacer la clase y luego quedarte a la Milonga o elegir por separado. \n🎫Valor de la clase: $3000\n🎟️Entrada a Milonga: $4000\n🍕Como siempre el bar el Nacional estará ofreciendo comidas y bebidas.\n💃 No te quedes con las ganas de milonguear. Te esperamos!!!! \n 
URL:https://villaelisa.gov.ar/evento/noche-de-tango-en-la-fragua-2/
LOCATION:Asociación Civil La Fragua\, Héctor de Elía 1489\, Villa Elisa\, 3265
ATTACH;FMTTYPE=image/jpeg:https://villaelisa.gov.ar/wp-content/uploads/2025/09/tango.jpeg
END:VEVENT
BEGIN:VEVENT
DTSTART;TZID=America/Argentina/Buenos_Aires:20250906T210000
DTEND;TZID=America/Argentina/Buenos_Aires:20250907T013000
DTSTAMP:20260424T192825
CREATED:20250827T141952Z
LAST-MODIFIED:20250905T124718Z
UID:10004572-1757192400-1757208600@villaelisa.gov.ar
SUMMARY:Baile en Centro Unión
DESCRIPTION:Este sábado una nueva oportunidad de compartir muy buena música y bailar muchisimo en Centro Unión
URL:https://villaelisa.gov.ar/evento/baile-en-centro-union-4/
ATTACH;FMTTYPE=image/jpeg:https://villaelisa.gov.ar/wp-content/uploads/2025/08/WhatsApp-Image-2025-09-05-at-9.12.26-AM.jpeg
END:VEVENT
BEGIN:VEVENT
DTSTART;TZID=America/Argentina/Buenos_Aires:20250907T100000
DTEND;TZID=America/Argentina/Buenos_Aires:20250907T130000
DTSTAMP:20260424T192825
CREATED:20241104T113404Z
LAST-MODIFIED:20241104T113404Z
UID:10002237-1757239200-1757250000@villaelisa.gov.ar
SUMMARY:Auto Tour
DESCRIPTION:TRAVELING VINA:  \nEs un servicio  extra\, que ofrece el complejo de Alojamientos “V I N A” \nExperiencia Rurales\, AUTO TOUR:  \nPlanificamos y coordinamos recorridos por bodegas\, fábricas de productos regionales\, y almacenes locales\, te llevamos a descubrir La Colonia\, cultura local y los paisajes mas hermosos de nuestra Tierra de Palmares.- \nOrganizado por Perla Lopez – \nReservas con anticipación: contacto 3447503491.- \nValor del recorrido: según destino elegido. \nTiempo demandado: aproximadamente 3 horas.- \nEl objetivo es formar una caravana\, con los vehículos de los interesados y hacer\, una mañana o una tarde de recorridos a los diferentes atractivos de nuestra zona  \nprevia coordinación.- \nPunto de salida: oficina de Turismo Villa Elisa.-
URL:https://villaelisa.gov.ar/evento/auto-tour/2025-09-07/
ATTACH;FMTTYPE=image/jpeg:https://villaelisa.gov.ar/wp-content/uploads/2024/11/Traveling-vina.jpg
END:VEVENT
BEGIN:VEVENT
DTSTART;TZID=America/Argentina/Buenos_Aires:20250907T133000
DTEND;TZID=America/Argentina/Buenos_Aires:20250907T183000
DTSTAMP:20260424T192825
CREATED:20250814T154307Z
LAST-MODIFIED:20250912T145706Z
UID:10004521-1757251800-1757269800@villaelisa.gov.ar
SUMMARY:Fútbol Departamental
DESCRIPTION:Un nuevo encuentro del Torneo Clausura. \n3ra: 13.30 hs. | 1ra: 15.45 hs.
URL:https://villaelisa.gov.ar/evento/futbol-departamental-10/
LOCATION:Estadio Justo José Lezcano (Cancha San Jorge)\, Villa Elisa\, 3265
ATTACH;FMTTYPE=image/jpeg:https://villaelisa.gov.ar/wp-content/uploads/2025/08/WhatsApp-Image-2025-09-11-at-10.39.09-PM.jpeg
END:VEVENT
BEGIN:VEVENT
DTSTART;TZID=America/Argentina/Buenos_Aires:20250907T140000
DTEND;TZID=America/Argentina/Buenos_Aires:20250907T180000
DTSTAMP:20260424T192825
CREATED:20250819T151017Z
LAST-MODIFIED:20250903T135014Z
UID:10004529-1757253600-1757268000@villaelisa.gov.ar
SUMMARY:Celebramos el Dia del Niño
DESCRIPTION:Te esperamos con juegos\, sorteos\, música\, facturas y chocolate en Centro Evita.
URL:https://villaelisa.gov.ar/evento/celebramos-el-dia-del-nino/
LOCATION:Centro Evita
ATTACH;FMTTYPE=image/jpeg:https://villaelisa.gov.ar/wp-content/uploads/2025/08/WhatsApp-Image-2025-09-03-at-10.45.39-AM.jpeg
END:VEVENT
BEGIN:VEVENT
DTSTART;TZID=America/Argentina/Buenos_Aires:20250907T150000
DTEND;TZID=America/Argentina/Buenos_Aires:20250907T183000
DTSTAMP:20260424T192825
CREATED:20250819T193110Z
LAST-MODIFIED:20250819T193110Z
UID:10004374-1757257200-1757269800@villaelisa.gov.ar
SUMMARY:Estación Elisa - Ferroclub Central Entrerriano
DESCRIPTION:  \nDesde las 15:00 estará abierta la estación Elisa donde encontrarás maquinarias y elementos de época a las 15:30 hs. habrá paseos en el tren histórico turístico para vivir una gran experiencia. \nCalle Centenario 2200 \nConsultas al 3442 551086
URL:https://villaelisa.gov.ar/evento/ferroclub-central-entrerriano-6-2-2-2-5-6-4/
LOCATION:Ferroclub Central Entrerriano\, Centenario y Arenales\, Villa Elisa\, 3265
ATTACH;FMTTYPE=image/jpeg:https://villaelisa.gov.ar/wp-content/uploads/2025/01/IMG_20231210_175944197-scaled.jpg
END:VEVENT
BEGIN:VEVENT
DTSTART;TZID=America/Argentina/Buenos_Aires:20250907T153000
DTEND;TZID=America/Argentina/Buenos_Aires:20250907T183000
DTSTAMP:20260424T192825
CREATED:20250813T200656Z
LAST-MODIFIED:20250813T200656Z
UID:10004519-1757259000-1757269800@villaelisa.gov.ar
SUMMARY:XIII Edición de la Fiesta del Inmigrante
DESCRIPTION:Cada año\, este evento celebra el legado de las comunidades inmigrantes que llegaron a nuestras tierras\, ofreciendo un espectáculo de colores\, sabores y tradiciones.⁣⁣\n Los esperamos el domingo 07 de septiembre desde las 15:30 horas en la Estancia Museo “El Porvenir”.⁣⁣\nHabrá:\n Venta y degustación de comidas a cargo de las colectividades. ⁣ Grupos de danzas e interpretación de canciones. Presentación de trajes típicos de cada colectividad. Exposición de objetos antiguos Sorteos\n\n Cierre musical con la actuación de Ritmo Inmigrante. Entrada libre y gratuita.\n\nContacto: 3447436203
URL:https://villaelisa.gov.ar/evento/xiii-edicion-de-la-fiesta-del-inmigrante/
LOCATION:Estancia Museo “El Porvenir”
ATTACH;FMTTYPE=image/jpeg:https://villaelisa.gov.ar/wp-content/uploads/2025/08/WhatsApp-Image-2025-08-08-at-9.41.03-AM.jpeg
END:VEVENT
BEGIN:VEVENT
DTSTART;TZID=America/Argentina/Buenos_Aires:20250907T203000
DTEND;TZID=America/Argentina/Buenos_Aires:20250907T220000
DTSTAMP:20260424T192825
CREATED:20250902T162948Z
LAST-MODIFIED:20250903T162007Z
UID:10004601-1757277000-1757282400@villaelisa.gov.ar
SUMMARY:Tradicional Desfile de Estudiantes
DESCRIPTION:Como todos los años se realiza el desfile de Primavera 2025 en Av Mitre entre H. de Elía y José Moix.
URL:https://villaelisa.gov.ar/evento/tradicional-desfile-de-estudiantes/
LOCATION:Av Mitre entre H. de Elia y José Moix
ATTACH;FMTTYPE=image/jpeg:https://villaelisa.gov.ar/wp-content/uploads/2025/09/WhatsApp-Image-2025-09-03-at-1.19.21-PM.jpeg
END:VEVENT
BEGIN:VEVENT
DTSTART;TZID=America/Argentina/Buenos_Aires:20250908T100000
DTEND;TZID=America/Argentina/Buenos_Aires:20250908T190000
DTSTAMP:20260424T192825
CREATED:20250901T124538Z
LAST-MODIFIED:20250901T124538Z
UID:10004593-1757325600-1757358000@villaelisa.gov.ar
SUMMARY:Fiesta Patronal
DESCRIPTION:10:00 Misa \n15:00 Misa y Procesion luego actuación de Grupo Karigma.
URL:https://villaelisa.gov.ar/evento/fiesta-patronal-2/
LOCATION:Parroquia Virgen Niña
ATTACH;FMTTYPE=image/jpeg:https://villaelisa.gov.ar/wp-content/uploads/2025/09/WhatsApp-Image-2025-09-01-at-9.44.58-AM.jpeg
END:VEVENT
BEGIN:VEVENT
DTSTART;TZID=America/Argentina/Buenos_Aires:20250909T000000
DTEND;TZID=America/Argentina/Buenos_Aires:20250929T235900
DTSTAMP:20260424T192825
CREATED:20250909T151441Z
LAST-MODIFIED:20250919T153813Z
UID:10004606-1757376000-1759190340@villaelisa.gov.ar
SUMMARY:PRIMAVERA 2025 EN VILLA ELISA-Promo estudiantil 2025
DESCRIPTION:El programa contempla semana de JUEGOS en el Polideportivo Municipal desde el lunes 8 al viernes 12. \nMientras que el DESFILE DE ANTORCHAS será el sábado 28 y la tradicional QUEMA DEL MUÑECO el domingo 29 de septiembre.
URL:https://villaelisa.gov.ar/evento/primavera-2025-en-villa-elisa-promo-estudiantil-2025/2025-09-09/3/
ATTACH;FMTTYPE=image/jpeg:https://villaelisa.gov.ar/wp-content/uploads/2025/09/WhatsApp-Image-2025-09-09-at-12.02.39-PM.jpeg
END:VEVENT
BEGIN:VEVENT
DTSTART;TZID=America/Argentina/Buenos_Aires:20250909T080000
DTEND;TZID=America/Argentina/Buenos_Aires:20250909T170000
DTSTAMP:20260424T192825
CREATED:20250909T151441Z
LAST-MODIFIED:20250919T153813Z
UID:10004619-1757404800-1757437200@villaelisa.gov.ar
SUMMARY:PRIMAVERA 2025 EN VILLA ELISA-Promo estudiantil 2025
DESCRIPTION:El programa contempla semana de JUEGOS en el Polideportivo Municipal desde el lunes 8 al viernes 12. \nMientras que el DESFILE DE ANTORCHAS será el sábado 28 y la tradicional QUEMA DEL MUÑECO el domingo 29 de septiembre.
URL:https://villaelisa.gov.ar/evento/primavera-2025-en-villa-elisa-promo-estudiantil-2025/2025-09-09/2/
ATTACH;FMTTYPE=image/jpeg:https://villaelisa.gov.ar/wp-content/uploads/2025/09/WhatsApp-Image-2025-09-09-at-12.02.39-PM.jpeg
END:VEVENT
BEGIN:VEVENT
DTSTART;TZID=America/Argentina/Buenos_Aires:20250910T103000
DTEND;TZID=America/Argentina/Buenos_Aires:20250910T130000
DTSTAMP:20260424T192825
CREATED:20250830T202121Z
LAST-MODIFIED:20250830T202121Z
UID:10004579-1757500200-1757509200@villaelisa.gov.ar
SUMMARY:Visitas Guiadas en Estancia Museo El Porvenir
DESCRIPTION:Las visitas guiadas pueden realizarse de lunes a viernes (excepto martes) a las 10:30 y 12:00 horas. Si se lo desea\, se puede visitar el lugar en forma independiente (sin visita guiada) de 10:00 a 13:00 y de 16:00 a 19:00 horas\, recordando que también está habilitado el sector del parque recreativo. \nEl valor del bono contribución de ingreso es de $1500 general y $1000 para menores entre 6 y 12 años inclusive\, jubilados y residentes de la micro región “Tierra de Palmares”. \nContacto: 3447436203 – www.museoelporvenir.com.ar
URL:https://villaelisa.gov.ar/evento/visitas-guiadas-en-estancia-museo-el-porvenir-6/2025-09-10/
LOCATION:Estancia Museo “El Porvenir”
ATTACH;FMTTYPE=image/jpeg:https://villaelisa.gov.ar/wp-content/uploads/2025/08/Horarios-septiembre-2025-feed.jpeg
END:VEVENT
BEGIN:VEVENT
DTSTART;TZID=America/Argentina/Buenos_Aires:20250911T103000
DTEND;TZID=America/Argentina/Buenos_Aires:20250911T130000
DTSTAMP:20260424T192825
CREATED:20250830T202121Z
LAST-MODIFIED:20250830T202121Z
UID:10004580-1757586600-1757595600@villaelisa.gov.ar
SUMMARY:Visitas Guiadas en Estancia Museo El Porvenir
DESCRIPTION:Las visitas guiadas pueden realizarse de lunes a viernes (excepto martes) a las 10:30 y 12:00 horas. Si se lo desea\, se puede visitar el lugar en forma independiente (sin visita guiada) de 10:00 a 13:00 y de 16:00 a 19:00 horas\, recordando que también está habilitado el sector del parque recreativo. \nEl valor del bono contribución de ingreso es de $1500 general y $1000 para menores entre 6 y 12 años inclusive\, jubilados y residentes de la micro región “Tierra de Palmares”. \nContacto: 3447436203 – www.museoelporvenir.com.ar
URL:https://villaelisa.gov.ar/evento/visitas-guiadas-en-estancia-museo-el-porvenir-6/2025-09-11/
LOCATION:Estancia Museo “El Porvenir”
ATTACH;FMTTYPE=image/jpeg:https://villaelisa.gov.ar/wp-content/uploads/2025/08/Horarios-septiembre-2025-feed.jpeg
END:VEVENT
BEGIN:VEVENT
DTSTART;TZID=America/Argentina/Buenos_Aires:20250912T103000
DTEND;TZID=America/Argentina/Buenos_Aires:20250912T130000
DTSTAMP:20260424T192825
CREATED:20250830T202121Z
LAST-MODIFIED:20250830T202121Z
UID:10004581-1757673000-1757682000@villaelisa.gov.ar
SUMMARY:Visitas Guiadas en Estancia Museo El Porvenir
DESCRIPTION:Las visitas guiadas pueden realizarse de lunes a viernes (excepto martes) a las 10:30 y 12:00 horas. Si se lo desea\, se puede visitar el lugar en forma independiente (sin visita guiada) de 10:00 a 13:00 y de 16:00 a 19:00 horas\, recordando que también está habilitado el sector del parque recreativo. \nEl valor del bono contribución de ingreso es de $1500 general y $1000 para menores entre 6 y 12 años inclusive\, jubilados y residentes de la micro región “Tierra de Palmares”. \nContacto: 3447436203 – www.museoelporvenir.com.ar
URL:https://villaelisa.gov.ar/evento/visitas-guiadas-en-estancia-museo-el-porvenir-6/2025-09-12/
LOCATION:Estancia Museo “El Porvenir”
ATTACH;FMTTYPE=image/jpeg:https://villaelisa.gov.ar/wp-content/uploads/2025/08/Horarios-septiembre-2025-feed.jpeg
END:VEVENT
BEGIN:VEVENT
DTSTART;TZID=America/Argentina/Buenos_Aires:20250912T203000
DTEND;TZID=America/Argentina/Buenos_Aires:20250912T220000
DTSTAMP:20260424T192825
CREATED:20250826T132054Z
LAST-MODIFIED:20250826T132054Z
UID:10004566-1757709000-1757714400@villaelisa.gov.ar
SUMMARY:Música en Voz Baja
DESCRIPTION:Noche especial con una propuesta maravillosa del grandioso artista Eduardo Rubinich en Bibloteca Mitre.
URL:https://villaelisa.gov.ar/evento/musica-en-voz-baja/
LOCATION:Biblioteca Popular General Mitre\, Av. Mitre 1160\, Villa Elisa\, 3265
ATTACH;FMTTYPE=image/jpeg:https://villaelisa.gov.ar/wp-content/uploads/2025/08/WhatsApp-Image-2025-08-26-at-10.17.01-AM.jpeg
END:VEVENT
BEGIN:VEVENT
DTSTART;TZID=America/Argentina/Buenos_Aires:20250913T210000
DTEND;TZID=America/Argentina/Buenos_Aires:20250914T003000
DTSTAMP:20260424T192825
CREATED:20250404T104939Z
LAST-MODIFIED:20250911T211104Z
UID:10003946-1757797200-1757809800@villaelisa.gov.ar
SUMMARY:Show en Vivo en "El Paso"
DESCRIPTION:Este sábado\, habrá un gran show en vivo con  “Corte Kumbia ” en el Restaurante El Paso. \nHacé tu reserva en Avda. Urquiza 3145 o por teléfono al 3447 641623. \n 
URL:https://villaelisa.gov.ar/evento/show-en-vivo/
LOCATION:Parrilla El Paso\, Av. Urquiza 3145\, Villa Elisa\, 3265
ATTACH;FMTTYPE=image/jpeg:https://villaelisa.gov.ar/wp-content/uploads/2025/04/WhatsApp-Image-2025-09-11-at-18.08.27.jpeg
END:VEVENT
BEGIN:VEVENT
DTSTART;TZID=America/Argentina/Buenos_Aires:20250913T210000
DTEND;TZID=America/Argentina/Buenos_Aires:20250914T030000
DTSTAMP:20260424T192825
CREATED:20250826T130550Z
LAST-MODIFIED:20250826T130550Z
UID:10004565-1757797200-1757818800@villaelisa.gov.ar
SUMMARY:GRAN BAILE
DESCRIPTION:SABADO 13 DE SEPTIEMBRE  \nGRAN BAILE CON BETOLA BOURLOT\, “EL VAGABUNDO “.
URL:https://villaelisa.gov.ar/evento/gran-baile-2/
LOCATION:Centro María Auxiliadora\, H. Irigoyen 1269\, Villa Elisa
ATTACH;FMTTYPE=image/jpeg:https://villaelisa.gov.ar/wp-content/uploads/2025/08/InShot_20250826_082845577-1-scaled.jpg
END:VEVENT
BEGIN:VEVENT
DTSTART;TZID=America/Argentina/Buenos_Aires:20250914T100000
DTEND;TZID=America/Argentina/Buenos_Aires:20250914T130000
DTSTAMP:20260424T192825
CREATED:20241104T113404Z
LAST-MODIFIED:20241104T113404Z
UID:10002238-1757844000-1757854800@villaelisa.gov.ar
SUMMARY:Auto Tour
DESCRIPTION:TRAVELING VINA:  \nEs un servicio  extra\, que ofrece el complejo de Alojamientos “V I N A” \nExperiencia Rurales\, AUTO TOUR:  \nPlanificamos y coordinamos recorridos por bodegas\, fábricas de productos regionales\, y almacenes locales\, te llevamos a descubrir La Colonia\, cultura local y los paisajes mas hermosos de nuestra Tierra de Palmares.- \nOrganizado por Perla Lopez – \nReservas con anticipación: contacto 3447503491.- \nValor del recorrido: según destino elegido. \nTiempo demandado: aproximadamente 3 horas.- \nEl objetivo es formar una caravana\, con los vehículos de los interesados y hacer\, una mañana o una tarde de recorridos a los diferentes atractivos de nuestra zona  \nprevia coordinación.- \nPunto de salida: oficina de Turismo Villa Elisa.-
URL:https://villaelisa.gov.ar/evento/auto-tour/2025-09-14/
ATTACH;FMTTYPE=image/jpeg:https://villaelisa.gov.ar/wp-content/uploads/2024/11/Traveling-vina.jpg
END:VEVENT
BEGIN:VEVENT
DTSTART;TZID=America/Argentina/Buenos_Aires:20250914T100000
DTEND;TZID=America/Argentina/Buenos_Aires:20250914T180000
DTSTAMP:20260424T192825
CREATED:20250807T182127Z
LAST-MODIFIED:20250912T182908Z
UID:10004502-1757844000-1757872800@villaelisa.gov.ar
SUMMARY:140° Aniversario de Colonia Hocker
DESCRIPTION:Gran celebración del 140 ° aniversario de la fundación de Colonia Hocker\, en un emotivo encuentro. \nDesfile evocativo\, espectáculos musicales\, exposición de artesanos\, venta de comidas típicas.
URL:https://villaelisa.gov.ar/evento/140-aniversario-de-colonia-hocker/
LOCATION:Colonia Hocker
ATTACH;FMTTYPE=image/jpeg:https://villaelisa.gov.ar/wp-content/uploads/2025/08/WhatsApp-Image-2025-09-12-at-15.17.33.jpeg
END:VEVENT
BEGIN:VEVENT
DTSTART;TZID=America/Argentina/Buenos_Aires:20250914T120000
DTEND;TZID=America/Argentina/Buenos_Aires:20250914T173000
DTSTAMP:20260424T192825
CREATED:20250807T155004Z
LAST-MODIFIED:20250807T155004Z
UID:10004501-1757851200-1757871000@villaelisa.gov.ar
SUMMARY:Almuerzo Solidario
DESCRIPTION:En Centro Unión junto a la Cooperadora del Hospital San Roque se ofrece este gran almuerzo y show bailable. \nLos esperamos!!!
URL:https://villaelisa.gov.ar/evento/almuerzo-solidario/
LOCATION:Centro Union\, El Ñandubay 1075\, Villa Elisa\, Entre Rios\, 3265\, Argentina
ATTACH;FMTTYPE=image/jpeg:https://villaelisa.gov.ar/wp-content/uploads/2025/08/WhatsApp-Image-2025-08-07-at-12.43.20-PM.jpeg
END:VEVENT
BEGIN:VEVENT
DTSTART;TZID=America/Argentina/Buenos_Aires:20250914T150000
DTEND;TZID=America/Argentina/Buenos_Aires:20250914T183000
DTSTAMP:20260424T192825
CREATED:20250819T193227Z
LAST-MODIFIED:20250819T193228Z
UID:10004375-1757862000-1757874600@villaelisa.gov.ar
SUMMARY:Estación Elisa - Ferroclub Central Entrerriano
DESCRIPTION:  \nDesde las 15:00 estará abierta la estación Elisa donde encontrarás maquinarias y elementos de época a las 15:30 hs. habrá paseos en el tren histórico turístico para vivir una gran experiencia. \nCalle Centenario 2200 \nConsultas al 3442 551086
URL:https://villaelisa.gov.ar/evento/ferroclub-central-entrerriano-6-2-2-2-5-6-5/
LOCATION:Ferroclub Central Entrerriano\, Centenario y Arenales\, Villa Elisa\, 3265
ATTACH;FMTTYPE=image/jpeg:https://villaelisa.gov.ar/wp-content/uploads/2025/01/IMG_20231210_175944197-scaled.jpg
END:VEVENT
BEGIN:VEVENT
DTSTART;TZID=America/Argentina/Buenos_Aires:20250914T190000
DTEND;TZID=America/Argentina/Buenos_Aires:20250914T210000
DTSTAMP:20260424T192825
CREATED:20250910T131325Z
LAST-MODIFIED:20250910T131325Z
UID:10004621-1757876400-1757883600@villaelisa.gov.ar
SUMMARY:Concierto de Arpas
DESCRIPTION:Este domingo 14 de septiembre\, a partir de las 19 hs en la Fragua\, Gran Concierto de Arpas!\nDesde Paysandú\, Uruguay\, recibimos a la reconocida arpista Ruth Vaucher y sus alumnos: niños arpistas que nos deleitarán con melodías. Habrá músicos invitados!\nlos esperamos para apreciar este singular instrumento\, y homenajear a la música en este encuentro internacional.\nLa entrada es con colaboración a la gorra.
URL:https://villaelisa.gov.ar/evento/concierto-de-arpas/
LOCATION:Asociación Civil La Fragua\, Héctor de Elía 1489\, Villa Elisa\, 3265
ATTACH;FMTTYPE=image/jpeg:https://villaelisa.gov.ar/wp-content/uploads/2025/09/arpas.jpg
END:VEVENT
BEGIN:VEVENT
DTSTART;TZID=America/Argentina/Buenos_Aires:20250915T103000
DTEND;TZID=America/Argentina/Buenos_Aires:20250915T130000
DTSTAMP:20260424T192825
CREATED:20250830T202121Z
LAST-MODIFIED:20250830T202121Z
UID:10004582-1757932200-1757941200@villaelisa.gov.ar
SUMMARY:Visitas Guiadas en Estancia Museo El Porvenir
DESCRIPTION:Las visitas guiadas pueden realizarse de lunes a viernes (excepto martes) a las 10:30 y 12:00 horas. Si se lo desea\, se puede visitar el lugar en forma independiente (sin visita guiada) de 10:00 a 13:00 y de 16:00 a 19:00 horas\, recordando que también está habilitado el sector del parque recreativo. \nEl valor del bono contribución de ingreso es de $1500 general y $1000 para menores entre 6 y 12 años inclusive\, jubilados y residentes de la micro región “Tierra de Palmares”. \nContacto: 3447436203 – www.museoelporvenir.com.ar
URL:https://villaelisa.gov.ar/evento/visitas-guiadas-en-estancia-museo-el-porvenir-6/2025-09-15/
LOCATION:Estancia Museo “El Porvenir”
ATTACH;FMTTYPE=image/jpeg:https://villaelisa.gov.ar/wp-content/uploads/2025/08/Horarios-septiembre-2025-feed.jpeg
END:VEVENT
BEGIN:VEVENT
DTSTART;TZID=America/Argentina/Buenos_Aires:20250917T103000
DTEND;TZID=America/Argentina/Buenos_Aires:20250917T130000
DTSTAMP:20260424T192825
CREATED:20250830T202121Z
LAST-MODIFIED:20250830T202121Z
UID:10004583-1758105000-1758114000@villaelisa.gov.ar
SUMMARY:Visitas Guiadas en Estancia Museo El Porvenir
DESCRIPTION:Las visitas guiadas pueden realizarse de lunes a viernes (excepto martes) a las 10:30 y 12:00 horas. Si se lo desea\, se puede visitar el lugar en forma independiente (sin visita guiada) de 10:00 a 13:00 y de 16:00 a 19:00 horas\, recordando que también está habilitado el sector del parque recreativo. \nEl valor del bono contribución de ingreso es de $1500 general y $1000 para menores entre 6 y 12 años inclusive\, jubilados y residentes de la micro región “Tierra de Palmares”. \nContacto: 3447436203 – www.museoelporvenir.com.ar
URL:https://villaelisa.gov.ar/evento/visitas-guiadas-en-estancia-museo-el-porvenir-6/2025-09-17/
LOCATION:Estancia Museo “El Porvenir”
ATTACH;FMTTYPE=image/jpeg:https://villaelisa.gov.ar/wp-content/uploads/2025/08/Horarios-septiembre-2025-feed.jpeg
END:VEVENT
BEGIN:VEVENT
DTSTART;TZID=America/Argentina/Buenos_Aires:20250917T193000
DTEND;TZID=America/Argentina/Buenos_Aires:20250917T210000
DTSTAMP:20260424T192825
CREATED:20250916T192120Z
LAST-MODIFIED:20250916T192252Z
UID:10004631-1758137400-1758142800@villaelisa.gov.ar
SUMMARY:Futbol Infantil
DESCRIPTION:En esta fecha las categorias 2014  jugarán el clásico local
URL:https://villaelisa.gov.ar/evento/futbol-infantil-2/
LOCATION:CAVE Estadio 2 de Junio
ATTACH;FMTTYPE=image/jpeg:https://villaelisa.gov.ar/wp-content/uploads/2025/09/WhatsApp-Image-2025-09-16-at-3.17.20-PM.jpeg
END:VEVENT
BEGIN:VEVENT
DTSTART;TZID=America/Argentina/Buenos_Aires:20250918T100000
DTEND;TZID=America/Argentina/Buenos_Aires:20250918T110000
DTSTAMP:20260424T192825
CREATED:20250917T182103Z
LAST-MODIFIED:20250917T182103Z
UID:10004635-1758189600-1758193200@villaelisa.gov.ar
SUMMARY:Feria de la Escuela de Educación Integral
DESCRIPTION:Los esperamos en la Feria Artesanal Plaza Urquiza
URL:https://villaelisa.gov.ar/evento/feria-de-la-escuela-de-educacion-integral/
LOCATION:Plaza Urquiza\, Villa Elisa
ATTACH;FMTTYPE=image/jpeg:https://villaelisa.gov.ar/wp-content/uploads/2025/09/WhatsApp-Image-2025-09-17-at-2.48.32-PM.jpeg
END:VEVENT
BEGIN:VEVENT
DTSTART;TZID=America/Argentina/Buenos_Aires:20250918T103000
DTEND;TZID=America/Argentina/Buenos_Aires:20250918T130000
DTSTAMP:20260424T192825
CREATED:20250830T202121Z
LAST-MODIFIED:20250830T202121Z
UID:10004584-1758191400-1758200400@villaelisa.gov.ar
SUMMARY:Visitas Guiadas en Estancia Museo El Porvenir
DESCRIPTION:Las visitas guiadas pueden realizarse de lunes a viernes (excepto martes) a las 10:30 y 12:00 horas. Si se lo desea\, se puede visitar el lugar en forma independiente (sin visita guiada) de 10:00 a 13:00 y de 16:00 a 19:00 horas\, recordando que también está habilitado el sector del parque recreativo. \nEl valor del bono contribución de ingreso es de $1500 general y $1000 para menores entre 6 y 12 años inclusive\, jubilados y residentes de la micro región “Tierra de Palmares”. \nContacto: 3447436203 – www.museoelporvenir.com.ar
URL:https://villaelisa.gov.ar/evento/visitas-guiadas-en-estancia-museo-el-porvenir-6/2025-09-18/
LOCATION:Estancia Museo “El Porvenir”
ATTACH;FMTTYPE=image/jpeg:https://villaelisa.gov.ar/wp-content/uploads/2025/08/Horarios-septiembre-2025-feed.jpeg
END:VEVENT
BEGIN:VEVENT
DTSTART;TZID=America/Argentina/Buenos_Aires:20250919T103000
DTEND;TZID=America/Argentina/Buenos_Aires:20250919T130000
DTSTAMP:20260424T192825
CREATED:20250830T202121Z
LAST-MODIFIED:20250830T202121Z
UID:10004585-1758277800-1758286800@villaelisa.gov.ar
SUMMARY:Visitas Guiadas en Estancia Museo El Porvenir
DESCRIPTION:Las visitas guiadas pueden realizarse de lunes a viernes (excepto martes) a las 10:30 y 12:00 horas. Si se lo desea\, se puede visitar el lugar en forma independiente (sin visita guiada) de 10:00 a 13:00 y de 16:00 a 19:00 horas\, recordando que también está habilitado el sector del parque recreativo. \nEl valor del bono contribución de ingreso es de $1500 general y $1000 para menores entre 6 y 12 años inclusive\, jubilados y residentes de la micro región “Tierra de Palmares”. \nContacto: 3447436203 – www.museoelporvenir.com.ar
URL:https://villaelisa.gov.ar/evento/visitas-guiadas-en-estancia-museo-el-porvenir-6/2025-09-19/
LOCATION:Estancia Museo “El Porvenir”
ATTACH;FMTTYPE=image/jpeg:https://villaelisa.gov.ar/wp-content/uploads/2025/08/Horarios-septiembre-2025-feed.jpeg
END:VEVENT
BEGIN:VEVENT
DTSTART;TZID=America/Argentina/Buenos_Aires:20250919T200000
DTEND;TZID=America/Argentina/Buenos_Aires:20250919T233000
DTSTAMP:20260424T192825
CREATED:20250704T174242Z
LAST-MODIFIED:20250822T123652Z
UID:10004364-1758312000-1758324600@villaelisa.gov.ar
SUMMARY:Peña Amiga
DESCRIPTION:La Peña te espera para compartir una noche con buena música y gran servicio de comidas y bebidas. \nLos esperamos!!!
URL:https://villaelisa.gov.ar/evento/pena-amiga/
LOCATION:pizzeria pizza kids\, Urquiza 1824\, Villa elisa\, 3265
ATTACH;FMTTYPE=image/jpeg:https://villaelisa.gov.ar/wp-content/uploads/2025/07/WhatsApp-Image-2025-08-22-at-9.34.37-AM.jpeg
END:VEVENT
BEGIN:VEVENT
DTSTART;TZID=America/Argentina/Buenos_Aires:20250919T210000
DTEND;TZID=America/Argentina/Buenos_Aires:20250919T220000
DTSTAMP:20260424T192825
CREATED:20250916T100604Z
LAST-MODIFIED:20250916T100604Z
UID:10004628-1758315600-1758319200@villaelisa.gov.ar
SUMMARY:"LETERNO"
DESCRIPTION:Volviendo de su gira por nuestro litoral\, llega desde Buenos Aires\n“LETERNO”-\nUn unipersonal con un león\, veinte jirafas\, una orquesta y un pianista.\nAmor\, dolor\, crimen\, deseo y un final estremecedor.\nVida\, pasión y obra de Torino San VERENO ¿Hasta donde llega un hombre para concretar sus sueños?\nUna obra teatral de humor para mayores de 12 años\n\n\nActúa: Mariano Bassi\nCoreografía y asistencia de dirección: Virginia Leanza\nAutoría: Mariano Bassi.\n\n\nVIERNES 19 DE SEPTIEMBRE\n 21HS\n” La Enredada” – Emilio Francou 1548- V. Elisa\n Por entradas 3447 434992 o pasa por @Optica Blanc.
URL:https://villaelisa.gov.ar/evento/leterno/
LOCATION:La ENREDADA\, FRANCOU 1548\, Villa Elisa\, 3265
ATTACH;FMTTYPE=image/png:https://villaelisa.gov.ar/wp-content/uploads/2025/09/19SEP.png
END:VEVENT
END:VCALENDAR