BEGIN:VCALENDAR
VERSION:2.0
PRODID:-//Municipalidad de Villa Elisa, Entre Ríos - ECPv6.6.4.2//NONSGML v1.0//EN
CALSCALE:GREGORIAN
METHOD:PUBLISH
X-WR-CALNAME:Municipalidad de Villa Elisa, Entre Ríos
X-ORIGINAL-URL:https://villaelisa.gov.ar
X-WR-CALDESC:Eventos para Municipalidad de Villa Elisa, Entre Ríos
REFRESH-INTERVAL;VALUE=DURATION:PT1H
X-Robots-Tag:noindex
X-PUBLISHED-TTL:PT1H
BEGIN:VTIMEZONE
TZID:America/Argentina/Buenos_Aires
BEGIN:STANDARD
TZOFFSETFROM:-0300
TZOFFSETTO:-0300
TZNAME:-03
DTSTART:20250101T000000
END:STANDARD
END:VTIMEZONE
BEGIN:VEVENT
DTSTART;TZID=America/Argentina/Buenos_Aires:20251024T103000
DTEND;TZID=America/Argentina/Buenos_Aires:20251024T130000
DTSTAMP:20260424T054017
CREATED:20250922T192100Z
LAST-MODIFIED:20250922T192100Z
UID:10004657-1761301800-1761310800@villaelisa.gov.ar
SUMMARY:Visitas Guiadas en Estancia Museo El Porvenir
DESCRIPTION:Las visitas guiadas pueden realizarse de lunes a viernes (excepto martes) a las 10:30 y 12:00 horas. Si se lo desea\, se puede visitar el lugar en forma independiente (sin visita guiada) de 10:00 a 13:00 y de 16:00 a 19:00 horas\, recordando que también está habilitado el sector del parque recreativo. \nEl valor del bono contribución de ingreso es de $1500 general y $1000 para menores entre 6 y 12 años inclusive\, jubilados y residentes de la micro región “Tierra de Palmares”. \nContacto: 3447436203 – www.museoelporvenir.com.ar
URL:https://villaelisa.gov.ar/evento/visitas-guiadas-en-estancia-museo-el-porvenir-7/2025-10-24/
LOCATION:Estancia Museo “El Porvenir”
ATTACH;FMTTYPE=image/jpeg:https://villaelisa.gov.ar/wp-content/uploads/2025/08/Horarios-septiembre-2025-feed.jpeg
END:VEVENT
BEGIN:VEVENT
DTSTART;TZID=America/Argentina/Buenos_Aires:20251024T203000
DTEND;TZID=America/Argentina/Buenos_Aires:20251024T233000
DTSTAMP:20260424T054017
CREATED:20251024T121809Z
LAST-MODIFIED:20251024T121809Z
UID:10004721-1761337800-1761348600@villaelisa.gov.ar
SUMMARY:Fiesta de la Familia
DESCRIPTION:En esta jornada especial los esperamos para compartir momentos inolvidables.
URL:https://villaelisa.gov.ar/evento/fiesta-de-la-familia/
LOCATION:Polideportivo Municipal\, Bv. Churruarín y Héctor de Elía
ATTACH;FMTTYPE=image/jpeg:https://villaelisa.gov.ar/wp-content/uploads/2025/10/WhatsApp-Image-2025-10-23-at-10.29.01-PM.jpeg
END:VEVENT
BEGIN:VEVENT
DTSTART;TZID=America/Argentina/Buenos_Aires:20251024T203000
DTEND;TZID=America/Argentina/Buenos_Aires:20251025T010000
DTSTAMP:20260424T054017
CREATED:20251009T131538Z
LAST-MODIFIED:20251009T131538Z
UID:10004695-1761337800-1761354000@villaelisa.gov.ar
SUMMARY:Peña Amiga para Todos
DESCRIPTION:Una nueva edición de estos muy concurridos encuentros de nuestras tradiciones con Canto raíz y a microfono abierto.
URL:https://villaelisa.gov.ar/evento/pena-amiga-para-todos/
LOCATION:pizzeria pizza kids\, Urquiza 1824\, Villa elisa\, 3265
ATTACH;FMTTYPE=image/jpeg:https://villaelisa.gov.ar/wp-content/uploads/2025/10/WhatsApp-Image-2025-10-08-at-8.01.54-PM.jpeg
END:VEVENT
BEGIN:VEVENT
DTSTART;TZID=America/Argentina/Buenos_Aires:20251024T210000
DTEND;TZID=America/Argentina/Buenos_Aires:20251025T023000
DTSTAMP:20260424T054017
CREATED:20251022T145123Z
LAST-MODIFIED:20251022T145123Z
UID:10004717-1761339600-1761359400@villaelisa.gov.ar
SUMMARY:GRAN BAILE
DESCRIPTION:VIERNES 24 DE OCTUBRE  \nGRAN BAILE CON \nMAXI LOKER Y SU BANDA 
URL:https://villaelisa.gov.ar/evento/gran-baile-4/
LOCATION:Centro María Auxiliadora\, H. Irigoyen 1269\, Villa Elisa
ATTACH;FMTTYPE=image/jpeg:https://villaelisa.gov.ar/wp-content/uploads/2025/10/InShot_20251013_100545678-1.jpg
END:VEVENT
BEGIN:VEVENT
DTSTART;TZID=America/Argentina/Buenos_Aires:20251024T213000
DTEND;TZID=America/Argentina/Buenos_Aires:20251024T233000
DTSTAMP:20260424T054017
CREATED:20251018T125442Z
LAST-MODIFIED:20251024T131943Z
UID:10004712-1761341400-1761348600@villaelisa.gov.ar
SUMMARY:Fútbol Departamental
DESCRIPTION:El Club Recreativo San Jorge en su estadio J.J.Lescano\, recibe al Club Atlético Campito en un importante partido.
URL:https://villaelisa.gov.ar/evento/futbol-regional-amateur/
LOCATION:Estadio Justo José Lezcano (Cancha San Jorge)\, Villa Elisa\, 3265
ATTACH;FMTTYPE=image/jpeg:https://villaelisa.gov.ar/wp-content/uploads/2025/10/WhatsApp-Image-2025-10-24-at-10.13.59-AM.jpeg
END:VEVENT
BEGIN:VEVENT
DTSTART;TZID=America/Argentina/Buenos_Aires:20251025T180000
DTEND;TZID=America/Argentina/Buenos_Aires:20251025T193000
DTSTAMP:20260424T054017
CREATED:20251016T153906Z
LAST-MODIFIED:20251016T153906Z
UID:10004707-1761415200-1761420600@villaelisa.gov.ar
SUMMARY:Caminata de Lalcec
DESCRIPTION:Lalcec Villa Elisa\, en el marco de la Campaña de Prevención y Detección Temprana del Cáncer de Mama\, realizará el sábado 25/10/25 una caminata.\nHabrá un stand\, donde tendremos a la venta\, remeras con el nuevo diseño.\nNos encantaría contar con su apoyo.\nLa idea es caminar juntos y apostando siempre a la prevención.\nPrevenir es amar la vida.
URL:https://villaelisa.gov.ar/evento/caminata-de-lalcec/
LOCATION:Plazoleta de la Madre
ATTACH;FMTTYPE=image/jpeg:https://villaelisa.gov.ar/wp-content/uploads/2025/10/WhatsApp-Image-2025-10-16-at-10.28.24-AM-1.jpeg
END:VEVENT
BEGIN:VEVENT
DTSTART;TZID=America/Argentina/Buenos_Aires:20251025T210000
DTEND;TZID=America/Argentina/Buenos_Aires:20251025T223000
DTSTAMP:20260424T054017
CREATED:20251023T150406Z
LAST-MODIFIED:20251023T150406Z
UID:10004719-1761426000-1761431400@villaelisa.gov.ar
SUMMARY:"El día que me amen" Pelicula en Cine Paradiso
DESCRIPTION:Hermosa comedia con grandioso elenco argentino\, donde dos amigos de la infancia que luego de diferentes viajes se reúnen como adultos\, la podes disfrutar  este sábado 25 a las 21\, en Cine Paradiso Alvear 942.
URL:https://villaelisa.gov.ar/evento/el-dia-que-me-amen-pelicula-en-cine-paradiso/
LOCATION:Cine Paradiso\, Gral. Alvear 942\, Villa Elisa\, 3265
ATTACH;FMTTYPE=image/jpeg:https://villaelisa.gov.ar/wp-content/uploads/2025/10/WhatsApp-Image-2025-10-23-at-11.56.38-AM.jpeg
END:VEVENT
BEGIN:VEVENT
DTSTART;TZID=America/Argentina/Buenos_Aires:20251026T100000
DTEND;TZID=America/Argentina/Buenos_Aires:20251026T130000
DTSTAMP:20260424T054017
CREATED:20241104T113404Z
LAST-MODIFIED:20241104T113404Z
UID:10002244-1761472800-1761483600@villaelisa.gov.ar
SUMMARY:Auto Tour
DESCRIPTION:TRAVELING VINA:  \nEs un servicio  extra\, que ofrece el complejo de Alojamientos “V I N A” \nExperiencia Rurales\, AUTO TOUR:  \nPlanificamos y coordinamos recorridos por bodegas\, fábricas de productos regionales\, y almacenes locales\, te llevamos a descubrir La Colonia\, cultura local y los paisajes mas hermosos de nuestra Tierra de Palmares.- \nOrganizado por Perla Lopez – \nReservas con anticipación: contacto 3447503491.- \nValor del recorrido: según destino elegido. \nTiempo demandado: aproximadamente 3 horas.- \nEl objetivo es formar una caravana\, con los vehículos de los interesados y hacer\, una mañana o una tarde de recorridos a los diferentes atractivos de nuestra zona  \nprevia coordinación.- \nPunto de salida: oficina de Turismo Villa Elisa.-
URL:https://villaelisa.gov.ar/evento/auto-tour/2025-10-26/
ATTACH;FMTTYPE=image/jpeg:https://villaelisa.gov.ar/wp-content/uploads/2024/11/Traveling-vina.jpg
END:VEVENT
BEGIN:VEVENT
DTSTART;TZID=America/Argentina/Buenos_Aires:20251026T193000
DTEND;TZID=America/Argentina/Buenos_Aires:20251026T203000
DTSTAMP:20260424T054017
CREATED:20251024T141314Z
LAST-MODIFIED:20251024T141314Z
UID:10004724-1761507000-1761510600@villaelisa.gov.ar
SUMMARY:Charla Motivacional
DESCRIPTION:La corredora del Seleccionado Argentino de Trail Running\, Fernanda Martínez\, llega a Villa Elisa para brindar una charla motivacional el próximo domingo 26 de octubre.⁣\n⁣\nLa charla\, abierta al público en general\, será a las 19:30 horas en la Biblioteca Popular Mitre de la ciudad de Villa Elisa\, Entre Ríos. Entrada libre y gratuita.⁣\n⁣\nFernanda corredora del Seleccionado Argentino de Trail Running y atleta de la marca Nike Trail\, compartirá su experiencia representando a la Argentina en competencias nacionales e internacionales\, en circuitos de montañas\, caminos y asumiendo desafíos físicos y de fortaleza mental.⁣\n⁣\nInvitan: áreas de Deportes y Turismo de la Municipalidad de Villa Elisa.⁣
URL:https://villaelisa.gov.ar/evento/charla-motivacional/
LOCATION:Biblioteca Popular General Mitre\, Av. Mitre 1160\, Villa Elisa\, 3265
ATTACH;FMTTYPE=image/jpeg:https://villaelisa.gov.ar/wp-content/uploads/2025/10/WhatsApp-Image-2025-10-24-at-11.08.15-AM.jpeg
END:VEVENT
BEGIN:VEVENT
DTSTART;TZID=America/Argentina/Buenos_Aires:20251027T103000
DTEND;TZID=America/Argentina/Buenos_Aires:20251027T130000
DTSTAMP:20260424T054017
CREATED:20250922T192100Z
LAST-MODIFIED:20250922T192100Z
UID:10004658-1761561000-1761570000@villaelisa.gov.ar
SUMMARY:Visitas Guiadas en Estancia Museo El Porvenir
DESCRIPTION:Las visitas guiadas pueden realizarse de lunes a viernes (excepto martes) a las 10:30 y 12:00 horas. Si se lo desea\, se puede visitar el lugar en forma independiente (sin visita guiada) de 10:00 a 13:00 y de 16:00 a 19:00 horas\, recordando que también está habilitado el sector del parque recreativo. \nEl valor del bono contribución de ingreso es de $1500 general y $1000 para menores entre 6 y 12 años inclusive\, jubilados y residentes de la micro región “Tierra de Palmares”. \nContacto: 3447436203 – www.museoelporvenir.com.ar
URL:https://villaelisa.gov.ar/evento/visitas-guiadas-en-estancia-museo-el-porvenir-7/2025-10-27/
LOCATION:Estancia Museo “El Porvenir”
ATTACH;FMTTYPE=image/jpeg:https://villaelisa.gov.ar/wp-content/uploads/2025/08/Horarios-septiembre-2025-feed.jpeg
END:VEVENT
BEGIN:VEVENT
DTSTART;TZID=America/Argentina/Buenos_Aires:20251029T103000
DTEND;TZID=America/Argentina/Buenos_Aires:20251029T130000
DTSTAMP:20260424T054017
CREATED:20250922T192100Z
LAST-MODIFIED:20250922T192100Z
UID:10004659-1761733800-1761742800@villaelisa.gov.ar
SUMMARY:Visitas Guiadas en Estancia Museo El Porvenir
DESCRIPTION:Las visitas guiadas pueden realizarse de lunes a viernes (excepto martes) a las 10:30 y 12:00 horas. Si se lo desea\, se puede visitar el lugar en forma independiente (sin visita guiada) de 10:00 a 13:00 y de 16:00 a 19:00 horas\, recordando que también está habilitado el sector del parque recreativo. \nEl valor del bono contribución de ingreso es de $1500 general y $1000 para menores entre 6 y 12 años inclusive\, jubilados y residentes de la micro región “Tierra de Palmares”. \nContacto: 3447436203 – www.museoelporvenir.com.ar
URL:https://villaelisa.gov.ar/evento/visitas-guiadas-en-estancia-museo-el-porvenir-7/2025-10-29/
LOCATION:Estancia Museo “El Porvenir”
ATTACH;FMTTYPE=image/jpeg:https://villaelisa.gov.ar/wp-content/uploads/2025/08/Horarios-septiembre-2025-feed.jpeg
END:VEVENT
BEGIN:VEVENT
DTSTART;TZID=America/Argentina/Buenos_Aires:20251029T150000
DTEND;TZID=America/Argentina/Buenos_Aires:20251029T200000
DTSTAMP:20260424T054017
CREATED:20251013T133542Z
LAST-MODIFIED:20251029T162103Z
UID:10004699-1761750000-1761768000@villaelisa.gov.ar
SUMMARY:Charla ¿ Quién dijo que la vida no tiene sentido?
DESCRIPTION:Los esperamos a la disertación del Psicólogo Clínico Licenciado Nelson Figueredo de la Universidad Adventista del Plata
URL:https://villaelisa.gov.ar/evento/charla-quien-dijo-que-la-vida-no-tiene-sentido/
LOCATION:Auditorio Municipal Heraldo N. Peragallo\, Av. Mitre 1301\, Villa Elisa\, 3265
ATTACH;FMTTYPE=image/jpeg:https://villaelisa.gov.ar/wp-content/uploads/2025/10/WhatsApp-Image-2025-10-29-at-1.15.14-PM.jpeg
END:VEVENT
BEGIN:VEVENT
DTSTART;TZID=America/Argentina/Buenos_Aires:20251030T090000
DTEND;TZID=America/Argentina/Buenos_Aires:20251030T110000
DTSTAMP:20260424T054017
CREATED:20251023T145216Z
LAST-MODIFIED:20251023T145401Z
UID:10004718-1761814800-1761822000@villaelisa.gov.ar
SUMMARY:“Todos bajo el mismo sol”
DESCRIPTION:Desde el Área de Discapacidad te invitamos a participar de la caminata “Todos bajo el mismo sol”.⁣\n⁣\nSerá el jueves 30 de octubre a las 9 horas\, partiendo desde el edificio del Centro Manos Amigas (Javier Kuttel 1515) hacia la Plaza San Martín. ⁣\n⁣\nEn la plaza vamos a conocer lo que las distintas instituciones están llevando adelante en la ciudad respecto a la discapacidad.⁣\n⁣\nLa invitación es abierta al público en general.⁣\n⁣\nEsta caminata busca visibilizar las propuestas y el trabajo conjunto que se realiza en nuestra ciudad vinculadas a la discapacidad\, para que la sociedad pueda reflexionar\, participar y comprometerse hacia una convivencia plena.⁣
URL:https://villaelisa.gov.ar/evento/todos-bajo-el-mismo-sol/
LOCATION:Centro Integral Manos Amigas\, Javier Kuttel 1515\, Villa Elisa\, Entre Ríos
ATTACH;FMTTYPE=image/jpeg:https://villaelisa.gov.ar/wp-content/uploads/2025/10/Caminata-Todos-bajo-el-mismo-sol.jpeg
END:VEVENT
BEGIN:VEVENT
DTSTART;TZID=America/Argentina/Buenos_Aires:20251030T103000
DTEND;TZID=America/Argentina/Buenos_Aires:20251030T130000
DTSTAMP:20260424T054017
CREATED:20250922T192100Z
LAST-MODIFIED:20250922T192100Z
UID:10004660-1761820200-1761829200@villaelisa.gov.ar
SUMMARY:Visitas Guiadas en Estancia Museo El Porvenir
DESCRIPTION:Las visitas guiadas pueden realizarse de lunes a viernes (excepto martes) a las 10:30 y 12:00 horas. Si se lo desea\, se puede visitar el lugar en forma independiente (sin visita guiada) de 10:00 a 13:00 y de 16:00 a 19:00 horas\, recordando que también está habilitado el sector del parque recreativo. \nEl valor del bono contribución de ingreso es de $1500 general y $1000 para menores entre 6 y 12 años inclusive\, jubilados y residentes de la micro región “Tierra de Palmares”. \nContacto: 3447436203 – www.museoelporvenir.com.ar
URL:https://villaelisa.gov.ar/evento/visitas-guiadas-en-estancia-museo-el-porvenir-7/2025-10-30/
LOCATION:Estancia Museo “El Porvenir”
ATTACH;FMTTYPE=image/jpeg:https://villaelisa.gov.ar/wp-content/uploads/2025/08/Horarios-septiembre-2025-feed.jpeg
END:VEVENT
BEGIN:VEVENT
DTSTART;TZID=America/Argentina/Buenos_Aires:20251030T190000
DTEND;TZID=America/Argentina/Buenos_Aires:20251030T203000
DTSTAMP:20260424T054017
CREATED:20251029T145456Z
LAST-MODIFIED:20251029T145456Z
UID:10004742-1761850800-1761856200@villaelisa.gov.ar
SUMMARY:Charla de Avances y Esperanzas
DESCRIPTION:Con los destacados disertantes conocemos nuevas particularidades de tratamiento del cáncer de mama.
URL:https://villaelisa.gov.ar/evento/charla-de-avances-y-esperanzas/
LOCATION:Sede de Lalcec Villa Elisa\, Tratado del Pilar 1348\, Villa Elisa\, 3265\, Argentina
ATTACH;FMTTYPE=image/jpeg:https://villaelisa.gov.ar/wp-content/uploads/2025/10/WhatsApp-Image-2025-10-29-at-11.22.36-AM.jpeg
END:VEVENT
BEGIN:VEVENT
DTSTART;TZID=America/Argentina/Buenos_Aires:20251031T103000
DTEND;TZID=America/Argentina/Buenos_Aires:20251031T130000
DTSTAMP:20260424T054017
CREATED:20250922T192100Z
LAST-MODIFIED:20250922T192100Z
UID:10004661-1761906600-1761915600@villaelisa.gov.ar
SUMMARY:Visitas Guiadas en Estancia Museo El Porvenir
DESCRIPTION:Las visitas guiadas pueden realizarse de lunes a viernes (excepto martes) a las 10:30 y 12:00 horas. Si se lo desea\, se puede visitar el lugar en forma independiente (sin visita guiada) de 10:00 a 13:00 y de 16:00 a 19:00 horas\, recordando que también está habilitado el sector del parque recreativo. \nEl valor del bono contribución de ingreso es de $1500 general y $1000 para menores entre 6 y 12 años inclusive\, jubilados y residentes de la micro región “Tierra de Palmares”. \nContacto: 3447436203 – www.museoelporvenir.com.ar
URL:https://villaelisa.gov.ar/evento/visitas-guiadas-en-estancia-museo-el-porvenir-7/2025-10-31/
LOCATION:Estancia Museo “El Porvenir”
ATTACH;FMTTYPE=image/jpeg:https://villaelisa.gov.ar/wp-content/uploads/2025/08/Horarios-septiembre-2025-feed.jpeg
END:VEVENT
BEGIN:VEVENT
DTSTART;TZID=America/Argentina/Buenos_Aires:20251031T210000
DTEND;TZID=America/Argentina/Buenos_Aires:20251031T223000
DTSTAMP:20260424T054017
CREATED:20251031T152308Z
LAST-MODIFIED:20251031T152435Z
UID:10004753-1761944400-1761949800@villaelisa.gov.ar
SUMMARY:Made in Lanús
DESCRIPTION:Destacada obra teatral con un gran elenco local y la dirección de Marcelo Daguerre en Auditorio Heraldo Peragallo
URL:https://villaelisa.gov.ar/evento/made-in-lanus/
LOCATION:Casa de la Cultura H. Peragallo
ATTACH;FMTTYPE=image/jpeg:https://villaelisa.gov.ar/wp-content/uploads/2025/10/WhatsApp-Image-2025-10-31-at-11.46.26-AM.jpeg
END:VEVENT
BEGIN:VEVENT
DTSTART;TZID=America/Argentina/Buenos_Aires:20251031T213000
DTEND;TZID=America/Argentina/Buenos_Aires:20251031T233000
DTSTAMP:20260424T054017
CREATED:20251031T122437Z
LAST-MODIFIED:20251031T122437Z
UID:10004752-1761946200-1761953400@villaelisa.gov.ar
SUMMARY:Fútbol Departamental
DESCRIPTION:Por octavos de final se enfrentan Club Recreativo San Jorge y Campito
URL:https://villaelisa.gov.ar/evento/futbol-departamental-13/
LOCATION:Estadio Justo José Lezcano (Cancha San Jorge)\, Villa Elisa\, 3265
ATTACH;FMTTYPE=image/jpeg:https://villaelisa.gov.ar/wp-content/uploads/2025/10/WhatsApp-Image-2025-10-31-at-12.07.27-AM.jpeg
END:VEVENT
BEGIN:VEVENT
DTSTART;TZID=America/Argentina/Buenos_Aires:20251101T200000
DTEND;TZID=America/Argentina/Buenos_Aires:20251102T020000
DTSTAMP:20260424T054017
CREATED:20251029T155818Z
LAST-MODIFIED:20251030T144331Z
UID:10004743-1762027200-1762048800@villaelisa.gov.ar
SUMMARY:Milonga
DESCRIPTION:Clase de Milonga a las 20 hs con la Profesora Ingrid\, de la ciudad de Concordia\, luego de la Clase Milonga\, con presentaciones especiales\, sorteos y la mejor música para disfrutar toda la noche!
URL:https://villaelisa.gov.ar/evento/milonga/
LOCATION:Centro Cultural La Fragua
ATTACH;FMTTYPE=image/jpeg:https://villaelisa.gov.ar/wp-content/uploads/2025/10/WhatsApp-Image-2025-10-28-at-6.16.42-PM.jpeg
END:VEVENT
BEGIN:VEVENT
DTSTART;TZID=America/Argentina/Buenos_Aires:20251101T210000
DTEND;TZID=America/Argentina/Buenos_Aires:20251101T223000
DTSTAMP:20260424T054017
CREATED:20251030T143413Z
LAST-MODIFIED:20251030T143413Z
UID:10004748-1762030800-1762036200@villaelisa.gov.ar
SUMMARY:"Felicidades" Película en Cine Paradiso
DESCRIPTION:Una ópera prima que se convirtió en un hito del cine argentino\,con destacado elenco\, es una historia que describe las angustias\, miserias y esperanzas de una decena de personajes durante una Nochebuena\, esta pelicula tuvo muy buena recepción en importantes festivales internacionales. \nEl sábado 21 hs podran verla en Cine Paradiso de Alvear 942 con una entrada de solo $1500
URL:https://villaelisa.gov.ar/evento/felicidades-pelicula-en-cine-paradiso/
LOCATION:Cine Paradiso\, Gral. Alvear 942\, Villa Elisa\, 3265
ATTACH;FMTTYPE=image/jpeg:https://villaelisa.gov.ar/wp-content/uploads/2025/10/WhatsApp-Image-2025-10-30-at-11.26.43-AM.jpeg
END:VEVENT
BEGIN:VEVENT
DTSTART;TZID=America/Argentina/Buenos_Aires:20251101T210000
DTEND;TZID=America/Argentina/Buenos_Aires:20251102T010000
DTSTAMP:20260424T054017
CREATED:20251015T163654Z
LAST-MODIFIED:20251015T191309Z
UID:10004705-1762030800-1762045200@villaelisa.gov.ar
SUMMARY:74 Aniversario Club Atlético Vázquez
DESCRIPTION:Club Atlético Vázquez celebra su 74° aniversario con una gran cena show y la actuación estelar de “Somos Asi”. \nReservas 3447-433516
URL:https://villaelisa.gov.ar/evento/74-aniversario-club-atletico-vazquez/
LOCATION:Club Vazquez\, Ruta provincial 23\, km8\, Villa Elisa\, Entre Rios\, 3265\, Argentina
ATTACH;FMTTYPE=image/jpeg:https://villaelisa.gov.ar/wp-content/uploads/2025/10/WhatsApp-Image-2025-10-15-at-1.31.59-PM.jpeg
END:VEVENT
BEGIN:VEVENT
DTSTART;TZID=America/Argentina/Buenos_Aires:20251102T100000
DTEND;TZID=America/Argentina/Buenos_Aires:20251102T130000
DTSTAMP:20260424T054017
CREATED:20241104T113404Z
LAST-MODIFIED:20241104T113404Z
UID:10002245-1762077600-1762088400@villaelisa.gov.ar
SUMMARY:Auto Tour
DESCRIPTION:TRAVELING VINA:  \nEs un servicio  extra\, que ofrece el complejo de Alojamientos “V I N A” \nExperiencia Rurales\, AUTO TOUR:  \nPlanificamos y coordinamos recorridos por bodegas\, fábricas de productos regionales\, y almacenes locales\, te llevamos a descubrir La Colonia\, cultura local y los paisajes mas hermosos de nuestra Tierra de Palmares.- \nOrganizado por Perla Lopez – \nReservas con anticipación: contacto 3447503491.- \nValor del recorrido: según destino elegido. \nTiempo demandado: aproximadamente 3 horas.- \nEl objetivo es formar una caravana\, con los vehículos de los interesados y hacer\, una mañana o una tarde de recorridos a los diferentes atractivos de nuestra zona  \nprevia coordinación.- \nPunto de salida: oficina de Turismo Villa Elisa.-
URL:https://villaelisa.gov.ar/evento/auto-tour/2025-11-02/
ATTACH;FMTTYPE=image/jpeg:https://villaelisa.gov.ar/wp-content/uploads/2024/11/Traveling-vina.jpg
END:VEVENT
BEGIN:VEVENT
DTSTART;TZID=America/Argentina/Buenos_Aires:20251102T100000
DTEND;TZID=America/Argentina/Buenos_Aires:20251102T200000
DTSTAMP:20260424T054017
CREATED:20251017T124027Z
LAST-MODIFIED:20251017T124027Z
UID:10004709-1762077600-1762113600@villaelisa.gov.ar
SUMMARY:FeriJardín
DESCRIPTION:La Fiesta Provincial de los Jardines en Villa Elisa comenzará a las 10 de la mañana en pleno centro de la ciudad. ⁣\n⁣\nViveros\, emprendedores\, artesanos\, puestos gastronómicos y música en vivo se distribuirán entre plazas Urquiza\, San Martín y Plazoleta Belgrano.⁣\n⁣\nEl público podrá adquirir todo tipo de plantas\, árboles\, arbustos\, aromáticas\, medicinales\, nativas\, cactus\, suculentas\, accesorios para parques y jardines.⁣\n⁣ El show musical traerá el ritmo de la cumbia de la mano del grupo “𝗦𝗲𝗻𝘁𝗶𝗺𝗶𝗲𝗻𝘁𝗼𝘀 𝗱𝗲𝗹 𝗖𝗼𝗿𝗮𝘇𝗼́𝗻” de la ciudad de Concepción del Uruguay. Mientras que el servicio de cantina y de comidas rápidas estará a cargo de la Cooperadora del Hospital San Roque de Villa Elisa. ⁣\n⁣\nLa entrada será libre y gratuita.⁣
URL:https://villaelisa.gov.ar/evento/ferijardin/
ATTACH;FMTTYPE=image/jpeg:https://villaelisa.gov.ar/wp-content/uploads/2025/10/WhatsApp-Image-2025-10-17-at-9.24.18-AM.jpeg
END:VEVENT
BEGIN:VEVENT
DTSTART;TZID=America/Argentina/Buenos_Aires:20251102T143000
DTEND;TZID=America/Argentina/Buenos_Aires:20251102T153000
DTSTAMP:20260424T054017
CREATED:20251002T165708Z
LAST-MODIFIED:20251003T150814Z
UID:10004682-1762093800-1762097400@villaelisa.gov.ar
SUMMARY:"Recomendaciones para el correcto mantenimiento del jardin"
DESCRIPTION:Los esperamos en esta interesante charla para conocer tips y recomendaciones para el correcto mantenimiento del jardin
URL:https://villaelisa.gov.ar/evento/recomendaciones-para-el-correcto-mantenimiento-del-jardin/
LOCATION:Plaza Urquiza\, Villa Elisa
ATTACH;FMTTYPE=image/jpeg:https://villaelisa.gov.ar/wp-content/uploads/2025/10/WhatsApp-Image-2025-10-02-at-1.54.58-PM.jpeg
END:VEVENT
BEGIN:VEVENT
DTSTART;TZID=America/Argentina/Buenos_Aires:20251102T153000
DTEND;TZID=America/Argentina/Buenos_Aires:20251102T170000
DTSTAMP:20260424T054017
CREATED:20250930T165603Z
LAST-MODIFIED:20251003T150854Z
UID:10004675-1762097400-1762102800@villaelisa.gov.ar
SUMMARY:Guardianes del Ave Emblema en FeriJardín
DESCRIPTION:En el transcurso de FeriJardín los niños tendran la posibilidad de asistir a este hermoso taller de aprendizaje
URL:https://villaelisa.gov.ar/evento/guardianes-del-ave-emblema-en-ferijardin/
LOCATION:Plaza Urquiza\, Villa Elisa
ATTACH;FMTTYPE=image/jpeg:https://villaelisa.gov.ar/wp-content/uploads/2025/09/WhatsApp-Image-2025-09-29-at-2.27.41-PM.jpeg
END:VEVENT
BEGIN:VEVENT
DTSTART;TZID=America/Argentina/Buenos_Aires:20251102T210000
DTEND;TZID=America/Argentina/Buenos_Aires:20251102T220000
DTSTAMP:20260424T054017
CREATED:20251029T173618Z
LAST-MODIFIED:20251029T173618Z
UID:10004745-1762117200-1762120800@villaelisa.gov.ar
SUMMARY:"Nadie Despega del Todo"
DESCRIPTION:Los esperamos a compartir un entretenido momento en la muestra de teatro en Centro Cultural La Fragua.
URL:https://villaelisa.gov.ar/evento/nadie-despega-del-todo/
LOCATION:Centro Cultural La Fragua
ATTACH;FMTTYPE=image/jpeg:https://villaelisa.gov.ar/wp-content/uploads/2025/10/WhatsApp-Image-2025-10-29-at-13.57.21.jpeg
END:VEVENT
BEGIN:VEVENT
DTSTART;TZID=America/Argentina/Buenos_Aires:20251103T103000
DTEND;TZID=America/Argentina/Buenos_Aires:20251103T130000
DTSTAMP:20260424T054017
CREATED:20251027T194110Z
LAST-MODIFIED:20251124T143830Z
UID:10004728-1762165800-1762174800@villaelisa.gov.ar
SUMMARY:Visitas Guiadas en Estancia Museo El Porvenir
DESCRIPTION:De lunes a viernes (excepto martes) las 10:30 y 12:00 horas\,  pueden realizarse las visitas guiadas gratuitas por la Estancia. \nSi se lo desea\, se puede visitar el lugar en forma independiente (sin visita guiada) de 10:00 a 13:00 y de 16:00 a 19:00 horas\, recordando que también está habilitado el sector del parque recreativo. \nEl valor del bono contribución de ingreso es de $1500 general y $1000 para menores entre 6 y 12 años inclusive\, jubilados y residentes de la micro región “Tierra de Palmares”. \nContacto: 3447436203 – www.museoelporvenir.com.ar
URL:https://villaelisa.gov.ar/evento/visitas-guiadas-en-estancia-museo-el-porvenir-9/2025-11-03/
LOCATION:Estancia Museo “El Porvenir”
ATTACH;FMTTYPE=image/jpeg:https://villaelisa.gov.ar/wp-content/uploads/2025/08/Horarios-septiembre-2025-feed.jpeg
END:VEVENT
BEGIN:VEVENT
DTSTART;TZID=America/Argentina/Buenos_Aires:20251104T093000
DTEND;TZID=America/Argentina/Buenos_Aires:20251104T110000
DTSTAMP:20260424T054017
CREATED:20251103T183958Z
LAST-MODIFIED:20251103T183958Z
UID:10004758-1762248600-1762254000@villaelisa.gov.ar
SUMMARY:Estamos de Feria!!!
DESCRIPTION:Este  MARTES los esperamos en Plaza Urquiza con los Chipá más ricos y los Yuyitos para el mate que no te pueden faltar!!!!\nHorario 9 30 a 11hs
URL:https://villaelisa.gov.ar/evento/estamos-de-feria-2/
LOCATION:Plaza Urquiza\, Villa Elisa
ATTACH;FMTTYPE=image/jpeg:https://villaelisa.gov.ar/wp-content/uploads/2025/11/WhatsApp-Image-2025-11-03-at-15.37.25.jpeg
END:VEVENT
BEGIN:VEVENT
DTSTART;TZID=America/Argentina/Buenos_Aires:20251104T210000
DTEND;TZID=America/Argentina/Buenos_Aires:20251104T230000
DTSTAMP:20260424T054017
CREATED:20251104T120525Z
LAST-MODIFIED:20251104T121016Z
UID:10004762-1762290000-1762297200@villaelisa.gov.ar
SUMMARY:Torneo Clausura de Fútbol Departamental
DESCRIPTION:Hoy martes 21:00 hs.  Cave recibe a Club Defensores de Colón  por los 8vos de final de los play off del clausura\, en su Estadio 2 de Junio.
URL:https://villaelisa.gov.ar/evento/torneo-clausura-de-futbol-departamental/
LOCATION:CAVE Estadio 2 de Junio
ATTACH;FMTTYPE=image/jpeg:https://villaelisa.gov.ar/wp-content/uploads/2025/11/WhatsApp-Image-2025-11-03-at-8.15.14-PM.jpeg
END:VEVENT
BEGIN:VEVENT
DTSTART;TZID=America/Argentina/Buenos_Aires:20251105T103000
DTEND;TZID=America/Argentina/Buenos_Aires:20251105T130000
DTSTAMP:20260424T054017
CREATED:20251027T194110Z
LAST-MODIFIED:20251124T143830Z
UID:10004729-1762338600-1762347600@villaelisa.gov.ar
SUMMARY:Visitas Guiadas en Estancia Museo El Porvenir
DESCRIPTION:De lunes a viernes (excepto martes) las 10:30 y 12:00 horas\,  pueden realizarse las visitas guiadas gratuitas por la Estancia. \nSi se lo desea\, se puede visitar el lugar en forma independiente (sin visita guiada) de 10:00 a 13:00 y de 16:00 a 19:00 horas\, recordando que también está habilitado el sector del parque recreativo. \nEl valor del bono contribución de ingreso es de $1500 general y $1000 para menores entre 6 y 12 años inclusive\, jubilados y residentes de la micro región “Tierra de Palmares”. \nContacto: 3447436203 – www.museoelporvenir.com.ar
URL:https://villaelisa.gov.ar/evento/visitas-guiadas-en-estancia-museo-el-porvenir-9/2025-11-05/
LOCATION:Estancia Museo “El Porvenir”
ATTACH;FMTTYPE=image/jpeg:https://villaelisa.gov.ar/wp-content/uploads/2025/08/Horarios-septiembre-2025-feed.jpeg
END:VEVENT
END:VCALENDAR