BEGIN:VCALENDAR
VERSION:2.0
PRODID:-//Municipalidad de Villa Elisa, Entre Ríos - ECPv6.6.4.2//NONSGML v1.0//EN
CALSCALE:GREGORIAN
METHOD:PUBLISH
X-WR-CALNAME:Municipalidad de Villa Elisa, Entre Ríos
X-ORIGINAL-URL:https://villaelisa.gov.ar
X-WR-CALDESC:Eventos para Municipalidad de Villa Elisa, Entre Ríos
REFRESH-INTERVAL;VALUE=DURATION:PT1H
X-Robots-Tag:noindex
X-PUBLISHED-TTL:PT1H
BEGIN:VTIMEZONE
TZID:America/Argentina/Buenos_Aires
BEGIN:STANDARD
TZOFFSETFROM:-0300
TZOFFSETTO:-0300
TZNAME:-03
DTSTART:20250101T000000
END:STANDARD
END:VTIMEZONE
BEGIN:VEVENT
DTSTART;TZID=America/Argentina/Buenos_Aires:20251206T203000
DTEND;TZID=America/Argentina/Buenos_Aires:20251207T003000
DTSTAMP:20260423T191633
CREATED:20251202T185339Z
LAST-MODIFIED:20251202T185339Z
UID:10004960-1765053000-1765067400@villaelisa.gov.ar
SUMMARY:Festival Anual de "Isadora Duncan"
DESCRIPTION:La escuela de arte “Isadora Duncan” te invita a celebrar el final de un año lleno de música\, aprendizaje y pasión por las danzas.
URL:https://villaelisa.gov.ar/evento/festival-anual-de-isadora-duncan/
LOCATION:Polideportivo Municipal\, Bv. Churruarín y Héctor de Elía
ATTACH;FMTTYPE=image/jpeg:https://villaelisa.gov.ar/wp-content/uploads/2025/12/WhatsApp-Image-2025-12-02-at-15.37.09.jpeg
END:VEVENT
BEGIN:VEVENT
DTSTART;TZID=America/Argentina/Buenos_Aires:20251206T220000
DTEND;TZID=America/Argentina/Buenos_Aires:20251207T003000
DTSTAMP:20260423T191633
CREATED:20251203T213259Z
LAST-MODIFIED:20251203T213259Z
UID:10004963-1765058400-1765067400@villaelisa.gov.ar
SUMMARY:NEOACUSTICA en La Fragua
DESCRIPTION:Este sábado un show imperdible!!! \nVic Nogueira – Didi Lez nos traen una maravillosa propuesta. NEOACUSTICA \nNeoacústica fusiona percusión\, violín y tecnología en tiempo real. Con raíces latinoamericanas\, jazz y electrónica\, crean paisajes sonoros y visuales que equilibran lo orgánico y lo digital. Una experiencia inmersiva\, sofisticada y viva\, donde ritmo\, color y emoción se unen en un diálogo contemporáneo. \n¿CÓMO? \nSet de batería y percusión \nComputadora y controlador de DJ \nVideo proyecciones \nViolín acústico y eléctrico \nTE ESPERAMOS!!!\nSábado 6. 22Hs
URL:https://villaelisa.gov.ar/evento/neoacustica-en-la-fragua/
LOCATION:Centro cultural “La fragua”
ATTACH;FMTTYPE=image/jpeg:https://villaelisa.gov.ar/wp-content/uploads/2025/12/WhatsApp-Image-2025-12-03-at-18.29.42.jpeg
END:VEVENT
BEGIN:VEVENT
DTSTART;TZID=America/Argentina/Buenos_Aires:20251207T100000
DTEND;TZID=America/Argentina/Buenos_Aires:20251207T130000
DTSTAMP:20260423T191633
CREATED:20241104T113404Z
LAST-MODIFIED:20241104T113404Z
UID:10002250-1765101600-1765112400@villaelisa.gov.ar
SUMMARY:Auto Tour
DESCRIPTION:TRAVELING VINA:  \nEs un servicio  extra\, que ofrece el complejo de Alojamientos “V I N A” \nExperiencia Rurales\, AUTO TOUR:  \nPlanificamos y coordinamos recorridos por bodegas\, fábricas de productos regionales\, y almacenes locales\, te llevamos a descubrir La Colonia\, cultura local y los paisajes mas hermosos de nuestra Tierra de Palmares.- \nOrganizado por Perla Lopez – \nReservas con anticipación: contacto 3447503491.- \nValor del recorrido: según destino elegido. \nTiempo demandado: aproximadamente 3 horas.- \nEl objetivo es formar una caravana\, con los vehículos de los interesados y hacer\, una mañana o una tarde de recorridos a los diferentes atractivos de nuestra zona  \nprevia coordinación.- \nPunto de salida: oficina de Turismo Villa Elisa.-
URL:https://villaelisa.gov.ar/evento/auto-tour/2025-12-07/
ATTACH;FMTTYPE=image/jpeg:https://villaelisa.gov.ar/wp-content/uploads/2024/11/Traveling-vina.jpg
END:VEVENT
BEGIN:VEVENT
DTSTART;TZID=America/Argentina/Buenos_Aires:20251207T100000
DTEND;TZID=America/Argentina/Buenos_Aires:20251207T200000
DTSTAMP:20260423T191633
CREATED:20251119T192833Z
LAST-MODIFIED:20251126T193618Z
UID:10004899-1765101600-1765137600@villaelisa.gov.ar
SUMMARY:Muestra fotográfica “Villa Elisa en el tiempo: una mirada a los 135 años de historia”
DESCRIPTION:De 10:00 a 13:00 y de 17:00 a 20:00 horas\, te invitamos a recorrer\, a través de esta muestra fotográfica\, la transformación urbana y social de nuestra ciudad a lo largo del tiempo.\nLa exposición reúne fotos históricas de distintos espacios de Villa Elisa junto a sus réplicas actuales\, generando un diálogo visual entre pasado y presente. \nEl valor del bono contribución de ingreso es de $2000 general y $1500 para menores entre 6 y 12 años inclusive\, jubilados y residentes de la micro región “Tierra de Palmares”. \nContacto: 3447436203 – www.museoelporvenir.com.ar
URL:https://villaelisa.gov.ar/evento/muestra-fotografica-temporal-2/2025-12-07/
LOCATION:Estancia Museo “El Porvenir”
ATTACH;FMTTYPE=image/jpeg:https://villaelisa.gov.ar/wp-content/uploads/2025/11/Muestra-temporal-2025-Villa-Elisa-en-el-tiempo-2-1.jpeg
END:VEVENT
BEGIN:VEVENT
DTSTART;TZID=America/Argentina/Buenos_Aires:20251207T103000
DTEND;TZID=America/Argentina/Buenos_Aires:20251207T183000
DTSTAMP:20260423T191633
CREATED:20251203T201627Z
LAST-MODIFIED:20251203T201627Z
UID:10004962-1765103400-1765132200@villaelisa.gov.ar
SUMMARY:
DESCRIPTION:A las 10:30\, 12:00\, 17:30 y 18:30 horas\, del día domingo 7 de diciembre\, pueden realizarse las visitas guiadas gratuitas por la Estancia. \nSi se lo desea\, se puede visitar el lugar en forma independiente (sin visita guiada) de 10:00 a 13:00 y de 17:00 a 20:00 horas\, recordando que también está habilitado el sector del parque recreativo. \nEl valor del bono contribución de ingreso es de $2000 general y $1500 para menores entre 6 y 12 años inclusive\, jubilados y residentes de la micro región “Tierra de Palmares”. \nContacto: 3447436203 – www.museoelporvenir.com.ar
URL:https://villaelisa.gov.ar/evento/282164/
LOCATION:Estancia Museo “El Porvenir”
ATTACH;FMTTYPE=image/jpeg:https://villaelisa.gov.ar/wp-content/uploads/2025/12/Fin-de-semana-largo-6-al-8-de-diciembre-2025-feed.jpeg
END:VEVENT
BEGIN:VEVENT
DTSTART;TZID=America/Argentina/Buenos_Aires:20251207T160000
DTEND;TZID=America/Argentina/Buenos_Aires:20251207T200000
DTSTAMP:20260423T191633
CREATED:20251206T142947Z
LAST-MODIFIED:20251206T142947Z
UID:10004968-1765123200-1765137600@villaelisa.gov.ar
SUMMARY:Estación Elisa – Ferroclub Central Entrerriano
DESCRIPTION:Te esperamos para un viaje inolvidable. Viví la magia del pasado en la Estación Elisa. Desde las 16:00 podrás recorrer la estación y descubrir increíbles maquinarias y objetos de época que te transportarán en el tiempo. \nA las 19:00 hs no te pierdas los emocionantes paseos en el Tren Histórico. \nUna experiencia única para disfrutar en familia o con amigos!!!\nCalle Centenario 2200 – Consultas: 3442 551086
URL:https://villaelisa.gov.ar/evento/estacion-elisa-ferroclub-central-entrerriano-12/
LOCATION:Estación ferroviaria Villa Elisa
ATTACH;FMTTYPE=image/jpeg:https://villaelisa.gov.ar/wp-content/uploads/2025/12/WhatsApp-Image-2025-12-06-at-11.18.56-1.jpeg
END:VEVENT
BEGIN:VEVENT
DTSTART;TZID=America/Argentina/Buenos_Aires:20251207T173000
DTEND;TZID=America/Argentina/Buenos_Aires:20251207T190000
DTSTAMP:20260423T191633
CREATED:20251201T190602Z
LAST-MODIFIED:20251201T190813Z
UID:10004951-1765128600-1765134000@villaelisa.gov.ar
SUMMARY:26º Aniversario de Termas Villa Elisa
DESCRIPTION:En sector piscinas un hermoso espectáculo musical para conmemorar este nuevo aniversario de nuestro complejo termal.
URL:https://villaelisa.gov.ar/evento/26o-aniversario-de-termas-villa-elisa/
LOCATION:Termas Villa Elisa
ATTACH;FMTTYPE=image/jpeg:https://villaelisa.gov.ar/wp-content/uploads/2025/12/WhatsApp-Image-2025-12-01-at-15.55.21.jpeg
END:VEVENT
BEGIN:VEVENT
DTSTART;TZID=America/Argentina/Buenos_Aires:20251207T180000
DTEND;TZID=America/Argentina/Buenos_Aires:20251208T000000
DTSTAMP:20260423T191633
CREATED:20251202T144045Z
LAST-MODIFIED:20251202T144937Z
UID:10004959-1765130400-1765152000@villaelisa.gov.ar
SUMMARY:Feria Navideña
DESCRIPTION:Villa Elisa vivirá una nueva edición de la Feria Navideña este fin de semana largo\, con actividades programadas para el sábado 6 y domingo 7 de diciembre\, siempre con entrada libre y gratuita. \nDesde las 18 horas\, vecinos y turistas podrán recorrer un amplio paseo de artesanos\, emprendedores y comercios locales y regionales\, instalado entre Plaza Urquiza y Plazoleta Belgrano. Allí también habrá patio de comidas con diversas propuestas gastronómicas.
URL:https://villaelisa.gov.ar/evento/feria-navidena-2/
LOCATION:Plaza Urquiza\, Villa Elisa
ATTACH;FMTTYPE=image/jpeg:https://villaelisa.gov.ar/wp-content/uploads/2025/12/WhatsApp-Image-2025-12-02-at-11.21.38-AM.jpeg
END:VEVENT
BEGIN:VEVENT
DTSTART;TZID=America/Argentina/Buenos_Aires:20251207T203000
DTEND;TZID=America/Argentina/Buenos_Aires:20251207T220000
DTSTAMP:20260423T191633
CREATED:20251202T123114Z
LAST-MODIFIED:20251202T123114Z
UID:10004955-1765139400-1765144800@villaelisa.gov.ar
SUMMARY:Muestra de Música en "Mokeys"
DESCRIPTION:Vamos a compartir en Monkeys la Muestra de Música. Te esperamos!!!
URL:https://villaelisa.gov.ar/evento/muestra-de-musica-en-mokeys/
LOCATION:Monkeys\, Bv Schroeder y T. del Pilar
ATTACH;FMTTYPE=image/jpeg:https://villaelisa.gov.ar/wp-content/uploads/2025/12/WhatsApp-Image-2025-12-02-at-7.37.51-AM.jpeg
END:VEVENT
BEGIN:VEVENT
DTSTART;TZID=America/Argentina/Buenos_Aires:20251207T210000
DTEND;TZID=America/Argentina/Buenos_Aires:20251208T013000
DTSTAMP:20260423T191633
CREATED:20251202T133239Z
LAST-MODIFIED:20251202T193134Z
UID:10004956-1765141200-1765157400@villaelisa.gov.ar
SUMMARY:Velada Escolar y Baile en Escuela 64
DESCRIPTION:Una noche para celebrar el cierre del ciclo escolar y bailar sin parar al ritmo de Grupo Cinco en Escuela 64 “Héctor de Elía”.
URL:https://villaelisa.gov.ar/evento/velada-escolar-y-baile-en-escuela-64/
ATTACH;FMTTYPE=image/jpeg:https://villaelisa.gov.ar/wp-content/uploads/2025/12/WhatsApp-Image-2025-12-02-at-16.28.01.jpeg
END:VEVENT
BEGIN:VEVENT
DTSTART;TZID=America/Argentina/Buenos_Aires:20251208T100000
DTEND;TZID=America/Argentina/Buenos_Aires:20251208T200000
DTSTAMP:20260423T191633
CREATED:20251119T192833Z
LAST-MODIFIED:20251126T193618Z
UID:10004900-1765188000-1765224000@villaelisa.gov.ar
SUMMARY:Muestra fotográfica “Villa Elisa en el tiempo: una mirada a los 135 años de historia”
DESCRIPTION:De 10:00 a 13:00 y de 17:00 a 20:00 horas\, te invitamos a recorrer\, a través de esta muestra fotográfica\, la transformación urbana y social de nuestra ciudad a lo largo del tiempo.\nLa exposición reúne fotos históricas de distintos espacios de Villa Elisa junto a sus réplicas actuales\, generando un diálogo visual entre pasado y presente. \nEl valor del bono contribución de ingreso es de $2000 general y $1500 para menores entre 6 y 12 años inclusive\, jubilados y residentes de la micro región “Tierra de Palmares”. \nContacto: 3447436203 – www.museoelporvenir.com.ar
URL:https://villaelisa.gov.ar/evento/muestra-fotografica-temporal-2/2025-12-08/
LOCATION:Estancia Museo “El Porvenir”
ATTACH;FMTTYPE=image/jpeg:https://villaelisa.gov.ar/wp-content/uploads/2025/11/Muestra-temporal-2025-Villa-Elisa-en-el-tiempo-2-1.jpeg
END:VEVENT
BEGIN:VEVENT
DTSTART;TZID=America/Argentina/Buenos_Aires:20251208T120000
DTEND;TZID=America/Argentina/Buenos_Aires:20251208T180000
DTSTAMP:20260423T191633
CREATED:20251128T125415Z
LAST-MODIFIED:20251128T125415Z
UID:10004947-1765195200-1765216800@villaelisa.gov.ar
SUMMARY:Otakucon Villa Elisa
DESCRIPTION:Otakucon\, también conocida como Ani-Con Argentina\, es un gran evento de anime\, manga\, jmusic\, cosplay\, gaming y cultura japonesa que se realizará en Villa Elisa Entre Rios. Esta edición será el 8 de diciembre de 2025
URL:https://villaelisa.gov.ar/evento/otakucon-villa-elisa/
LOCATION:pizzeria pizza kids\, Urquiza 1824\, Villa elisa\, 3265
ATTACH;FMTTYPE=image/jpeg:https://villaelisa.gov.ar/wp-content/uploads/2025/11/WhatsApp-Image-2025-11-27-at-10.14.08-PM.jpeg
END:VEVENT
BEGIN:VEVENT
DTSTART;TZID=America/Argentina/Buenos_Aires:20251208T160000
DTEND;TZID=America/Argentina/Buenos_Aires:20251208T200000
DTSTAMP:20260423T191633
CREATED:20251206T143121Z
LAST-MODIFIED:20251206T143121Z
UID:10004969-1765209600-1765224000@villaelisa.gov.ar
SUMMARY:Estación Elisa – Ferroclub Central Entrerriano
DESCRIPTION:  \nTe esperamos para un viaje inolvidable. Viví la magia del pasado en la Estación Elisa. Desde las 16:00 podrás recorrer la estación y descubrir increíbles maquinarias y objetos de época que te transportarán en el tiempo. \nA las 19:00 hs no te pierdas los emocionantes paseos en el Tren Histórico. \nUna experiencia única para disfrutar en familia o con amigos!!!\nCalle Centenario 2200 – Consultas: 3442 551086
URL:https://villaelisa.gov.ar/evento/estacion-elisa-ferroclub-central-entrerriano-13/
LOCATION:Estación ferroviaria Villa Elisa
ATTACH;FMTTYPE=image/jpeg:https://villaelisa.gov.ar/wp-content/uploads/2025/12/WhatsApp-Image-2025-12-06-at-11.18.56-1.jpeg
END:VEVENT
BEGIN:VEVENT
DTSTART;TZID=America/Argentina/Buenos_Aires:20251208T200000
DTEND;TZID=America/Argentina/Buenos_Aires:20251208T220000
DTSTAMP:20260423T191633
CREATED:20251201T205709Z
LAST-MODIFIED:20251201T205709Z
UID:10004953-1765224000-1765231200@villaelisa.gov.ar
SUMMARY:Fiesta de la Inmaculada Concepción
DESCRIPTION:El lunes 8 de diciembre\, a las 20:00 horas se realizará la procesión desde la explanada del templo “Natividad de Nuestra Señora” hacia el Museo Estancia “El Porvenir”.\nAl llegar al Museo\, aproximadamente 21:00 horas\, se realizará la celebración de la Santa Misa. \nLlevar asiento.
URL:https://villaelisa.gov.ar/evento/fiesta-de-la-inmaculada-concepcion/
LOCATION:Estancia Museo “El Porvenir”
ATTACH;FMTTYPE=image/jpeg:https://villaelisa.gov.ar/wp-content/uploads/2025/12/WhatsApp-Image-2025-12-01-at-12.16.19.jpeg
END:VEVENT
BEGIN:VEVENT
DTSTART;TZID=America/Argentina/Buenos_Aires:20251210T100000
DTEND;TZID=America/Argentina/Buenos_Aires:20251210T200000
DTSTAMP:20260423T191633
CREATED:20251119T192833Z
LAST-MODIFIED:20251126T193618Z
UID:10004901-1765360800-1765396800@villaelisa.gov.ar
SUMMARY:Muestra fotográfica “Villa Elisa en el tiempo: una mirada a los 135 años de historia”
DESCRIPTION:De 10:00 a 13:00 y de 17:00 a 20:00 horas\, te invitamos a recorrer\, a través de esta muestra fotográfica\, la transformación urbana y social de nuestra ciudad a lo largo del tiempo.\nLa exposición reúne fotos históricas de distintos espacios de Villa Elisa junto a sus réplicas actuales\, generando un diálogo visual entre pasado y presente. \nEl valor del bono contribución de ingreso es de $2000 general y $1500 para menores entre 6 y 12 años inclusive\, jubilados y residentes de la micro región “Tierra de Palmares”. \nContacto: 3447436203 – www.museoelporvenir.com.ar
URL:https://villaelisa.gov.ar/evento/muestra-fotografica-temporal-2/2025-12-10/
LOCATION:Estancia Museo “El Porvenir”
ATTACH;FMTTYPE=image/jpeg:https://villaelisa.gov.ar/wp-content/uploads/2025/11/Muestra-temporal-2025-Villa-Elisa-en-el-tiempo-2-1.jpeg
END:VEVENT
BEGIN:VEVENT
DTSTART;TZID=America/Argentina/Buenos_Aires:20251210T103000
DTEND;TZID=America/Argentina/Buenos_Aires:20251210T130000
DTSTAMP:20260423T191633
CREATED:20251126T192731Z
LAST-MODIFIED:20251126T193205Z
UID:10004929-1765362600-1765371600@villaelisa.gov.ar
SUMMARY:Visitas Guiadas en Estancia Museo El Porvenir
DESCRIPTION:De lunes a viernes (excepto martes) las 10:30 y 12:00 horas\,  pueden realizarse las visitas guiadas gratuitas por la Estancia. \nSi se lo desea\, se puede visitar el lugar en forma independiente (sin visita guiada) de 10:00 a 13:00 y de 17:00 a 20:00 horas\, recordando que también está habilitado el sector del parque recreativo. \nEl valor del bono contribución de ingreso es de $2000 general y $1500 para menores entre 6 y 12 años inclusive\, jubilados y residentes de la micro región “Tierra de Palmares”. \nContacto: 3447436203 – www.museoelporvenir.com.ar
URL:https://villaelisa.gov.ar/evento/visitas-guiadas-en-estancia-museo-el-porvenir-11/2025-12-10/
LOCATION:Estancia Museo “El Porvenir”
ATTACH;FMTTYPE=image/jpeg:https://villaelisa.gov.ar/wp-content/uploads/2025/11/Horario-diciembre-2025-feed.jpeg
END:VEVENT
BEGIN:VEVENT
DTSTART;TZID=America/Argentina/Buenos_Aires:20251211T100000
DTEND;TZID=America/Argentina/Buenos_Aires:20251211T200000
DTSTAMP:20260423T191633
CREATED:20251119T192833Z
LAST-MODIFIED:20251126T193618Z
UID:10004902-1765447200-1765483200@villaelisa.gov.ar
SUMMARY:Muestra fotográfica “Villa Elisa en el tiempo: una mirada a los 135 años de historia”
DESCRIPTION:De 10:00 a 13:00 y de 17:00 a 20:00 horas\, te invitamos a recorrer\, a través de esta muestra fotográfica\, la transformación urbana y social de nuestra ciudad a lo largo del tiempo.\nLa exposición reúne fotos históricas de distintos espacios de Villa Elisa junto a sus réplicas actuales\, generando un diálogo visual entre pasado y presente. \nEl valor del bono contribución de ingreso es de $2000 general y $1500 para menores entre 6 y 12 años inclusive\, jubilados y residentes de la micro región “Tierra de Palmares”. \nContacto: 3447436203 – www.museoelporvenir.com.ar
URL:https://villaelisa.gov.ar/evento/muestra-fotografica-temporal-2/2025-12-11/
LOCATION:Estancia Museo “El Porvenir”
ATTACH;FMTTYPE=image/jpeg:https://villaelisa.gov.ar/wp-content/uploads/2025/11/Muestra-temporal-2025-Villa-Elisa-en-el-tiempo-2-1.jpeg
END:VEVENT
BEGIN:VEVENT
DTSTART;TZID=America/Argentina/Buenos_Aires:20251211T103000
DTEND;TZID=America/Argentina/Buenos_Aires:20251211T130000
DTSTAMP:20260423T191633
CREATED:20251126T192731Z
LAST-MODIFIED:20251126T193205Z
UID:10004930-1765449000-1765458000@villaelisa.gov.ar
SUMMARY:Visitas Guiadas en Estancia Museo El Porvenir
DESCRIPTION:De lunes a viernes (excepto martes) las 10:30 y 12:00 horas\,  pueden realizarse las visitas guiadas gratuitas por la Estancia. \nSi se lo desea\, se puede visitar el lugar en forma independiente (sin visita guiada) de 10:00 a 13:00 y de 17:00 a 20:00 horas\, recordando que también está habilitado el sector del parque recreativo. \nEl valor del bono contribución de ingreso es de $2000 general y $1500 para menores entre 6 y 12 años inclusive\, jubilados y residentes de la micro región “Tierra de Palmares”. \nContacto: 3447436203 – www.museoelporvenir.com.ar
URL:https://villaelisa.gov.ar/evento/visitas-guiadas-en-estancia-museo-el-porvenir-11/2025-12-11/
LOCATION:Estancia Museo “El Porvenir”
ATTACH;FMTTYPE=image/jpeg:https://villaelisa.gov.ar/wp-content/uploads/2025/11/Horario-diciembre-2025-feed.jpeg
END:VEVENT
BEGIN:VEVENT
DTSTART;TZID=America/Argentina/Buenos_Aires:20251212T100000
DTEND;TZID=America/Argentina/Buenos_Aires:20251212T200000
DTSTAMP:20260423T191633
CREATED:20251119T192833Z
LAST-MODIFIED:20251126T193618Z
UID:10004903-1765533600-1765569600@villaelisa.gov.ar
SUMMARY:Muestra fotográfica “Villa Elisa en el tiempo: una mirada a los 135 años de historia”
DESCRIPTION:De 10:00 a 13:00 y de 17:00 a 20:00 horas\, te invitamos a recorrer\, a través de esta muestra fotográfica\, la transformación urbana y social de nuestra ciudad a lo largo del tiempo.\nLa exposición reúne fotos históricas de distintos espacios de Villa Elisa junto a sus réplicas actuales\, generando un diálogo visual entre pasado y presente. \nEl valor del bono contribución de ingreso es de $2000 general y $1500 para menores entre 6 y 12 años inclusive\, jubilados y residentes de la micro región “Tierra de Palmares”. \nContacto: 3447436203 – www.museoelporvenir.com.ar
URL:https://villaelisa.gov.ar/evento/muestra-fotografica-temporal-2/2025-12-12/
LOCATION:Estancia Museo “El Porvenir”
ATTACH;FMTTYPE=image/jpeg:https://villaelisa.gov.ar/wp-content/uploads/2025/11/Muestra-temporal-2025-Villa-Elisa-en-el-tiempo-2-1.jpeg
END:VEVENT
BEGIN:VEVENT
DTSTART;TZID=America/Argentina/Buenos_Aires:20251212T103000
DTEND;TZID=America/Argentina/Buenos_Aires:20251212T130000
DTSTAMP:20260423T191633
CREATED:20251126T192731Z
LAST-MODIFIED:20251126T193205Z
UID:10004931-1765535400-1765544400@villaelisa.gov.ar
SUMMARY:Visitas Guiadas en Estancia Museo El Porvenir
DESCRIPTION:De lunes a viernes (excepto martes) las 10:30 y 12:00 horas\,  pueden realizarse las visitas guiadas gratuitas por la Estancia. \nSi se lo desea\, se puede visitar el lugar en forma independiente (sin visita guiada) de 10:00 a 13:00 y de 17:00 a 20:00 horas\, recordando que también está habilitado el sector del parque recreativo. \nEl valor del bono contribución de ingreso es de $2000 general y $1500 para menores entre 6 y 12 años inclusive\, jubilados y residentes de la micro región “Tierra de Palmares”. \nContacto: 3447436203 – www.museoelporvenir.com.ar
URL:https://villaelisa.gov.ar/evento/visitas-guiadas-en-estancia-museo-el-porvenir-11/2025-12-12/
LOCATION:Estancia Museo “El Porvenir”
ATTACH;FMTTYPE=image/jpeg:https://villaelisa.gov.ar/wp-content/uploads/2025/11/Horario-diciembre-2025-feed.jpeg
END:VEVENT
BEGIN:VEVENT
DTSTART;TZID=America/Argentina/Buenos_Aires:20251212T170000
DTEND;TZID=America/Argentina/Buenos_Aires:20251212T213000
DTSTAMP:20260423T191633
CREATED:20251030T195143Z
LAST-MODIFIED:20251209T214345Z
UID:10004751-1765558800-1765575000@villaelisa.gov.ar
SUMMARY:Feria Vintage
DESCRIPTION:Nueva edición de la feria con variedad de productos de esta temporada en sede de Cáritas ubicada en Estrada 1010.
URL:https://villaelisa.gov.ar/evento/feria-vintage-3/
LOCATION:Caritas Villa Elisa\, Estrada y Bvard. Francou\, Villa Elisa
ATTACH;FMTTYPE=image/jpeg:https://villaelisa.gov.ar/wp-content/uploads/2025/10/WhatsApp-Image-2025-12-09-at-18.22.48.jpeg
END:VEVENT
BEGIN:VEVENT
DTSTART;TZID=America/Argentina/Buenos_Aires:20251213T080000
DTEND;TZID=America/Argentina/Buenos_Aires:20251213T220000
DTSTAMP:20260423T191633
CREATED:20251213T171616Z
LAST-MODIFIED:20251213T171616Z
UID:10004978-1765612800-1765663200@villaelisa.gov.ar
SUMMARY:Actividades Recreativas en Complejo Termal
DESCRIPTION:Para toda la familia se ofrecen diferentes actividades en esta jornada dentro de Termas Villa Elisa
URL:https://villaelisa.gov.ar/evento/actividades-recreativas-en-complejo-termal/
LOCATION:Termas Villa Elisa
ATTACH;FMTTYPE=image/jpeg:https://villaelisa.gov.ar/wp-content/uploads/2025/12/WhatsApp-Image-2025-12-13-at-14.05.31.jpeg
END:VEVENT
BEGIN:VEVENT
DTSTART;TZID=America/Argentina/Buenos_Aires:20251213T100000
DTEND;TZID=America/Argentina/Buenos_Aires:20251213T200000
DTSTAMP:20260423T191633
CREATED:20251119T192833Z
LAST-MODIFIED:20251126T193618Z
UID:10004904-1765620000-1765656000@villaelisa.gov.ar
SUMMARY:Muestra fotográfica “Villa Elisa en el tiempo: una mirada a los 135 años de historia”
DESCRIPTION:De 10:00 a 13:00 y de 17:00 a 20:00 horas\, te invitamos a recorrer\, a través de esta muestra fotográfica\, la transformación urbana y social de nuestra ciudad a lo largo del tiempo.\nLa exposición reúne fotos históricas de distintos espacios de Villa Elisa junto a sus réplicas actuales\, generando un diálogo visual entre pasado y presente. \nEl valor del bono contribución de ingreso es de $2000 general y $1500 para menores entre 6 y 12 años inclusive\, jubilados y residentes de la micro región “Tierra de Palmares”. \nContacto: 3447436203 – www.museoelporvenir.com.ar
URL:https://villaelisa.gov.ar/evento/muestra-fotografica-temporal-2/2025-12-13/
LOCATION:Estancia Museo “El Porvenir”
ATTACH;FMTTYPE=image/jpeg:https://villaelisa.gov.ar/wp-content/uploads/2025/11/Muestra-temporal-2025-Villa-Elisa-en-el-tiempo-2-1.jpeg
END:VEVENT
BEGIN:VEVENT
DTSTART;TZID=America/Argentina/Buenos_Aires:20251213T140000
DTEND;TZID=America/Argentina/Buenos_Aires:20251213T190000
DTSTAMP:20260423T191633
CREATED:20251106T181252Z
LAST-MODIFIED:20251210T144628Z
UID:10004769-1765634400-1765652400@villaelisa.gov.ar
SUMMARY:Feria "Patitas"
DESCRIPTION:La tradicional feria donde encontrarás indumentarias\, calzados y accesorios para toda la familia a partir de las 14hs. en Centro Union ubicado en El Ñandubay 1075.
URL:https://villaelisa.gov.ar/evento/feria-patitas-3/
LOCATION:Plaza Moreno\, Villa Elisa
ATTACH;FMTTYPE=image/jpeg:https://villaelisa.gov.ar/wp-content/uploads/2025/11/WhatsApp-Image-2025-12-09-at-7.52.26-PM-1.jpeg
END:VEVENT
BEGIN:VEVENT
DTSTART;TZID=America/Argentina/Buenos_Aires:20251213T183000
DTEND;TZID=America/Argentina/Buenos_Aires:20251213T210000
DTSTAMP:20260423T191633
CREATED:20251203T133019Z
LAST-MODIFIED:20251213T171033Z
UID:10004961-1765650600-1765659600@villaelisa.gov.ar
SUMMARY:Inauguración de la Temporada en Balneario Rocha
DESCRIPTION:Este sábado 13 de diciembre\, quedará inaugurada la temporada estival 2025/26 en Villa Elisa. \nComo todos los años\, se trata de un acto sencillo\, donde se bendicen las aguas del arroyo Perucho Verna. \nLa ceremonia inicia a las 18:30 horas y cerrará con la actuación musical de Betola Bourlot. \nLos esperamos!!! \n 
URL:https://villaelisa.gov.ar/evento/inauguracion-de-la-temporada-en-balneario-rocha/
LOCATION:Balneario Municipal Rocha
ATTACH;FMTTYPE=image/jpeg:https://villaelisa.gov.ar/wp-content/uploads/2025/12/WhatsApp-Image-2025-12-13-at-14.05.31-1.jpeg
END:VEVENT
BEGIN:VEVENT
DTSTART;TZID=America/Argentina/Buenos_Aires:20251213T210000
DTEND;TZID=America/Argentina/Buenos_Aires:20251213T223000
DTSTAMP:20260423T191633
CREATED:20251210T215716Z
LAST-MODIFIED:20251210T215716Z
UID:10004972-1765659600-1765665000@villaelisa.gov.ar
SUMMARY:"El Gran León" Película en Cine Paradiso
DESCRIPTION:León Godoy e Ivana Cornejo\, una bella abogada divorciada se conocen por casualidad y  conectan de inmediato. Ambos deben enfrentarse y combatir los prejuicios sociales\, tanto propios como ajenos\, para comprobar que las grandes historias de amor siempre se presentan de las maneras menos imaginadas\,  \nDivertida comedia\, muy entretenida para ver en Cine Paradiso de Alvear 942 a solo $1500 la entrada \n 
URL:https://villaelisa.gov.ar/evento/el-gran-leon-pelicula-en-cine-paradiso/
LOCATION:Cine Paradiso\, Gral. Alvear 942\, Villa Elisa\, 3265
ATTACH;FMTTYPE=image/jpeg:https://villaelisa.gov.ar/wp-content/uploads/2025/12/WhatsApp-Image-2025-12-10-at-18.44.06.jpeg
END:VEVENT
BEGIN:VEVENT
DTSTART;TZID=America/Argentina/Buenos_Aires:20251213T210000
DTEND;TZID=America/Argentina/Buenos_Aires:20251213T233000
DTSTAMP:20260423T191633
CREATED:20251106T170239Z
LAST-MODIFIED:20251212T145449Z
UID:10004768-1765659600-1765668600@villaelisa.gov.ar
SUMMARY:Cena Show Musical en Parrilla "El Gringo"
DESCRIPTION:  \nSábado 13\n21hs Cena show con ” El Chango Paz ” \nNo se cobra derecho al show\nCostillar al asador\, parrilla y cortes de carnes bien criollos. \nDirección: prolongación Av. Mitre camino Hocker (frente a la GNC villa Elisa)\nTel:3447550616 \n 
URL:https://villaelisa.gov.ar/evento/show-musical-en-parrilla-el-gringo/
LOCATION:Parrilla El Gringo
ATTACH;FMTTYPE=image/png:https://villaelisa.gov.ar/wp-content/uploads/2025/11/Red-White-Bold-Minimalist-Fashion-Introduction-Instagram-Story-3.png
END:VEVENT
BEGIN:VEVENT
DTSTART;TZID=America/Argentina/Buenos_Aires:20251213T210000
DTEND;TZID=America/Argentina/Buenos_Aires:20251214T003000
DTSTAMP:20260423T191633
CREATED:20251210T133749Z
LAST-MODIFIED:20251210T133749Z
UID:10004971-1765659600-1765672200@villaelisa.gov.ar
SUMMARY:FESTI ANIVERSARIO
DESCRIPTION:Sábado 13 de diciembre!!! \nFESTIVAL ANIVERSARIO Lupretinia \nBandas\, musicas invitadas y set de vinilos. \nQue más queres??? Veni a disfrutar de una hermosa noche\, en la hermosa Fragua. \nEntradas anticipadas : entradaslupre \nTe esperamos en La Fragua !!!!!
URL:https://villaelisa.gov.ar/evento/festi-aniversario/
LOCATION:Centro cultural “La fragua”
ATTACH;FMTTYPE=image/jpeg:https://villaelisa.gov.ar/wp-content/uploads/2025/12/WhatsApp-Image-2025-12-10-at-10.34.20-AM.jpeg
END:VEVENT
BEGIN:VEVENT
DTSTART;TZID=America/Argentina/Buenos_Aires:20251213T210000
DTEND;TZID=America/Argentina/Buenos_Aires:20251214T030000
DTSTAMP:20260423T191633
CREATED:20251127T121151Z
LAST-MODIFIED:20251127T121151Z
UID:10004943-1765659600-1765681200@villaelisa.gov.ar
SUMMARY:GRAN BAILE
DESCRIPTION:SÁBADO 13 DE DICIEMBRE  \nGRAN BAILE CON \nMAXI LOKER Y SU BANDA 
URL:https://villaelisa.gov.ar/evento/gran-baile-18/
LOCATION:Centro María Auxiliadora\, H. Irigoyen 1269\, Villa Elisa
ATTACH;FMTTYPE=image/jpeg:https://villaelisa.gov.ar/wp-content/uploads/2025/11/InShot_20251125_091729853-2.jpg
END:VEVENT
BEGIN:VEVENT
DTSTART;TZID=America/Argentina/Buenos_Aires:20251213T213000
DTEND;TZID=America/Argentina/Buenos_Aires:20251214T010000
DTSTAMP:20260423T191633
CREATED:20251213T171316Z
LAST-MODIFIED:20251213T171316Z
UID:10004977-1765661400-1765674000@villaelisa.gov.ar
SUMMARY:Baile de Egresados de Esc. Agrotécnica
DESCRIPTION:Lega el gran acontecimiento el Baile de los egresados 2025\, en Club Atlético Vázquez
URL:https://villaelisa.gov.ar/evento/baile-de-egresados-de-esc-agrotecnica/
LOCATION:Club Vazquez\, Ruta provincial 23\, km8\, Villa Elisa\, Entre Rios\, 3265\, Argentina
ATTACH;FMTTYPE=image/jpeg:https://villaelisa.gov.ar/wp-content/uploads/2025/12/WhatsApp-Image-2025-12-13-at-14.05.30.jpeg
END:VEVENT
END:VCALENDAR