BEGIN:VCALENDAR
VERSION:2.0
PRODID:-//Municipalidad de Villa Elisa, Entre Ríos - ECPv6.6.4.2//NONSGML v1.0//EN
CALSCALE:GREGORIAN
METHOD:PUBLISH
X-WR-CALNAME:Municipalidad de Villa Elisa, Entre Ríos
X-ORIGINAL-URL:https://villaelisa.gov.ar
X-WR-CALDESC:Eventos para Municipalidad de Villa Elisa, Entre Ríos
REFRESH-INTERVAL;VALUE=DURATION:PT1H
X-Robots-Tag:noindex
X-PUBLISHED-TTL:PT1H
BEGIN:VTIMEZONE
TZID:America/Argentina/Buenos_Aires
BEGIN:STANDARD
TZOFFSETFROM:-0300
TZOFFSETTO:-0300
TZNAME:-03
DTSTART:20250101T000000
END:STANDARD
END:VTIMEZONE
BEGIN:VEVENT
DTSTART;TZID=America/Argentina/Buenos_Aires:20251213T210000
DTEND;TZID=America/Argentina/Buenos_Aires:20251214T003000
DTSTAMP:20260423T180654
CREATED:20251210T133749Z
LAST-MODIFIED:20251210T133749Z
UID:10004971-1765659600-1765672200@villaelisa.gov.ar
SUMMARY:FESTI ANIVERSARIO
DESCRIPTION:Sábado 13 de diciembre!!! \nFESTIVAL ANIVERSARIO Lupretinia \nBandas\, musicas invitadas y set de vinilos. \nQue más queres??? Veni a disfrutar de una hermosa noche\, en la hermosa Fragua. \nEntradas anticipadas : entradaslupre \nTe esperamos en La Fragua !!!!!
URL:https://villaelisa.gov.ar/evento/festi-aniversario/
LOCATION:Centro cultural “La fragua”
ATTACH;FMTTYPE=image/jpeg:https://villaelisa.gov.ar/wp-content/uploads/2025/12/WhatsApp-Image-2025-12-10-at-10.34.20-AM.jpeg
END:VEVENT
BEGIN:VEVENT
DTSTART;TZID=America/Argentina/Buenos_Aires:20251213T210000
DTEND;TZID=America/Argentina/Buenos_Aires:20251214T030000
DTSTAMP:20260423T180654
CREATED:20251127T121151Z
LAST-MODIFIED:20251127T121151Z
UID:10004943-1765659600-1765681200@villaelisa.gov.ar
SUMMARY:GRAN BAILE
DESCRIPTION:SÁBADO 13 DE DICIEMBRE  \nGRAN BAILE CON \nMAXI LOKER Y SU BANDA 
URL:https://villaelisa.gov.ar/evento/gran-baile-18/
LOCATION:Centro María Auxiliadora\, H. Irigoyen 1269\, Villa Elisa
ATTACH;FMTTYPE=image/jpeg:https://villaelisa.gov.ar/wp-content/uploads/2025/11/InShot_20251125_091729853-2.jpg
END:VEVENT
BEGIN:VEVENT
DTSTART;TZID=America/Argentina/Buenos_Aires:20251213T213000
DTEND;TZID=America/Argentina/Buenos_Aires:20251214T010000
DTSTAMP:20260423T180654
CREATED:20251213T171316Z
LAST-MODIFIED:20251213T171316Z
UID:10004977-1765661400-1765674000@villaelisa.gov.ar
SUMMARY:Baile de Egresados de Esc. Agrotécnica
DESCRIPTION:Lega el gran acontecimiento el Baile de los egresados 2025\, en Club Atlético Vázquez
URL:https://villaelisa.gov.ar/evento/baile-de-egresados-de-esc-agrotecnica/
LOCATION:Club Vazquez\, Ruta provincial 23\, km8\, Villa Elisa\, Entre Rios\, 3265\, Argentina
ATTACH;FMTTYPE=image/jpeg:https://villaelisa.gov.ar/wp-content/uploads/2025/12/WhatsApp-Image-2025-12-13-at-14.05.30.jpeg
END:VEVENT
BEGIN:VEVENT
DTSTART;TZID=America/Argentina/Buenos_Aires:20251213T220000
DTEND;TZID=America/Argentina/Buenos_Aires:20251214T020000
DTSTAMP:20260423T180654
CREATED:20251201T193248Z
LAST-MODIFIED:20251201T194048Z
UID:10004952-1765663200-1765677600@villaelisa.gov.ar
SUMMARY:Baile de Recepción
DESCRIPTION:El día especial de nuestros egresados ya está aquí. Un evento para disfrutar en familia y con toda la comunidad. Entrada libre y gratuita
URL:https://villaelisa.gov.ar/evento/baile-de-recepcion/
LOCATION:Plazoleta Manuel Belgrano\, Villa Elisa
ATTACH;FMTTYPE=image/jpeg:https://villaelisa.gov.ar/wp-content/uploads/2025/12/WhatsApp-Image-2025-12-01-at-16.32.08.jpeg
END:VEVENT
BEGIN:VEVENT
DTSTART;TZID=America/Argentina/Buenos_Aires:20251214T080000
DTEND;TZID=America/Argentina/Buenos_Aires:20251214T170000
DTSTAMP:20260423T180654
CREATED:20251119T192833Z
LAST-MODIFIED:20251126T193618Z
UID:10004905-1765699200-1765731600@villaelisa.gov.ar
SUMMARY:Muestra fotográfica “Villa Elisa en el tiempo: una mirada a los 135 años de historia”
DESCRIPTION:De 10:00 a 13:00 y de 17:00 a 20:00 horas\, te invitamos a recorrer\, a través de esta muestra fotográfica\, la transformación urbana y social de nuestra ciudad a lo largo del tiempo.\nLa exposición reúne fotos históricas de distintos espacios de Villa Elisa junto a sus réplicas actuales\, generando un diálogo visual entre pasado y presente. \nEl valor del bono contribución de ingreso es de $2000 general y $1500 para menores entre 6 y 12 años inclusive\, jubilados y residentes de la micro región “Tierra de Palmares”. \nContacto: 3447436203 – www.museoelporvenir.com.ar
URL:https://villaelisa.gov.ar/evento/muestra-fotografica-temporal-2/2025-12-14/
LOCATION:Estancia Museo “El Porvenir”
ATTACH;FMTTYPE=image/jpeg:https://villaelisa.gov.ar/wp-content/uploads/2025/11/Muestra-temporal-2025-Villa-Elisa-en-el-tiempo-2-1.jpeg
END:VEVENT
BEGIN:VEVENT
DTSTART;TZID=America/Argentina/Buenos_Aires:20251214T100000
DTEND;TZID=America/Argentina/Buenos_Aires:20251214T130000
DTSTAMP:20260423T180654
CREATED:20241104T113404Z
LAST-MODIFIED:20241104T113404Z
UID:10002251-1765706400-1765717200@villaelisa.gov.ar
SUMMARY:Auto Tour
DESCRIPTION:TRAVELING VINA:  \nEs un servicio  extra\, que ofrece el complejo de Alojamientos “V I N A” \nExperiencia Rurales\, AUTO TOUR:  \nPlanificamos y coordinamos recorridos por bodegas\, fábricas de productos regionales\, y almacenes locales\, te llevamos a descubrir La Colonia\, cultura local y los paisajes mas hermosos de nuestra Tierra de Palmares.- \nOrganizado por Perla Lopez – \nReservas con anticipación: contacto 3447503491.- \nValor del recorrido: según destino elegido. \nTiempo demandado: aproximadamente 3 horas.- \nEl objetivo es formar una caravana\, con los vehículos de los interesados y hacer\, una mañana o una tarde de recorridos a los diferentes atractivos de nuestra zona  \nprevia coordinación.- \nPunto de salida: oficina de Turismo Villa Elisa.-
URL:https://villaelisa.gov.ar/evento/auto-tour/2025-12-14/
ATTACH;FMTTYPE=image/jpeg:https://villaelisa.gov.ar/wp-content/uploads/2024/11/Traveling-vina.jpg
END:VEVENT
BEGIN:VEVENT
DTSTART;TZID=America/Argentina/Buenos_Aires:20251215T100000
DTEND;TZID=America/Argentina/Buenos_Aires:20251215T200000
DTSTAMP:20260423T180654
CREATED:20251119T192833Z
LAST-MODIFIED:20251126T193618Z
UID:10004906-1765792800-1765828800@villaelisa.gov.ar
SUMMARY:Muestra fotográfica “Villa Elisa en el tiempo: una mirada a los 135 años de historia”
DESCRIPTION:De 10:00 a 13:00 y de 17:00 a 20:00 horas\, te invitamos a recorrer\, a través de esta muestra fotográfica\, la transformación urbana y social de nuestra ciudad a lo largo del tiempo.\nLa exposición reúne fotos históricas de distintos espacios de Villa Elisa junto a sus réplicas actuales\, generando un diálogo visual entre pasado y presente. \nEl valor del bono contribución de ingreso es de $2000 general y $1500 para menores entre 6 y 12 años inclusive\, jubilados y residentes de la micro región “Tierra de Palmares”. \nContacto: 3447436203 – www.museoelporvenir.com.ar
URL:https://villaelisa.gov.ar/evento/muestra-fotografica-temporal-2/2025-12-15/
LOCATION:Estancia Museo “El Porvenir”
ATTACH;FMTTYPE=image/jpeg:https://villaelisa.gov.ar/wp-content/uploads/2025/11/Muestra-temporal-2025-Villa-Elisa-en-el-tiempo-2-1.jpeg
END:VEVENT
BEGIN:VEVENT
DTSTART;TZID=America/Argentina/Buenos_Aires:20251215T103000
DTEND;TZID=America/Argentina/Buenos_Aires:20251215T130000
DTSTAMP:20260423T180654
CREATED:20251126T192731Z
LAST-MODIFIED:20251126T193205Z
UID:10004932-1765794600-1765803600@villaelisa.gov.ar
SUMMARY:Visitas Guiadas en Estancia Museo El Porvenir
DESCRIPTION:De lunes a viernes (excepto martes) las 10:30 y 12:00 horas\,  pueden realizarse las visitas guiadas gratuitas por la Estancia. \nSi se lo desea\, se puede visitar el lugar en forma independiente (sin visita guiada) de 10:00 a 13:00 y de 17:00 a 20:00 horas\, recordando que también está habilitado el sector del parque recreativo. \nEl valor del bono contribución de ingreso es de $2000 general y $1500 para menores entre 6 y 12 años inclusive\, jubilados y residentes de la micro región “Tierra de Palmares”. \nContacto: 3447436203 – www.museoelporvenir.com.ar
URL:https://villaelisa.gov.ar/evento/visitas-guiadas-en-estancia-museo-el-porvenir-11/2025-12-15/
LOCATION:Estancia Museo “El Porvenir”
ATTACH;FMTTYPE=image/jpeg:https://villaelisa.gov.ar/wp-content/uploads/2025/11/Horario-diciembre-2025-feed.jpeg
END:VEVENT
BEGIN:VEVENT
DTSTART;TZID=America/Argentina/Buenos_Aires:20251216T180000
DTEND;TZID=America/Argentina/Buenos_Aires:20251216T190000
DTSTAMP:20260423T180654
CREATED:20251215T143137Z
LAST-MODIFIED:20251215T143137Z
UID:10004980-1765908000-1765911600@villaelisa.gov.ar
SUMMARY:Pesebre Viviente
DESCRIPTION:Martes 16 \n18 hs Comedor Evita
URL:https://villaelisa.gov.ar/evento/pesebre-viviente/
LOCATION:Centro Evita
ATTACH;FMTTYPE=image/jpeg:https://villaelisa.gov.ar/wp-content/uploads/2025/12/WhatsApp-Image-2025-12-15-at-11.26.33-AM.jpeg
END:VEVENT
BEGIN:VEVENT
DTSTART;TZID=America/Argentina/Buenos_Aires:20251216T200000
DTEND;TZID=America/Argentina/Buenos_Aires:20251216T213000
DTSTAMP:20260423T180654
CREATED:20251215T143318Z
LAST-MODIFIED:20251215T143318Z
UID:10004981-1765915200-1765920600@villaelisa.gov.ar
SUMMARY:Pesebre Viviente
DESCRIPTION:Martes 16 \n20:00 Misa y Pesebre viviente en Ermita Nuestra Señora de San Nicolás.
URL:https://villaelisa.gov.ar/evento/pesebre-viviente-2/
LOCATION:Centro Comunitario “El Ombú”\, Las Heras 1765\, Villa Elisa
ATTACH;FMTTYPE=image/jpeg:https://villaelisa.gov.ar/wp-content/uploads/2025/12/WhatsApp-Image-2025-12-15-at-11.26.33-AM.jpeg
END:VEVENT
BEGIN:VEVENT
DTSTART;TZID=America/Argentina/Buenos_Aires:20251217T100000
DTEND;TZID=America/Argentina/Buenos_Aires:20251217T200000
DTSTAMP:20260423T180654
CREATED:20251119T192833Z
LAST-MODIFIED:20251126T193618Z
UID:10004907-1765965600-1766001600@villaelisa.gov.ar
SUMMARY:Muestra fotográfica “Villa Elisa en el tiempo: una mirada a los 135 años de historia”
DESCRIPTION:De 10:00 a 13:00 y de 17:00 a 20:00 horas\, te invitamos a recorrer\, a través de esta muestra fotográfica\, la transformación urbana y social de nuestra ciudad a lo largo del tiempo.\nLa exposición reúne fotos históricas de distintos espacios de Villa Elisa junto a sus réplicas actuales\, generando un diálogo visual entre pasado y presente. \nEl valor del bono contribución de ingreso es de $2000 general y $1500 para menores entre 6 y 12 años inclusive\, jubilados y residentes de la micro región “Tierra de Palmares”. \nContacto: 3447436203 – www.museoelporvenir.com.ar
URL:https://villaelisa.gov.ar/evento/muestra-fotografica-temporal-2/2025-12-17/
LOCATION:Estancia Museo “El Porvenir”
ATTACH;FMTTYPE=image/jpeg:https://villaelisa.gov.ar/wp-content/uploads/2025/11/Muestra-temporal-2025-Villa-Elisa-en-el-tiempo-2-1.jpeg
END:VEVENT
BEGIN:VEVENT
DTSTART;TZID=America/Argentina/Buenos_Aires:20251217T103000
DTEND;TZID=America/Argentina/Buenos_Aires:20251217T130000
DTSTAMP:20260423T180654
CREATED:20251126T192731Z
LAST-MODIFIED:20251126T193205Z
UID:10004933-1765967400-1765976400@villaelisa.gov.ar
SUMMARY:Visitas Guiadas en Estancia Museo El Porvenir
DESCRIPTION:De lunes a viernes (excepto martes) las 10:30 y 12:00 horas\,  pueden realizarse las visitas guiadas gratuitas por la Estancia. \nSi se lo desea\, se puede visitar el lugar en forma independiente (sin visita guiada) de 10:00 a 13:00 y de 17:00 a 20:00 horas\, recordando que también está habilitado el sector del parque recreativo. \nEl valor del bono contribución de ingreso es de $2000 general y $1500 para menores entre 6 y 12 años inclusive\, jubilados y residentes de la micro región “Tierra de Palmares”. \nContacto: 3447436203 – www.museoelporvenir.com.ar
URL:https://villaelisa.gov.ar/evento/visitas-guiadas-en-estancia-museo-el-porvenir-11/2025-12-17/
LOCATION:Estancia Museo “El Porvenir”
ATTACH;FMTTYPE=image/jpeg:https://villaelisa.gov.ar/wp-content/uploads/2025/11/Horario-diciembre-2025-feed.jpeg
END:VEVENT
BEGIN:VEVENT
DTSTART;TZID=America/Argentina/Buenos_Aires:20251218T100000
DTEND;TZID=America/Argentina/Buenos_Aires:20251218T200000
DTSTAMP:20260423T180654
CREATED:20251119T192833Z
LAST-MODIFIED:20251126T193618Z
UID:10004908-1766052000-1766088000@villaelisa.gov.ar
SUMMARY:Muestra fotográfica “Villa Elisa en el tiempo: una mirada a los 135 años de historia”
DESCRIPTION:De 10:00 a 13:00 y de 17:00 a 20:00 horas\, te invitamos a recorrer\, a través de esta muestra fotográfica\, la transformación urbana y social de nuestra ciudad a lo largo del tiempo.\nLa exposición reúne fotos históricas de distintos espacios de Villa Elisa junto a sus réplicas actuales\, generando un diálogo visual entre pasado y presente. \nEl valor del bono contribución de ingreso es de $2000 general y $1500 para menores entre 6 y 12 años inclusive\, jubilados y residentes de la micro región “Tierra de Palmares”. \nContacto: 3447436203 – www.museoelporvenir.com.ar
URL:https://villaelisa.gov.ar/evento/muestra-fotografica-temporal-2/2025-12-18/
LOCATION:Estancia Museo “El Porvenir”
ATTACH;FMTTYPE=image/jpeg:https://villaelisa.gov.ar/wp-content/uploads/2025/11/Muestra-temporal-2025-Villa-Elisa-en-el-tiempo-2-1.jpeg
END:VEVENT
BEGIN:VEVENT
DTSTART;TZID=America/Argentina/Buenos_Aires:20251218T103000
DTEND;TZID=America/Argentina/Buenos_Aires:20251218T130000
DTSTAMP:20260423T180654
CREATED:20251126T192731Z
LAST-MODIFIED:20251126T193205Z
UID:10004934-1766053800-1766062800@villaelisa.gov.ar
SUMMARY:Visitas Guiadas en Estancia Museo El Porvenir
DESCRIPTION:De lunes a viernes (excepto martes) las 10:30 y 12:00 horas\,  pueden realizarse las visitas guiadas gratuitas por la Estancia. \nSi se lo desea\, se puede visitar el lugar en forma independiente (sin visita guiada) de 10:00 a 13:00 y de 17:00 a 20:00 horas\, recordando que también está habilitado el sector del parque recreativo. \nEl valor del bono contribución de ingreso es de $2000 general y $1500 para menores entre 6 y 12 años inclusive\, jubilados y residentes de la micro región “Tierra de Palmares”. \nContacto: 3447436203 – www.museoelporvenir.com.ar
URL:https://villaelisa.gov.ar/evento/visitas-guiadas-en-estancia-museo-el-porvenir-11/2025-12-18/
LOCATION:Estancia Museo “El Porvenir”
ATTACH;FMTTYPE=image/jpeg:https://villaelisa.gov.ar/wp-content/uploads/2025/11/Horario-diciembre-2025-feed.jpeg
END:VEVENT
BEGIN:VEVENT
DTSTART;TZID=America/Argentina/Buenos_Aires:20251218T180000
DTEND;TZID=America/Argentina/Buenos_Aires:20251218T190000
DTSTAMP:20260423T180654
CREATED:20251215T153100Z
LAST-MODIFIED:20251217T170638Z
UID:10004982-1766080800-1766084400@villaelisa.gov.ar
SUMMARY:Pesebre Viviente
DESCRIPTION:Jueves 18 \nPredio Santo Padre Pio ubicado en Supremo Entrerriano 743.
URL:https://villaelisa.gov.ar/evento/pesebre-viviente-3/
ATTACH;FMTTYPE=image/jpeg:https://villaelisa.gov.ar/wp-content/uploads/2025/12/WhatsApp-Image-2025-12-17-at-14.00.30.jpeg
END:VEVENT
BEGIN:VEVENT
DTSTART;TZID=America/Argentina/Buenos_Aires:20251218T200000
DTEND;TZID=America/Argentina/Buenos_Aires:20251218T213000
DTSTAMP:20260423T180654
CREATED:20251215T153252Z
LAST-MODIFIED:20251217T183356Z
UID:10004983-1766088000-1766093400@villaelisa.gov.ar
SUMMARY:Pesebre Viviente
DESCRIPTION:Jueves 18 \n20 hs.Ermita Nuestra Señora de Itatí
URL:https://villaelisa.gov.ar/evento/pesebre-viviente-4/
LOCATION:Centro Comunitario “Pancho Ramírez”\, Tratado del Pilar 1073\, Villa Elisa\, 3265
ATTACH;FMTTYPE=image/jpeg:https://villaelisa.gov.ar/wp-content/uploads/2025/12/WhatsApp-Image-2025-12-17-at-15.33.00.jpeg
END:VEVENT
BEGIN:VEVENT
DTSTART;TZID=America/Argentina/Buenos_Aires:20251218T210000
DTEND;TZID=America/Argentina/Buenos_Aires:20251218T233000
DTSTAMP:20260423T180654
CREATED:20251126T142831Z
LAST-MODIFIED:20251126T151642Z
UID:10004924-1766091600-1766100600@villaelisa.gov.ar
SUMMARY:Cena de Fin de Año
DESCRIPTION:Una noche donde compartiremos charla\,cena y baile para despedir el año
URL:https://villaelisa.gov.ar/evento/cena-de-fin-de-ano/
LOCATION:Centro María Auxiliadora\, H. Irigoyen 1269\, Villa Elisa
ATTACH;FMTTYPE=image/jpeg:https://villaelisa.gov.ar/wp-content/uploads/2025/11/WhatsApp-Image-2025-11-26-at-11.23.03-AM.jpeg
END:VEVENT
BEGIN:VEVENT
DTSTART;TZID=America/Argentina/Buenos_Aires:20251219T100000
DTEND;TZID=America/Argentina/Buenos_Aires:20251219T200000
DTSTAMP:20260423T180654
CREATED:20251119T192833Z
LAST-MODIFIED:20251126T193618Z
UID:10004909-1766138400-1766174400@villaelisa.gov.ar
SUMMARY:Muestra fotográfica “Villa Elisa en el tiempo: una mirada a los 135 años de historia”
DESCRIPTION:De 10:00 a 13:00 y de 17:00 a 20:00 horas\, te invitamos a recorrer\, a través de esta muestra fotográfica\, la transformación urbana y social de nuestra ciudad a lo largo del tiempo.\nLa exposición reúne fotos históricas de distintos espacios de Villa Elisa junto a sus réplicas actuales\, generando un diálogo visual entre pasado y presente. \nEl valor del bono contribución de ingreso es de $2000 general y $1500 para menores entre 6 y 12 años inclusive\, jubilados y residentes de la micro región “Tierra de Palmares”. \nContacto: 3447436203 – www.museoelporvenir.com.ar
URL:https://villaelisa.gov.ar/evento/muestra-fotografica-temporal-2/2025-12-19/
LOCATION:Estancia Museo “El Porvenir”
ATTACH;FMTTYPE=image/jpeg:https://villaelisa.gov.ar/wp-content/uploads/2025/11/Muestra-temporal-2025-Villa-Elisa-en-el-tiempo-2-1.jpeg
END:VEVENT
BEGIN:VEVENT
DTSTART;TZID=America/Argentina/Buenos_Aires:20251219T103000
DTEND;TZID=America/Argentina/Buenos_Aires:20251219T130000
DTSTAMP:20260423T180654
CREATED:20251126T192731Z
LAST-MODIFIED:20251126T193205Z
UID:10004935-1766140200-1766149200@villaelisa.gov.ar
SUMMARY:Visitas Guiadas en Estancia Museo El Porvenir
DESCRIPTION:De lunes a viernes (excepto martes) las 10:30 y 12:00 horas\,  pueden realizarse las visitas guiadas gratuitas por la Estancia. \nSi se lo desea\, se puede visitar el lugar en forma independiente (sin visita guiada) de 10:00 a 13:00 y de 17:00 a 20:00 horas\, recordando que también está habilitado el sector del parque recreativo. \nEl valor del bono contribución de ingreso es de $2000 general y $1500 para menores entre 6 y 12 años inclusive\, jubilados y residentes de la micro región “Tierra de Palmares”. \nContacto: 3447436203 – www.museoelporvenir.com.ar
URL:https://villaelisa.gov.ar/evento/visitas-guiadas-en-estancia-museo-el-porvenir-11/2025-12-19/
LOCATION:Estancia Museo “El Porvenir”
ATTACH;FMTTYPE=image/jpeg:https://villaelisa.gov.ar/wp-content/uploads/2025/11/Horario-diciembre-2025-feed.jpeg
END:VEVENT
BEGIN:VEVENT
DTSTART;TZID=America/Argentina/Buenos_Aires:20251219T203000
DTEND;TZID=America/Argentina/Buenos_Aires:20251219T220000
DTSTAMP:20260423T180654
CREATED:20251211T124239Z
LAST-MODIFIED:20251211T124653Z
UID:10004973-1766176200-1766181600@villaelisa.gov.ar
SUMMARY:Muestra de Gimnasia Artística
DESCRIPTION:Los invitamos a acompañar la muestra anual\, de esta destacada disciplina deportiva
URL:https://villaelisa.gov.ar/evento/muestra-de-gimnasia-artistica/
LOCATION:Polideportivo Municipal\, Bv. Churruarín y Héctor de Elía
ATTACH;FMTTYPE=image/jpeg:https://villaelisa.gov.ar/wp-content/uploads/2025/12/WhatsApp-Image-2025-12-10-at-6.13.39-PM.jpeg
END:VEVENT
BEGIN:VEVENT
DTSTART;TZID=America/Argentina/Buenos_Aires:20251219T210000
DTEND;TZID=America/Argentina/Buenos_Aires:20251219T230000
DTSTAMP:20260423T180654
CREATED:20251219T202708Z
LAST-MODIFIED:20251219T203026Z
UID:10005032-1766178000-1766185200@villaelisa.gov.ar
SUMMARY:Muestra Musical Infantil
DESCRIPTION:Qué linda manera de cerrar el año!! 🎵 \nHoy viernes 19/12\n21 hs.\nMuestra musical de niños/as de los talleres musicales de La Fragua. \n-“Seño\, queremos armar una banda de rock que se llame LOS PROHIBIDOS”-\n-OK\, pero se animan a crear sus propias canciones también?-\n-Bueno\, dale- \nCierra la noche “Los prohibidos” banda de rock de niños/as \nAnticipadas $7000\nEn puerta $8000\nWsp: 3447646919
URL:https://villaelisa.gov.ar/evento/muestra-musical-infantil/
ATTACH;FMTTYPE=image/jpeg:https://villaelisa.gov.ar/wp-content/uploads/2025/12/WhatsApp-Image-2025-12-19-at-17.29.51.jpeg
END:VEVENT
BEGIN:VEVENT
DTSTART;TZID=America/Argentina/Buenos_Aires:20251220T090000
DTEND;TZID=America/Argentina/Buenos_Aires:20251220T130000
DTSTAMP:20260423T180654
CREATED:20251217T163308Z
LAST-MODIFIED:20251217T165246Z
UID:10004987-1766221200-1766235600@villaelisa.gov.ar
SUMMARY:Chancho Móvil Navideño
DESCRIPTION:ChanchoMovil de NAVIDAD \nEl 20 de diciembre se viene el Chancho Móvil de Navidad de Bomberos Villa Elisa \nPREMIOS:\n1er Premio Un lechón asado\n2do Premio Un lechón crudo\n3er Premio 1/2 cordero\n4to Premio 3 pollos crudos\nTodo acompañado con canastas navideñas \nSORTEO ESPECIAL SOCIOS\n1er Premio Dos pollos crudos\n2do Premio Dos pollos  crudos 3ro Premio Dos pollos crudos\n4to Premio Dos pollos crudos\nTodo acompañado con canastas navideñas \nVALOR 2 NÚMEROS X 💲3.000 \nNo te quedes con las ganas de saborear los premios del Chancho Móvil de Navidad \n¡GRACIAS POR COLABORAR!!
URL:https://villaelisa.gov.ar/evento/chancho-movil-navideno/
ATTACH;FMTTYPE=image/jpeg:https://villaelisa.gov.ar/wp-content/uploads/2025/12/WhatsApp-Image-2025-12-10-at-6.57.42-PM.jpeg
END:VEVENT
BEGIN:VEVENT
DTSTART;TZID=America/Argentina/Buenos_Aires:20251220T100000
DTEND;TZID=America/Argentina/Buenos_Aires:20251220T200000
DTSTAMP:20260423T180654
CREATED:20251119T192833Z
LAST-MODIFIED:20251126T193618Z
UID:10004910-1766224800-1766260800@villaelisa.gov.ar
SUMMARY:Muestra fotográfica “Villa Elisa en el tiempo: una mirada a los 135 años de historia”
DESCRIPTION:De 10:00 a 13:00 y de 17:00 a 20:00 horas\, te invitamos a recorrer\, a través de esta muestra fotográfica\, la transformación urbana y social de nuestra ciudad a lo largo del tiempo.\nLa exposición reúne fotos históricas de distintos espacios de Villa Elisa junto a sus réplicas actuales\, generando un diálogo visual entre pasado y presente. \nEl valor del bono contribución de ingreso es de $2000 general y $1500 para menores entre 6 y 12 años inclusive\, jubilados y residentes de la micro región “Tierra de Palmares”. \nContacto: 3447436203 – www.museoelporvenir.com.ar
URL:https://villaelisa.gov.ar/evento/muestra-fotografica-temporal-2/2025-12-20/
LOCATION:Estancia Museo “El Porvenir”
ATTACH;FMTTYPE=image/jpeg:https://villaelisa.gov.ar/wp-content/uploads/2025/11/Muestra-temporal-2025-Villa-Elisa-en-el-tiempo-2-1.jpeg
END:VEVENT
BEGIN:VEVENT
DTSTART;TZID=America/Argentina/Buenos_Aires:20251220T210000
DTEND;TZID=America/Argentina/Buenos_Aires:20251220T223000
DTSTAMP:20260423T180654
CREATED:20251216T144832Z
LAST-MODIFIED:20251216T144832Z
UID:10004986-1766264400-1766269800@villaelisa.gov.ar
SUMMARY:"Igualita a mi" Película en Cine Paradiso
DESCRIPTION:“Igualita a mí ” es una amena película argentina de comedia\, dirigida por Diego Kaplan y protagonizada por Adrián Suar y Florencia Bertotti. Con 945.000 espectadores\, fue la película argentina más taquillera del año 2010\, ofreciendo momentos atrapantes y divertidos. \nMuy entretenida para verla en Cine Paradiso Alvear 942 a solo $1500 la entrada. \n 
URL:https://villaelisa.gov.ar/evento/igualita-a-mi-pelicula-en-cine-paradiso/
LOCATION:Cine Paradiso\, Gral. Alvear 942\, Villa Elisa\, 3265
ATTACH;FMTTYPE=image/jpeg:https://villaelisa.gov.ar/wp-content/uploads/2025/12/WhatsApp-Image-2025-12-16-at-11.37.37-AM.jpeg
END:VEVENT
BEGIN:VEVENT
DTSTART;TZID=America/Argentina/Buenos_Aires:20251220T210000
DTEND;TZID=America/Argentina/Buenos_Aires:20251221T013000
DTSTAMP:20260423T180654
CREATED:20250718T123359Z
LAST-MODIFIED:20251114T151201Z
UID:10004439-1766264400-1766280600@villaelisa.gov.ar
SUMMARY:Mega Bailazo en Club A. Vázquez
DESCRIPTION:Bailaremos toda la noche con la muy buena música de Leo Milezzi y El Combo 10 en un evento impactante.
URL:https://villaelisa.gov.ar/evento/baile-en-centro-union-3/
LOCATION:Club Vazquez\, Ruta provincial 23\, km8\, Villa Elisa\, Entre Rios\, 3265\, Argentina
ATTACH;FMTTYPE=image/jpeg:https://villaelisa.gov.ar/wp-content/uploads/2025/07/WhatsApp-Image-2025-11-14-at-12.02.23-PM.jpeg
END:VEVENT
BEGIN:VEVENT
DTSTART;TZID=America/Argentina/Buenos_Aires:20251220T210000
DTEND;TZID=America/Argentina/Buenos_Aires:20251221T023000
DTSTAMP:20260423T180654
CREATED:20251219T150852Z
LAST-MODIFIED:20251219T150852Z
UID:10005031-1766264400-1766284200@villaelisa.gov.ar
SUMMARY:Cena Despedida de Año
DESCRIPTION:Cena de fin de año en Salón del CAVE \n▪️Habrá un reconocimiento a los campeones del ‘95 y sorteos durante la cena.\n▪️Cena y postre incluidos en tu tarjeta.\n▪️Servicio de cantina para que puedas comprar la bebida.\n▪️Dj e iluminación para despedir el año a lo grande. \nValor $15000 \n 
URL:https://villaelisa.gov.ar/evento/cena-despedida-de-ano/
LOCATION:Sede social CAVE\, Emilio Francou e Yrigoyen\, Villa Elisa
ATTACH;FMTTYPE=image/jpeg:https://villaelisa.gov.ar/wp-content/uploads/2025/12/WhatsApp-Image-2025-12-19-at-12.04.37-PM.jpeg
END:VEVENT
BEGIN:VEVENT
DTSTART;TZID=America/Argentina/Buenos_Aires:20251220T220000
DTEND;TZID=America/Argentina/Buenos_Aires:20251221T050000
DTSTAMP:20260423T180654
CREATED:20251029T193330Z
LAST-MODIFIED:20251030T144152Z
UID:10004746-1766268000-1766293200@villaelisa.gov.ar
SUMMARY:RL Rock Fest 4
DESCRIPTION:Bandas en vivo para una noche inolvidable
URL:https://villaelisa.gov.ar/evento/rock-fest-4/
LOCATION:Salón Jockey Club Villa Elisa
ATTACH;FMTTYPE=image/jpeg:https://villaelisa.gov.ar/wp-content/uploads/2025/10/WhatsApp-Image-2025-10-29-at-4.29.50-PM.jpeg
END:VEVENT
BEGIN:VEVENT
DTSTART;TZID=America/Argentina/Buenos_Aires:20251221T100000
DTEND;TZID=America/Argentina/Buenos_Aires:20251221T130000
DTSTAMP:20260423T180654
CREATED:20241104T113404Z
LAST-MODIFIED:20241104T113404Z
UID:10002252-1766311200-1766322000@villaelisa.gov.ar
SUMMARY:Auto Tour
DESCRIPTION:TRAVELING VINA:  \nEs un servicio  extra\, que ofrece el complejo de Alojamientos “V I N A” \nExperiencia Rurales\, AUTO TOUR:  \nPlanificamos y coordinamos recorridos por bodegas\, fábricas de productos regionales\, y almacenes locales\, te llevamos a descubrir La Colonia\, cultura local y los paisajes mas hermosos de nuestra Tierra de Palmares.- \nOrganizado por Perla Lopez – \nReservas con anticipación: contacto 3447503491.- \nValor del recorrido: según destino elegido. \nTiempo demandado: aproximadamente 3 horas.- \nEl objetivo es formar una caravana\, con los vehículos de los interesados y hacer\, una mañana o una tarde de recorridos a los diferentes atractivos de nuestra zona  \nprevia coordinación.- \nPunto de salida: oficina de Turismo Villa Elisa.-
URL:https://villaelisa.gov.ar/evento/auto-tour/2025-12-21/
ATTACH;FMTTYPE=image/jpeg:https://villaelisa.gov.ar/wp-content/uploads/2024/11/Traveling-vina.jpg
END:VEVENT
BEGIN:VEVENT
DTSTART;TZID=America/Argentina/Buenos_Aires:20251221T100000
DTEND;TZID=America/Argentina/Buenos_Aires:20251221T200000
DTSTAMP:20260423T180654
CREATED:20251119T192833Z
LAST-MODIFIED:20251126T193618Z
UID:10004911-1766311200-1766347200@villaelisa.gov.ar
SUMMARY:Muestra fotográfica “Villa Elisa en el tiempo: una mirada a los 135 años de historia”
DESCRIPTION:De 10:00 a 13:00 y de 17:00 a 20:00 horas\, te invitamos a recorrer\, a través de esta muestra fotográfica\, la transformación urbana y social de nuestra ciudad a lo largo del tiempo.\nLa exposición reúne fotos históricas de distintos espacios de Villa Elisa junto a sus réplicas actuales\, generando un diálogo visual entre pasado y presente. \nEl valor del bono contribución de ingreso es de $2000 general y $1500 para menores entre 6 y 12 años inclusive\, jubilados y residentes de la micro región “Tierra de Palmares”. \nContacto: 3447436203 – www.museoelporvenir.com.ar
URL:https://villaelisa.gov.ar/evento/muestra-fotografica-temporal-2/2025-12-21/
LOCATION:Estancia Museo “El Porvenir”
ATTACH;FMTTYPE=image/jpeg:https://villaelisa.gov.ar/wp-content/uploads/2025/11/Muestra-temporal-2025-Villa-Elisa-en-el-tiempo-2-1.jpeg
END:VEVENT
BEGIN:VEVENT
DTSTART;TZID=America/Argentina/Buenos_Aires:20251221T200000
DTEND;TZID=America/Argentina/Buenos_Aires:20251221T233000
DTSTAMP:20260423T180654
CREATED:20251029T154918Z
LAST-MODIFIED:20251215T153044Z
UID:10004744-1766347200-1766359800@villaelisa.gov.ar
SUMMARY:Baile en Centro Unión
DESCRIPTION:Los esperamos para bailar toda la noche\, en Centro Unión junto a la maravillosa música de Grupo Cinco
URL:https://villaelisa.gov.ar/evento/baile-en-centro-union-8/
LOCATION:Centro Union\, El Ñandubay 1075\, Villa Elisa\, Entre Rios\, 3265\, Argentina
ATTACH;FMTTYPE=image/jpeg:https://villaelisa.gov.ar/wp-content/uploads/2025/10/WhatsApp-Image-2025-12-15-at-11.18.10-AM.jpeg
END:VEVENT
END:VCALENDAR