BEGIN:VCALENDAR
VERSION:2.0
PRODID:-//Municipalidad de Villa Elisa, Entre Ríos - ECPv6.6.4.2//NONSGML v1.0//EN
CALSCALE:GREGORIAN
METHOD:PUBLISH
X-WR-CALNAME:Municipalidad de Villa Elisa, Entre Ríos
X-ORIGINAL-URL:https://villaelisa.gov.ar
X-WR-CALDESC:Eventos para Municipalidad de Villa Elisa, Entre Ríos
REFRESH-INTERVAL;VALUE=DURATION:PT1H
X-Robots-Tag:noindex
X-PUBLISHED-TTL:PT1H
BEGIN:VTIMEZONE
TZID:America/Argentina/Buenos_Aires
BEGIN:STANDARD
TZOFFSETFROM:-0300
TZOFFSETTO:-0300
TZNAME:-03
DTSTART:20260101T000000
END:STANDARD
END:VTIMEZONE
BEGIN:VEVENT
DTSTART;TZID=America/Argentina/Buenos_Aires:20260206T090000
DTEND;TZID=America/Argentina/Buenos_Aires:20260206T203000
DTSTAMP:20260423T070818
CREATED:20260123T163816Z
LAST-MODIFIED:20260202T160144Z
UID:10009137-1770368400-1770409800@villaelisa.gov.ar
SUMMARY:Viviendo Historias
DESCRIPTION:En una visita al histórico Almacén Francou tendrás la posibilidad de compartir actividades fascinantes e inolvidables. \nLunes a sábado de 9 a 12 y de 16\,30 a 20\,30 hs.
URL:https://villaelisa.gov.ar/evento/viviendo-historias-16/2026-02-06/
LOCATION:Almacén de Ramos Generales Francou\, Colonia del Carmen\, Villa Elisa\, Entre Rios\, 3265\, Argentina
ATTACH;FMTTYPE=image/jpeg:https://villaelisa.gov.ar/wp-content/uploads/2025/12/WhatsApp-Image-2026-01-06-at-14.01.39.jpeg
END:VEVENT
BEGIN:VEVENT
DTSTART;TZID=America/Argentina/Buenos_Aires:20260206T100000
DTEND;TZID=America/Argentina/Buenos_Aires:20260206T203000
DTSTAMP:20260423T070818
CREATED:20260108T223621Z
LAST-MODIFIED:20260108T223621Z
UID:10009057-1770372000-1770409800@villaelisa.gov.ar
SUMMARY:Muestra fotográfica “Villa Elisa en el tiempo: una mirada a los 135 años de historia”
DESCRIPTION:De 10:00 a 13:00 y de 17:00 a 20:30 horas\, te invitamos a recorrer\, a través de esta muestra fotográfica\, la transformación urbana y social de nuestra ciudad a lo largo del tiempo.\nLa exposición reúne fotos históricas de distintos espacios de Villa Elisa junto a sus réplicas actuales\, generando un diálogo visual entre pasado y presente. \nEl valor del bono contribución de ingreso es de $2000 general y $1500 para menores entre 6 y 12 años inclusive\, jubilados y residentes de la micro región “Tierra de Palmares”. \nContacto: 3447436203 – www.museoelporvenir.com.ar
URL:https://villaelisa.gov.ar/evento/muestra-fotografica-villa-elisa-en-el-tiempo-una-mirada-a-los-135-anos-de-historia-2/2026-02-06/
LOCATION:Estancia Museo “El Porvenir”
ATTACH;FMTTYPE=image/jpeg:https://villaelisa.gov.ar/wp-content/uploads/2026/01/Muestra-temporal-2026-Villa-Elisa-en-el-tiempo-2.jpeg
END:VEVENT
BEGIN:VEVENT
DTSTART;TZID=America/Argentina/Buenos_Aires:20260206T103000
DTEND;TZID=America/Argentina/Buenos_Aires:20260206T130000
DTSTAMP:20260423T070818
CREATED:20260108T224343Z
LAST-MODIFIED:20260108T224343Z
UID:10009080-1770373800-1770382800@villaelisa.gov.ar
SUMMARY:Visitas Guiadas en Estancia Museo El Porvenir
DESCRIPTION:De lunes a viernes (excepto martes) las 10:30 y 12:00 horas\,  pueden realizarse las visitas guiadas gratuitas por la Estancia. \nSi se lo desea\, se puede visitar el lugar en forma independiente (sin visita guiada) de 10:00 a 13:00 y de 17:00 a 20:30 horas\, recordando que también está habilitado el sector del parque recreativo. \nEl valor del bono contribución de ingreso es de $2000 general y $1500 para menores entre 6 y 12 años inclusive\, jubilados y residentes de la micro región “Tierra de Palmares”. \nContacto: 3447436203 – www.museoelporvenir.com.ar
URL:https://villaelisa.gov.ar/evento/visitas-guiadas-en-estancia-museo-el-porvenir-13/2026-02-06/
LOCATION:Estancia Museo “El Porvenir”
ATTACH;FMTTYPE=image/jpeg:https://villaelisa.gov.ar/wp-content/uploads/2026/01/Horarios-enero-febrero-2026-feed.jpeg
END:VEVENT
BEGIN:VEVENT
DTSTART;TZID=America/Argentina/Buenos_Aires:20260206T160000
DTEND;TZID=America/Argentina/Buenos_Aires:20260206T203000
DTSTAMP:20260423T070818
CREATED:20251229T180552Z
LAST-MODIFIED:20251230T132155Z
UID:10007222-1770393600-1770409800@villaelisa.gov.ar
SUMMARY:Estación Elisa – Ferroclub Central Entrerriano
DESCRIPTION:Todos los días desde las 16:00 hs. estará abierta la estación Elisa donde encontrarás maquinarias y elementos de época a las 17 y 19 horas habrá paseos en el tren histórico turístico para vivir una gran experiencia. \nCalle Centenario 2200 \nConsultas al 3442 551086
URL:https://villaelisa.gov.ar/evento/estacion-elisa-ferroclub-central-entrerriano-14/2026-02-06/
LOCATION:Estación ferroviaria Villa Elisa
ATTACH;FMTTYPE=image/jpeg:https://villaelisa.gov.ar/wp-content/uploads/2025/03/WhatsApp-Image-2025-06-25-at-3.17.24-PM.jpeg
END:VEVENT
BEGIN:VEVENT
DTSTART;TZID=America/Argentina/Buenos_Aires:20260206T203000
DTEND;TZID=America/Argentina/Buenos_Aires:20260206T230000
DTSTAMP:20260423T070818
CREATED:20260206T210653Z
LAST-MODIFIED:20260206T222728Z
UID:10009147-1770409800-1770418800@villaelisa.gov.ar
SUMMARY:Futbol Amistoso
DESCRIPTION:Un encuentro deportivo de verano con Club Atlético Campito de Colón.
URL:https://villaelisa.gov.ar/evento/futbol-amistoso/
LOCATION:CAVE Estadio 2 de Junio
ATTACH;FMTTYPE=image/jpeg:https://villaelisa.gov.ar/wp-content/uploads/2026/02/WhatsApp-Image-2026-02-06-at-18.04.32.jpeg
END:VEVENT
BEGIN:VEVENT
DTSTART;TZID=America/Argentina/Buenos_Aires:20260206T233000
DTEND;TZID=America/Argentina/Buenos_Aires:20260207T043000
DTSTAMP:20260423T070818
CREATED:20260206T160643Z
LAST-MODIFIED:20260206T160807Z
UID:10009144-1770420600-1770438600@villaelisa.gov.ar
SUMMARY:Noche Reggaeton en Fran Beer
DESCRIPTION:Veni a disfrutar de una noche especial
URL:https://villaelisa.gov.ar/evento/noche-reggaton-en-fran-beer/
LOCATION:Fran Beer\, Bv. Guex 1694\, Villa Elisa\, 3265
ATTACH;FMTTYPE=image/jpeg:https://villaelisa.gov.ar/wp-content/uploads/2026/02/WhatsApp-Image-2026-02-06-at-1.04.39-PM.jpeg
END:VEVENT
BEGIN:VEVENT
DTSTART;TZID=America/Argentina/Buenos_Aires:20260207T090000
DTEND;TZID=America/Argentina/Buenos_Aires:20260207T203000
DTSTAMP:20260423T070818
CREATED:20260123T163816Z
LAST-MODIFIED:20260202T160144Z
UID:10009138-1770454800-1770496200@villaelisa.gov.ar
SUMMARY:Viviendo Historias
DESCRIPTION:En una visita al histórico Almacén Francou tendrás la posibilidad de compartir actividades fascinantes e inolvidables. \nLunes a sábado de 9 a 12 y de 16\,30 a 20\,30 hs.
URL:https://villaelisa.gov.ar/evento/viviendo-historias-16/2026-02-07/
LOCATION:Almacén de Ramos Generales Francou\, Colonia del Carmen\, Villa Elisa\, Entre Rios\, 3265\, Argentina
ATTACH;FMTTYPE=image/jpeg:https://villaelisa.gov.ar/wp-content/uploads/2025/12/WhatsApp-Image-2026-01-06-at-14.01.39.jpeg
END:VEVENT
BEGIN:VEVENT
DTSTART;TZID=America/Argentina/Buenos_Aires:20260207T100000
DTEND;TZID=America/Argentina/Buenos_Aires:20260207T203000
DTSTAMP:20260423T070818
CREATED:20260108T223621Z
LAST-MODIFIED:20260108T223621Z
UID:10009058-1770458400-1770496200@villaelisa.gov.ar
SUMMARY:Muestra fotográfica “Villa Elisa en el tiempo: una mirada a los 135 años de historia”
DESCRIPTION:De 10:00 a 13:00 y de 17:00 a 20:30 horas\, te invitamos a recorrer\, a través de esta muestra fotográfica\, la transformación urbana y social de nuestra ciudad a lo largo del tiempo.\nLa exposición reúne fotos históricas de distintos espacios de Villa Elisa junto a sus réplicas actuales\, generando un diálogo visual entre pasado y presente. \nEl valor del bono contribución de ingreso es de $2000 general y $1500 para menores entre 6 y 12 años inclusive\, jubilados y residentes de la micro región “Tierra de Palmares”. \nContacto: 3447436203 – www.museoelporvenir.com.ar
URL:https://villaelisa.gov.ar/evento/muestra-fotografica-villa-elisa-en-el-tiempo-una-mirada-a-los-135-anos-de-historia-2/2026-02-07/
LOCATION:Estancia Museo “El Porvenir”
ATTACH;FMTTYPE=image/jpeg:https://villaelisa.gov.ar/wp-content/uploads/2026/01/Muestra-temporal-2026-Villa-Elisa-en-el-tiempo-2.jpeg
END:VEVENT
BEGIN:VEVENT
DTSTART;TZID=America/Argentina/Buenos_Aires:20260207T120000
DTEND;TZID=America/Argentina/Buenos_Aires:20260207T190000
DTSTAMP:20260423T070818
CREATED:20260207T165112Z
LAST-MODIFIED:20260207T165112Z
UID:10009151-1770465600-1770490800@villaelisa.gov.ar
SUMMARY:Torneo de Tenis Mixto
DESCRIPTION:Gran torneo de tenis en Canchas de Club Progreso
URL:https://villaelisa.gov.ar/evento/torneo-de-tenis-mixto/
LOCATION:Cancha de Tenis del Club Progreso\, Villa Elisa
ATTACH;FMTTYPE=image/jpeg:https://villaelisa.gov.ar/wp-content/uploads/2026/02/WhatsApp-Image-2026-02-07-at-10.29.39.jpeg
END:VEVENT
BEGIN:VEVENT
DTSTART;TZID=America/Argentina/Buenos_Aires:20260207T160000
DTEND;TZID=America/Argentina/Buenos_Aires:20260207T203000
DTSTAMP:20260423T070818
CREATED:20251229T180552Z
LAST-MODIFIED:20251230T132155Z
UID:10007223-1770480000-1770496200@villaelisa.gov.ar
SUMMARY:Estación Elisa – Ferroclub Central Entrerriano
DESCRIPTION:Todos los días desde las 16:00 hs. estará abierta la estación Elisa donde encontrarás maquinarias y elementos de época a las 17 y 19 horas habrá paseos en el tren histórico turístico para vivir una gran experiencia. \nCalle Centenario 2200 \nConsultas al 3442 551086
URL:https://villaelisa.gov.ar/evento/estacion-elisa-ferroclub-central-entrerriano-14/2026-02-07/
LOCATION:Estación ferroviaria Villa Elisa
ATTACH;FMTTYPE=image/jpeg:https://villaelisa.gov.ar/wp-content/uploads/2025/03/WhatsApp-Image-2025-06-25-at-3.17.24-PM.jpeg
END:VEVENT
BEGIN:VEVENT
DTSTART;TZID=America/Argentina/Buenos_Aires:20260207T210000
DTEND;TZID=America/Argentina/Buenos_Aires:20260207T210000
DTSTAMP:20260423T070818
CREATED:20260127T100721Z
LAST-MODIFIED:20260127T100721Z
UID:10009125-1770498000-1770498000@villaelisa.gov.ar
SUMMARY:Evento Artistico Enredado
DESCRIPTION:Evento Artístico Enredado\n🎭 Teatro Lambe Lambe\nTeatro de títeres\, microrrelato\nMediante auriculares y los ojos puestos en una mirilla\, el espectador vive un momento mágico y único.\nEn esta ocasión\, la artista italo-argentina Romina Tassirani\, nos relata un cuento de Liliana Bodoc. \n🌿“¿Cómo llegó esto acá?” \n¿Y si no existiera tal lugar?\nAcaso… ¿no amarías tu jardín?\nDanza-teatro\, Unipersonal (autoría propia) de la Artista Gaby Locker. \n📚“Cuenta Cuentos”\nLisi Vincon abre su valija de cuentos y relatos\, nos invita a viajar por el mundo de la literatura. \nEvento apto todo público.
URL:https://villaelisa.gov.ar/evento/evento-artistico-enredado/
LOCATION:La ENREDADA\, FRANCOU 1548\, Villa Elisa\, 3265
ATTACH;FMTTYPE=image/jpeg:https://villaelisa.gov.ar/wp-content/uploads/2026/01/WhatsApp-Image-2026-01-26-at-16.21.56.jpeg
END:VEVENT
BEGIN:VEVENT
DTSTART;TZID=America/Argentina/Buenos_Aires:20260207T210000
DTEND;TZID=America/Argentina/Buenos_Aires:20260207T233000
DTSTAMP:20260423T070818
CREATED:20250220T125712Z
LAST-MODIFIED:20260205T160624Z
UID:10003628-1770498000-1770507000@villaelisa.gov.ar
SUMMARY:Cena Show en "El Paso"
DESCRIPTION:Una noche con exquisitos platos y la excelente música de ” Rocío\, La Voz Entrerriana ” en Parrilla-Restaurante El Paso.
URL:https://villaelisa.gov.ar/evento/271797/
LOCATION:Parrilla El Paso\, Av. Urquiza 3145\, Villa Elisa\, 3265
ATTACH;FMTTYPE=image/jpeg:https://villaelisa.gov.ar/wp-content/uploads/2025/02/WhatsApp-Image-2026-02-05-at-8.12.19-AM.jpeg
END:VEVENT
BEGIN:VEVENT
DTSTART;TZID=America/Argentina/Buenos_Aires:20260207T210000
DTEND;TZID=America/Argentina/Buenos_Aires:20260207T233000
DTSTAMP:20260423T070818
CREATED:20260202T124752Z
LAST-MODIFIED:20260202T124752Z
UID:10009130-1770498000-1770507000@villaelisa.gov.ar
SUMMARY:Viví el Carnaval !!!
DESCRIPTION:Una noche que disfrutaremos de las comparsas de la zona con mucha alegria y diversión!!!
URL:https://villaelisa.gov.ar/evento/vivi-el-carnaval/
LOCATION:Av Mitre entre H. de Elia y José Moix
ATTACH;FMTTYPE=image/jpeg:https://villaelisa.gov.ar/wp-content/uploads/2026/02/WhatsApp-Image-2026-02-02-at-9.08.46-AM.jpeg
END:VEVENT
BEGIN:VEVENT
DTSTART;TZID=America/Argentina/Buenos_Aires:20260207T213000
DTEND;TZID=America/Argentina/Buenos_Aires:20260208T010000
DTSTAMP:20260423T070818
CREATED:20260204T135639Z
LAST-MODIFIED:20260204T140419Z
UID:10009140-1770499800-1770512400@villaelisa.gov.ar
SUMMARY:Carnaval 2026 en Colonia Hocker
DESCRIPTION:Noche de vibrante diversión en Colonia Hocker\, comparsas y batucadas de la región y la espectacular presentación de “La Aplanadora” en vivo !!! Entrada libre y gratuita
URL:https://villaelisa.gov.ar/evento/carnaval-2026-en-colonia-hocker/
LOCATION:Colonia Hocker
ATTACH;FMTTYPE=image/jpeg:https://villaelisa.gov.ar/wp-content/uploads/2026/02/WhatsApp-Image-2026-02-04-at-10.52.08-AM.jpeg
END:VEVENT
BEGIN:VEVENT
DTSTART;TZID=America/Argentina/Buenos_Aires:20260208T100000
DTEND;TZID=America/Argentina/Buenos_Aires:20260208T130000
DTSTAMP:20260423T070818
CREATED:20241104T113404Z
LAST-MODIFIED:20241104T113404Z
UID:10002259-1770544800-1770555600@villaelisa.gov.ar
SUMMARY:Auto Tour
DESCRIPTION:TRAVELING VINA:  \nEs un servicio  extra\, que ofrece el complejo de Alojamientos “V I N A” \nExperiencia Rurales\, AUTO TOUR:  \nPlanificamos y coordinamos recorridos por bodegas\, fábricas de productos regionales\, y almacenes locales\, te llevamos a descubrir La Colonia\, cultura local y los paisajes mas hermosos de nuestra Tierra de Palmares.- \nOrganizado por Perla Lopez – \nReservas con anticipación: contacto 3447503491.- \nValor del recorrido: según destino elegido. \nTiempo demandado: aproximadamente 3 horas.- \nEl objetivo es formar una caravana\, con los vehículos de los interesados y hacer\, una mañana o una tarde de recorridos a los diferentes atractivos de nuestra zona  \nprevia coordinación.- \nPunto de salida: oficina de Turismo Villa Elisa.-
URL:https://villaelisa.gov.ar/evento/auto-tour/2026-02-08/
ATTACH;FMTTYPE=image/jpeg:https://villaelisa.gov.ar/wp-content/uploads/2024/11/Traveling-vina.jpg
END:VEVENT
BEGIN:VEVENT
DTSTART;TZID=America/Argentina/Buenos_Aires:20260208T100000
DTEND;TZID=America/Argentina/Buenos_Aires:20260208T203000
DTSTAMP:20260423T070818
CREATED:20260108T223621Z
LAST-MODIFIED:20260108T223621Z
UID:10009059-1770544800-1770582600@villaelisa.gov.ar
SUMMARY:Muestra fotográfica “Villa Elisa en el tiempo: una mirada a los 135 años de historia”
DESCRIPTION:De 10:00 a 13:00 y de 17:00 a 20:30 horas\, te invitamos a recorrer\, a través de esta muestra fotográfica\, la transformación urbana y social de nuestra ciudad a lo largo del tiempo.\nLa exposición reúne fotos históricas de distintos espacios de Villa Elisa junto a sus réplicas actuales\, generando un diálogo visual entre pasado y presente. \nEl valor del bono contribución de ingreso es de $2000 general y $1500 para menores entre 6 y 12 años inclusive\, jubilados y residentes de la micro región “Tierra de Palmares”. \nContacto: 3447436203 – www.museoelporvenir.com.ar
URL:https://villaelisa.gov.ar/evento/muestra-fotografica-villa-elisa-en-el-tiempo-una-mirada-a-los-135-anos-de-historia-2/2026-02-08/
LOCATION:Estancia Museo “El Porvenir”
ATTACH;FMTTYPE=image/jpeg:https://villaelisa.gov.ar/wp-content/uploads/2026/01/Muestra-temporal-2026-Villa-Elisa-en-el-tiempo-2.jpeg
END:VEVENT
BEGIN:VEVENT
DTSTART;TZID=America/Argentina/Buenos_Aires:20260208T160000
DTEND;TZID=America/Argentina/Buenos_Aires:20260208T203000
DTSTAMP:20260423T070818
CREATED:20251229T180552Z
LAST-MODIFIED:20251230T132155Z
UID:10007224-1770566400-1770582600@villaelisa.gov.ar
SUMMARY:Estación Elisa – Ferroclub Central Entrerriano
DESCRIPTION:Todos los días desde las 16:00 hs. estará abierta la estación Elisa donde encontrarás maquinarias y elementos de época a las 17 y 19 horas habrá paseos en el tren histórico turístico para vivir una gran experiencia. \nCalle Centenario 2200 \nConsultas al 3442 551086
URL:https://villaelisa.gov.ar/evento/estacion-elisa-ferroclub-central-entrerriano-14/2026-02-08/
LOCATION:Estación ferroviaria Villa Elisa
ATTACH;FMTTYPE=image/jpeg:https://villaelisa.gov.ar/wp-content/uploads/2025/03/WhatsApp-Image-2025-06-25-at-3.17.24-PM.jpeg
END:VEVENT
BEGIN:VEVENT
DTSTART;TZID=America/Argentina/Buenos_Aires:20260208T210000
DTEND;TZID=America/Argentina/Buenos_Aires:20260208T233000
DTSTAMP:20260423T070818
CREATED:20260206T113409Z
LAST-MODIFIED:20260206T113409Z
UID:10009129-1770584400-1770593400@villaelisa.gov.ar
SUMMARY:Peña Enredada
DESCRIPTION:Gran noche de folclore argentino. \nNoche de chamarritas\, zambas\, chacareras y demás géneros folclóricos\, con grandes artistas locales  “ENPEÑADOS”\, “Jair Medina”\, “La Arrancada”. \nHabrá servicio de cantina y comidas rápidas. Traer sillones y muchas ganas de bailar.
URL:https://villaelisa.gov.ar/evento/pena-enredada/
LOCATION:La ENREDADA\, FRANCOU 1548\, Villa Elisa\, 3265
ATTACH;FMTTYPE=image/png:https://villaelisa.gov.ar/wp-content/uploads/2026/01/Pena-Enredada.png
END:VEVENT
BEGIN:VEVENT
DTSTART;TZID=America/Argentina/Buenos_Aires:20260209T100000
DTEND;TZID=America/Argentina/Buenos_Aires:20260209T203000
DTSTAMP:20260423T070818
CREATED:20260108T223621Z
LAST-MODIFIED:20260108T223621Z
UID:10009060-1770631200-1770669000@villaelisa.gov.ar
SUMMARY:Muestra fotográfica “Villa Elisa en el tiempo: una mirada a los 135 años de historia”
DESCRIPTION:De 10:00 a 13:00 y de 17:00 a 20:30 horas\, te invitamos a recorrer\, a través de esta muestra fotográfica\, la transformación urbana y social de nuestra ciudad a lo largo del tiempo.\nLa exposición reúne fotos históricas de distintos espacios de Villa Elisa junto a sus réplicas actuales\, generando un diálogo visual entre pasado y presente. \nEl valor del bono contribución de ingreso es de $2000 general y $1500 para menores entre 6 y 12 años inclusive\, jubilados y residentes de la micro región “Tierra de Palmares”. \nContacto: 3447436203 – www.museoelporvenir.com.ar
URL:https://villaelisa.gov.ar/evento/muestra-fotografica-villa-elisa-en-el-tiempo-una-mirada-a-los-135-anos-de-historia-2/2026-02-09/
LOCATION:Estancia Museo “El Porvenir”
ATTACH;FMTTYPE=image/jpeg:https://villaelisa.gov.ar/wp-content/uploads/2026/01/Muestra-temporal-2026-Villa-Elisa-en-el-tiempo-2.jpeg
END:VEVENT
BEGIN:VEVENT
DTSTART;TZID=America/Argentina/Buenos_Aires:20260209T103000
DTEND;TZID=America/Argentina/Buenos_Aires:20260209T130000
DTSTAMP:20260423T070818
CREATED:20260108T224343Z
LAST-MODIFIED:20260108T224343Z
UID:10009081-1770633000-1770642000@villaelisa.gov.ar
SUMMARY:Visitas Guiadas en Estancia Museo El Porvenir
DESCRIPTION:De lunes a viernes (excepto martes) las 10:30 y 12:00 horas\,  pueden realizarse las visitas guiadas gratuitas por la Estancia. \nSi se lo desea\, se puede visitar el lugar en forma independiente (sin visita guiada) de 10:00 a 13:00 y de 17:00 a 20:30 horas\, recordando que también está habilitado el sector del parque recreativo. \nEl valor del bono contribución de ingreso es de $2000 general y $1500 para menores entre 6 y 12 años inclusive\, jubilados y residentes de la micro región “Tierra de Palmares”. \nContacto: 3447436203 – www.museoelporvenir.com.ar
URL:https://villaelisa.gov.ar/evento/visitas-guiadas-en-estancia-museo-el-porvenir-13/2026-02-09/
LOCATION:Estancia Museo “El Porvenir”
ATTACH;FMTTYPE=image/jpeg:https://villaelisa.gov.ar/wp-content/uploads/2026/01/Horarios-enero-febrero-2026-feed.jpeg
END:VEVENT
BEGIN:VEVENT
DTSTART;TZID=America/Argentina/Buenos_Aires:20260209T160000
DTEND;TZID=America/Argentina/Buenos_Aires:20260209T203000
DTSTAMP:20260423T070818
CREATED:20251229T180552Z
LAST-MODIFIED:20251230T132155Z
UID:10007225-1770652800-1770669000@villaelisa.gov.ar
SUMMARY:Estación Elisa – Ferroclub Central Entrerriano
DESCRIPTION:Todos los días desde las 16:00 hs. estará abierta la estación Elisa donde encontrarás maquinarias y elementos de época a las 17 y 19 horas habrá paseos en el tren histórico turístico para vivir una gran experiencia. \nCalle Centenario 2200 \nConsultas al 3442 551086
URL:https://villaelisa.gov.ar/evento/estacion-elisa-ferroclub-central-entrerriano-14/2026-02-09/
LOCATION:Estación ferroviaria Villa Elisa
ATTACH;FMTTYPE=image/jpeg:https://villaelisa.gov.ar/wp-content/uploads/2025/03/WhatsApp-Image-2025-06-25-at-3.17.24-PM.jpeg
END:VEVENT
BEGIN:VEVENT
DTSTART;TZID=America/Argentina/Buenos_Aires:20260210T160000
DTEND;TZID=America/Argentina/Buenos_Aires:20260210T203000
DTSTAMP:20260423T070818
CREATED:20251229T180552Z
LAST-MODIFIED:20251230T132155Z
UID:10007226-1770739200-1770755400@villaelisa.gov.ar
SUMMARY:Estación Elisa – Ferroclub Central Entrerriano
DESCRIPTION:Todos los días desde las 16:00 hs. estará abierta la estación Elisa donde encontrarás maquinarias y elementos de época a las 17 y 19 horas habrá paseos en el tren histórico turístico para vivir una gran experiencia. \nCalle Centenario 2200 \nConsultas al 3442 551086
URL:https://villaelisa.gov.ar/evento/estacion-elisa-ferroclub-central-entrerriano-14/2026-02-10/
LOCATION:Estación ferroviaria Villa Elisa
ATTACH;FMTTYPE=image/jpeg:https://villaelisa.gov.ar/wp-content/uploads/2025/03/WhatsApp-Image-2025-06-25-at-3.17.24-PM.jpeg
END:VEVENT
BEGIN:VEVENT
DTSTART;TZID=America/Argentina/Buenos_Aires:20260211T100000
DTEND;TZID=America/Argentina/Buenos_Aires:20260211T203000
DTSTAMP:20260423T070818
CREATED:20260108T223621Z
LAST-MODIFIED:20260108T223621Z
UID:10009061-1770804000-1770841800@villaelisa.gov.ar
SUMMARY:Muestra fotográfica “Villa Elisa en el tiempo: una mirada a los 135 años de historia”
DESCRIPTION:De 10:00 a 13:00 y de 17:00 a 20:30 horas\, te invitamos a recorrer\, a través de esta muestra fotográfica\, la transformación urbana y social de nuestra ciudad a lo largo del tiempo.\nLa exposición reúne fotos históricas de distintos espacios de Villa Elisa junto a sus réplicas actuales\, generando un diálogo visual entre pasado y presente. \nEl valor del bono contribución de ingreso es de $2000 general y $1500 para menores entre 6 y 12 años inclusive\, jubilados y residentes de la micro región “Tierra de Palmares”. \nContacto: 3447436203 – www.museoelporvenir.com.ar
URL:https://villaelisa.gov.ar/evento/muestra-fotografica-villa-elisa-en-el-tiempo-una-mirada-a-los-135-anos-de-historia-2/2026-02-11/
LOCATION:Estancia Museo “El Porvenir”
ATTACH;FMTTYPE=image/jpeg:https://villaelisa.gov.ar/wp-content/uploads/2026/01/Muestra-temporal-2026-Villa-Elisa-en-el-tiempo-2.jpeg
END:VEVENT
BEGIN:VEVENT
DTSTART;TZID=America/Argentina/Buenos_Aires:20260211T103000
DTEND;TZID=America/Argentina/Buenos_Aires:20260211T130000
DTSTAMP:20260423T070818
CREATED:20260108T224343Z
LAST-MODIFIED:20260108T224343Z
UID:10009082-1770805800-1770814800@villaelisa.gov.ar
SUMMARY:Visitas Guiadas en Estancia Museo El Porvenir
DESCRIPTION:De lunes a viernes (excepto martes) las 10:30 y 12:00 horas\,  pueden realizarse las visitas guiadas gratuitas por la Estancia. \nSi se lo desea\, se puede visitar el lugar en forma independiente (sin visita guiada) de 10:00 a 13:00 y de 17:00 a 20:30 horas\, recordando que también está habilitado el sector del parque recreativo. \nEl valor del bono contribución de ingreso es de $2000 general y $1500 para menores entre 6 y 12 años inclusive\, jubilados y residentes de la micro región “Tierra de Palmares”. \nContacto: 3447436203 – www.museoelporvenir.com.ar
URL:https://villaelisa.gov.ar/evento/visitas-guiadas-en-estancia-museo-el-porvenir-13/2026-02-11/
LOCATION:Estancia Museo “El Porvenir”
ATTACH;FMTTYPE=image/jpeg:https://villaelisa.gov.ar/wp-content/uploads/2026/01/Horarios-enero-febrero-2026-feed.jpeg
END:VEVENT
BEGIN:VEVENT
DTSTART;TZID=America/Argentina/Buenos_Aires:20260211T160000
DTEND;TZID=America/Argentina/Buenos_Aires:20260211T203000
DTSTAMP:20260423T070818
CREATED:20251229T180552Z
LAST-MODIFIED:20251230T132155Z
UID:10007227-1770825600-1770841800@villaelisa.gov.ar
SUMMARY:Estación Elisa – Ferroclub Central Entrerriano
DESCRIPTION:Todos los días desde las 16:00 hs. estará abierta la estación Elisa donde encontrarás maquinarias y elementos de época a las 17 y 19 horas habrá paseos en el tren histórico turístico para vivir una gran experiencia. \nCalle Centenario 2200 \nConsultas al 3442 551086
URL:https://villaelisa.gov.ar/evento/estacion-elisa-ferroclub-central-entrerriano-14/2026-02-11/
LOCATION:Estación ferroviaria Villa Elisa
ATTACH;FMTTYPE=image/jpeg:https://villaelisa.gov.ar/wp-content/uploads/2025/03/WhatsApp-Image-2025-06-25-at-3.17.24-PM.jpeg
END:VEVENT
BEGIN:VEVENT
DTSTART;TZID=America/Argentina/Buenos_Aires:20260211T200000
DTEND;TZID=America/Argentina/Buenos_Aires:20260211T210000
DTSTAMP:20260423T070818
CREATED:20260202T155530Z
LAST-MODIFIED:20260210T155949Z
UID:10009132-1770840000-1770843600@villaelisa.gov.ar
SUMMARY:Santa Misa
DESCRIPTION:Celebración de la Santa Misa en Parroquia Natividad de Nuestra Señora\,
URL:https://villaelisa.gov.ar/evento/santa-misa-5/
LOCATION:Parroquia Virgen Niña
ATTACH;FMTTYPE=image/jpeg:https://villaelisa.gov.ar/wp-content/uploads/2026/02/WhatsApp-Image-2026-02-10-at-12.54.23-PM.jpeg
END:VEVENT
BEGIN:VEVENT
DTSTART;TZID=America/Argentina/Buenos_Aires:20260212T100000
DTEND;TZID=America/Argentina/Buenos_Aires:20260212T203000
DTSTAMP:20260423T070818
CREATED:20260108T223621Z
LAST-MODIFIED:20260108T223621Z
UID:10009062-1770890400-1770928200@villaelisa.gov.ar
SUMMARY:Muestra fotográfica “Villa Elisa en el tiempo: una mirada a los 135 años de historia”
DESCRIPTION:De 10:00 a 13:00 y de 17:00 a 20:30 horas\, te invitamos a recorrer\, a través de esta muestra fotográfica\, la transformación urbana y social de nuestra ciudad a lo largo del tiempo.\nLa exposición reúne fotos históricas de distintos espacios de Villa Elisa junto a sus réplicas actuales\, generando un diálogo visual entre pasado y presente. \nEl valor del bono contribución de ingreso es de $2000 general y $1500 para menores entre 6 y 12 años inclusive\, jubilados y residentes de la micro región “Tierra de Palmares”. \nContacto: 3447436203 – www.museoelporvenir.com.ar
URL:https://villaelisa.gov.ar/evento/muestra-fotografica-villa-elisa-en-el-tiempo-una-mirada-a-los-135-anos-de-historia-2/2026-02-12/
LOCATION:Estancia Museo “El Porvenir”
ATTACH;FMTTYPE=image/jpeg:https://villaelisa.gov.ar/wp-content/uploads/2026/01/Muestra-temporal-2026-Villa-Elisa-en-el-tiempo-2.jpeg
END:VEVENT
BEGIN:VEVENT
DTSTART;TZID=America/Argentina/Buenos_Aires:20260212T103000
DTEND;TZID=America/Argentina/Buenos_Aires:20260212T130000
DTSTAMP:20260423T070818
CREATED:20260108T224343Z
LAST-MODIFIED:20260108T224343Z
UID:10009083-1770892200-1770901200@villaelisa.gov.ar
SUMMARY:Visitas Guiadas en Estancia Museo El Porvenir
DESCRIPTION:De lunes a viernes (excepto martes) las 10:30 y 12:00 horas\,  pueden realizarse las visitas guiadas gratuitas por la Estancia. \nSi se lo desea\, se puede visitar el lugar en forma independiente (sin visita guiada) de 10:00 a 13:00 y de 17:00 a 20:30 horas\, recordando que también está habilitado el sector del parque recreativo. \nEl valor del bono contribución de ingreso es de $2000 general y $1500 para menores entre 6 y 12 años inclusive\, jubilados y residentes de la micro región “Tierra de Palmares”. \nContacto: 3447436203 – www.museoelporvenir.com.ar
URL:https://villaelisa.gov.ar/evento/visitas-guiadas-en-estancia-museo-el-porvenir-13/2026-02-12/
LOCATION:Estancia Museo “El Porvenir”
ATTACH;FMTTYPE=image/jpeg:https://villaelisa.gov.ar/wp-content/uploads/2026/01/Horarios-enero-febrero-2026-feed.jpeg
END:VEVENT
BEGIN:VEVENT
DTSTART;TZID=America/Argentina/Buenos_Aires:20260212T160000
DTEND;TZID=America/Argentina/Buenos_Aires:20260212T203000
DTSTAMP:20260423T070818
CREATED:20251229T180552Z
LAST-MODIFIED:20251230T132155Z
UID:10007228-1770912000-1770928200@villaelisa.gov.ar
SUMMARY:Estación Elisa – Ferroclub Central Entrerriano
DESCRIPTION:Todos los días desde las 16:00 hs. estará abierta la estación Elisa donde encontrarás maquinarias y elementos de época a las 17 y 19 horas habrá paseos en el tren histórico turístico para vivir una gran experiencia. \nCalle Centenario 2200 \nConsultas al 3442 551086
URL:https://villaelisa.gov.ar/evento/estacion-elisa-ferroclub-central-entrerriano-14/2026-02-12/
LOCATION:Estación ferroviaria Villa Elisa
ATTACH;FMTTYPE=image/jpeg:https://villaelisa.gov.ar/wp-content/uploads/2025/03/WhatsApp-Image-2025-06-25-at-3.17.24-PM.jpeg
END:VEVENT
BEGIN:VEVENT
DTSTART;TZID=America/Argentina/Buenos_Aires:20260213T100000
DTEND;TZID=America/Argentina/Buenos_Aires:20260213T203000
DTSTAMP:20260423T070818
CREATED:20260108T223621Z
LAST-MODIFIED:20260108T223621Z
UID:10009063-1770976800-1771014600@villaelisa.gov.ar
SUMMARY:Muestra fotográfica “Villa Elisa en el tiempo: una mirada a los 135 años de historia”
DESCRIPTION:De 10:00 a 13:00 y de 17:00 a 20:30 horas\, te invitamos a recorrer\, a través de esta muestra fotográfica\, la transformación urbana y social de nuestra ciudad a lo largo del tiempo.\nLa exposición reúne fotos históricas de distintos espacios de Villa Elisa junto a sus réplicas actuales\, generando un diálogo visual entre pasado y presente. \nEl valor del bono contribución de ingreso es de $2000 general y $1500 para menores entre 6 y 12 años inclusive\, jubilados y residentes de la micro región “Tierra de Palmares”. \nContacto: 3447436203 – www.museoelporvenir.com.ar
URL:https://villaelisa.gov.ar/evento/muestra-fotografica-villa-elisa-en-el-tiempo-una-mirada-a-los-135-anos-de-historia-2/2026-02-13/
LOCATION:Estancia Museo “El Porvenir”
ATTACH;FMTTYPE=image/jpeg:https://villaelisa.gov.ar/wp-content/uploads/2026/01/Muestra-temporal-2026-Villa-Elisa-en-el-tiempo-2.jpeg
END:VEVENT
END:VCALENDAR