BEGIN:VCALENDAR
VERSION:2.0
PRODID:-//Municipalidad de Villa Elisa, Entre Ríos - ECPv6.6.4.2//NONSGML v1.0//EN
CALSCALE:GREGORIAN
METHOD:PUBLISH
X-ORIGINAL-URL:https://villaelisa.gov.ar
X-WR-CALDESC:Eventos para Municipalidad de Villa Elisa, Entre Ríos
REFRESH-INTERVAL;VALUE=DURATION:PT1H
X-Robots-Tag:noindex
X-PUBLISHED-TTL:PT1H
BEGIN:VTIMEZONE
TZID:America/Argentina/Buenos_Aires
BEGIN:STANDARD
TZOFFSETFROM:-0300
TZOFFSETTO:-0300
TZNAME:-03
DTSTART:20250101T000000
END:STANDARD
END:VTIMEZONE
BEGIN:VEVENT
DTSTART;TZID=America/Argentina/Buenos_Aires:20250721T103000
DTEND;TZID=America/Argentina/Buenos_Aires:20250721T130000
DTSTAMP:20260425T083814
CREATED:20250623T183526Z
LAST-MODIFIED:20250623T183526Z
UID:10004187-1753093800-1753102800@villaelisa.gov.ar
SUMMARY:Visitas Guiadas en Estancia Museo El Porvenir
DESCRIPTION:Las visitas guiadas pueden realizarse todos los días a las 10:30 y 12:00 horas. Si se lo desea\, se puede visitar el lugar en forma independiente (sin visita guiada) de 10:00 a 18:00 horas\, recordando que también está habilitado el sector del parque recreativo. \nEl valor del bono contribución de ingreso es de $1500 general y $1000 para menores entre 6 y 12 años inclusive\, jubilados y residentes de la micro región “Tierra de Palmares”. \nContacto: 3447436203 – www.museoelporvenir.com.ar
URL:https://villaelisa.gov.ar/evento/visitas-guiadas-en-estancia-museo-el-porvenir-3/2025-07-21/
LOCATION:Estancia Museo “El Porvenir”
ATTACH;FMTTYPE=image/jpeg:https://villaelisa.gov.ar/wp-content/uploads/2025/06/Horarios-vacaciones-invierno-2025-feed.jpeg
END:VEVENT
BEGIN:VEVENT
DTSTART;TZID=America/Argentina/Buenos_Aires:20250721T150000
DTEND;TZID=America/Argentina/Buenos_Aires:20250721T183000
DTSTAMP:20260425T083814
CREATED:20250716T164338Z
LAST-MODIFIED:20250716T164338Z
UID:10004435-1753110000-1753122600@villaelisa.gov.ar
SUMMARY:Estación Elisa – Ferroclub Central Entrerriano
DESCRIPTION:En vacaciones de invierno todos los días desde las 15:00 estará abierta la estación Elisa donde encontrarás maquinarias y elementos de época a las 15:30 y 17 horas habrá paseos en el tren histórico turístico para vivir una gran experiencia.
URL:https://villaelisa.gov.ar/evento/estacion-elisa-ferroclub-central-entrerriano-4/
LOCATION:Estación ferroviaria Villa Elisa
ATTACH;FMTTYPE=image/jpeg:https://villaelisa.gov.ar/wp-content/uploads/2025/03/WhatsApp-Image-2025-06-25-at-3.17.24-PM.jpeg
END:VEVENT
BEGIN:VEVENT
DTSTART;TZID=America/Argentina/Buenos_Aires:20250722T103000
DTEND;TZID=America/Argentina/Buenos_Aires:20250722T130000
DTSTAMP:20260425T083814
CREATED:20250623T183526Z
LAST-MODIFIED:20250623T183526Z
UID:10004188-1753180200-1753189200@villaelisa.gov.ar
SUMMARY:Visitas Guiadas en Estancia Museo El Porvenir
DESCRIPTION:Las visitas guiadas pueden realizarse todos los días a las 10:30 y 12:00 horas. Si se lo desea\, se puede visitar el lugar en forma independiente (sin visita guiada) de 10:00 a 18:00 horas\, recordando que también está habilitado el sector del parque recreativo. \nEl valor del bono contribución de ingreso es de $1500 general y $1000 para menores entre 6 y 12 años inclusive\, jubilados y residentes de la micro región “Tierra de Palmares”. \nContacto: 3447436203 – www.museoelporvenir.com.ar
URL:https://villaelisa.gov.ar/evento/visitas-guiadas-en-estancia-museo-el-porvenir-3/2025-07-22/
LOCATION:Estancia Museo “El Porvenir”
ATTACH;FMTTYPE=image/jpeg:https://villaelisa.gov.ar/wp-content/uploads/2025/06/Horarios-vacaciones-invierno-2025-feed.jpeg
END:VEVENT
BEGIN:VEVENT
DTSTART;TZID=America/Argentina/Buenos_Aires:20250722T150000
DTEND;TZID=America/Argentina/Buenos_Aires:20250722T183000
DTSTAMP:20260425T083814
CREATED:20250716T164549Z
LAST-MODIFIED:20250716T164719Z
UID:10004436-1753196400-1753209000@villaelisa.gov.ar
SUMMARY:Estación Elisa – Ferroclub Central Entrerriano
DESCRIPTION:En vacaciones de invierno todos los días desde las 15:00 estará abierta la estación Elisa donde encontrarás maquinarias y elementos de época a las 15:30 y 17 horas habrá paseos en el tren histórico turístico para vivir una gran experiencia.
URL:https://villaelisa.gov.ar/evento/estacion-elisa-ferroclub-central-entrerriano-5/
LOCATION:Estación ferroviaria Villa Elisa
ATTACH;FMTTYPE=image/jpeg:https://villaelisa.gov.ar/wp-content/uploads/2025/03/WhatsApp-Image-2025-06-25-at-3.17.24-PM.jpeg
END:VEVENT
BEGIN:VEVENT
DTSTART;TZID=America/Argentina/Buenos_Aires:20250723T103000
DTEND;TZID=America/Argentina/Buenos_Aires:20250723T130000
DTSTAMP:20260425T083814
CREATED:20250623T183526Z
LAST-MODIFIED:20250623T183526Z
UID:10004189-1753266600-1753275600@villaelisa.gov.ar
SUMMARY:Visitas Guiadas en Estancia Museo El Porvenir
DESCRIPTION:Las visitas guiadas pueden realizarse todos los días a las 10:30 y 12:00 horas. Si se lo desea\, se puede visitar el lugar en forma independiente (sin visita guiada) de 10:00 a 18:00 horas\, recordando que también está habilitado el sector del parque recreativo. \nEl valor del bono contribución de ingreso es de $1500 general y $1000 para menores entre 6 y 12 años inclusive\, jubilados y residentes de la micro región “Tierra de Palmares”. \nContacto: 3447436203 – www.museoelporvenir.com.ar
URL:https://villaelisa.gov.ar/evento/visitas-guiadas-en-estancia-museo-el-porvenir-3/2025-07-23/
LOCATION:Estancia Museo “El Porvenir”
ATTACH;FMTTYPE=image/jpeg:https://villaelisa.gov.ar/wp-content/uploads/2025/06/Horarios-vacaciones-invierno-2025-feed.jpeg
END:VEVENT
BEGIN:VEVENT
DTSTART;TZID=America/Argentina/Buenos_Aires:20250723T150000
DTEND;TZID=America/Argentina/Buenos_Aires:20250723T183000
DTSTAMP:20260425T083814
CREATED:20250716T164025Z
LAST-MODIFIED:20250716T164025Z
UID:10004434-1753282800-1753295400@villaelisa.gov.ar
SUMMARY:Estación Elisa – Ferroclub Central Entrerriano
DESCRIPTION:En vacaciones de invierno todos los días desde las 15:00 estará abierta la estación Elisa donde encontrarás maquinarias y elementos de época a las 15:30 y 17 horas habrá paseos en el tren histórico turístico para vivir una gran experiencia.
URL:https://villaelisa.gov.ar/evento/estacion-elisa-ferroclub-central-entrerriano/
LOCATION:Estación ferroviaria Villa Elisa
ATTACH;FMTTYPE=image/jpeg:https://villaelisa.gov.ar/wp-content/uploads/2025/03/WhatsApp-Image-2025-06-25-at-3.17.24-PM.jpeg
END:VEVENT
BEGIN:VEVENT
DTSTART;TZID=America/Argentina/Buenos_Aires:20250724T100000
DTEND;TZID=America/Argentina/Buenos_Aires:20250724T180000
DTSTAMP:20260425T083814
CREATED:20250715T130517Z
LAST-MODIFIED:20250723T162633Z
UID:10004427-1753351200-1753380000@villaelisa.gov.ar
SUMMARY:Viviendo Historias
DESCRIPTION:En una visita al histórico Almacen Francou tendras la posibilidad de compartir actividades fascinantes e inolvidables.
URL:https://villaelisa.gov.ar/evento/viviendo-historias-3/2025-07-24/
LOCATION:Almacén de Ramos Generales Francou\, Colonia del Carmen\, Villa Elisa\, Entre Rios\, 3265\, Argentina
ATTACH;FMTTYPE=image/jpeg:https://villaelisa.gov.ar/wp-content/uploads/2025/07/WhatsApp-Image-2025-07-23-at-11.29.52-AM.jpeg
END:VEVENT
BEGIN:VEVENT
DTSTART;TZID=America/Argentina/Buenos_Aires:20250724T103000
DTEND;TZID=America/Argentina/Buenos_Aires:20250724T130000
DTSTAMP:20260425T083814
CREATED:20250623T183526Z
LAST-MODIFIED:20250623T183526Z
UID:10004190-1753353000-1753362000@villaelisa.gov.ar
SUMMARY:Visitas Guiadas en Estancia Museo El Porvenir
DESCRIPTION:Las visitas guiadas pueden realizarse todos los días a las 10:30 y 12:00 horas. Si se lo desea\, se puede visitar el lugar en forma independiente (sin visita guiada) de 10:00 a 18:00 horas\, recordando que también está habilitado el sector del parque recreativo. \nEl valor del bono contribución de ingreso es de $1500 general y $1000 para menores entre 6 y 12 años inclusive\, jubilados y residentes de la micro región “Tierra de Palmares”. \nContacto: 3447436203 – www.museoelporvenir.com.ar
URL:https://villaelisa.gov.ar/evento/visitas-guiadas-en-estancia-museo-el-porvenir-3/2025-07-24/
LOCATION:Estancia Museo “El Porvenir”
ATTACH;FMTTYPE=image/jpeg:https://villaelisa.gov.ar/wp-content/uploads/2025/06/Horarios-vacaciones-invierno-2025-feed.jpeg
END:VEVENT
BEGIN:VEVENT
DTSTART;TZID=America/Argentina/Buenos_Aires:20250725T100000
DTEND;TZID=America/Argentina/Buenos_Aires:20250725T180000
DTSTAMP:20260425T083814
CREATED:20250715T130517Z
LAST-MODIFIED:20250723T162633Z
UID:10004454-1753437600-1753466400@villaelisa.gov.ar
SUMMARY:Viviendo Historias
DESCRIPTION:En una visita al histórico Almacen Francou tendras la posibilidad de compartir actividades fascinantes e inolvidables.
URL:https://villaelisa.gov.ar/evento/viviendo-historias-3/2025-07-25/
LOCATION:Almacén de Ramos Generales Francou\, Colonia del Carmen\, Villa Elisa\, Entre Rios\, 3265\, Argentina
ATTACH;FMTTYPE=image/jpeg:https://villaelisa.gov.ar/wp-content/uploads/2025/07/WhatsApp-Image-2025-07-23-at-11.29.52-AM.jpeg
END:VEVENT
BEGIN:VEVENT
DTSTART;TZID=America/Argentina/Buenos_Aires:20250725T100000
DTEND;TZID=America/Argentina/Buenos_Aires:20250725T180000
DTSTAMP:20260425T083814
CREATED:20250721T160956Z
LAST-MODIFIED:20250721T160956Z
UID:10004445-1753437600-1753466400@villaelisa.gov.ar
SUMMARY:Murales Low Cost en Villa Elisa
DESCRIPTION:Villa Elisa es sede de un encuentro de muralistas.\nNos visitan artistas de Buenos Aires y de la zona. \nEstaran pintando durante todo el día del viernes 25 y sábado 26 de julio\, sobre calle Irungaray en las paredes de la cancha de futbol del CAVE.\nA partir de las 15:00 hs va a haber música en vivo con discos de vinilos. \n¡Los esperamos!
URL:https://villaelisa.gov.ar/evento/murales-low-cost-en-villa-elisa/
LOCATION:CAVE Estadio 2 de Junio
ATTACH;FMTTYPE=image/jpeg:https://villaelisa.gov.ar/wp-content/uploads/2025/07/WhatsApp-Image-2025-07-21-at-1.06.18-PM.jpeg
END:VEVENT
BEGIN:VEVENT
DTSTART;TZID=America/Argentina/Buenos_Aires:20250725T103000
DTEND;TZID=America/Argentina/Buenos_Aires:20250725T130000
DTSTAMP:20260425T083814
CREATED:20250623T183526Z
LAST-MODIFIED:20250623T183526Z
UID:10004191-1753439400-1753448400@villaelisa.gov.ar
SUMMARY:Visitas Guiadas en Estancia Museo El Porvenir
DESCRIPTION:Las visitas guiadas pueden realizarse todos los días a las 10:30 y 12:00 horas. Si se lo desea\, se puede visitar el lugar en forma independiente (sin visita guiada) de 10:00 a 18:00 horas\, recordando que también está habilitado el sector del parque recreativo. \nEl valor del bono contribución de ingreso es de $1500 general y $1000 para menores entre 6 y 12 años inclusive\, jubilados y residentes de la micro región “Tierra de Palmares”. \nContacto: 3447436203 – www.museoelporvenir.com.ar
URL:https://villaelisa.gov.ar/evento/visitas-guiadas-en-estancia-museo-el-porvenir-3/2025-07-25/
LOCATION:Estancia Museo “El Porvenir”
ATTACH;FMTTYPE=image/jpeg:https://villaelisa.gov.ar/wp-content/uploads/2025/06/Horarios-vacaciones-invierno-2025-feed.jpeg
END:VEVENT
BEGIN:VEVENT
DTSTART;TZID=America/Argentina/Buenos_Aires:20250725T110000
DTEND;TZID=America/Argentina/Buenos_Aires:20250725T180000
DTSTAMP:20260425T083814
CREATED:20250723T185412Z
LAST-MODIFIED:20250723T185412Z
UID:10004461-1753441200-1753466400@villaelisa.gov.ar
SUMMARY:Almacén Don Leandro
DESCRIPTION:Visitanos en vacaciones para conocer la exquisita elaboración de productos coloniales.
URL:https://villaelisa.gov.ar/evento/almacen-don-leandro-8/2025-07-25/
LOCATION:Almacén Don Leandro\, Calle sin número\, Colonia Hocker
ATTACH;FMTTYPE=image/jpeg:https://villaelisa.gov.ar/wp-content/uploads/2025/07/WhatsApp-Image-2025-07-23-at-3.50.37-PM.jpeg
END:VEVENT
BEGIN:VEVENT
DTSTART;TZID=America/Argentina/Buenos_Aires:20250725T130000
DTEND;TZID=America/Argentina/Buenos_Aires:20250725T183000
DTSTAMP:20260425T083814
CREATED:20250213T120258Z
LAST-MODIFIED:20250723T120756Z
UID:10003607-1753448400-1753468200@villaelisa.gov.ar
SUMMARY:Feria de Emprendedores
DESCRIPTION:Los stands que conforman la feria se ubican sobre un tramo del paseo de Av. Urquiza\, comprendido entre calles Las Heras y Alvear.⁣ \nUna excelente posibilidad para conectar y acceder a trabajos\, manualidades y servicios que llevan adelante manos elisenses y de la zona.
URL:https://villaelisa.gov.ar/evento/feria-de-emprendedores-20/
LOCATION:Paseo de la Vida\, Villa Elisa
ATTACH;FMTTYPE=image/jpeg:https://villaelisa.gov.ar/wp-content/uploads/2025/02/WhatsApp-Image-2025-07-23-at-8.59.32-AM.jpeg
END:VEVENT
BEGIN:VEVENT
DTSTART;TZID=America/Argentina/Buenos_Aires:20250725T150000
DTEND;TZID=America/Argentina/Buenos_Aires:20250725T183000
DTSTAMP:20260425T083814
CREATED:20250723T124234Z
LAST-MODIFIED:20250723T124234Z
UID:10004451-1753455600-1753468200@villaelisa.gov.ar
SUMMARY:Estación Elisa – Ferroclub Central Entrerriano
DESCRIPTION:En vacaciones de invierno todos los días desde las 15:00 estará abierta la estación Elisa donde encontrarás maquinarias y elementos de época a las 15:30 y 17 horas habrá paseos en el tren histórico turístico para vivir una gran experiencia. \nCalle Centenario 2200 \nConsultas al 3442 551086
URL:https://villaelisa.gov.ar/evento/estacion-elisa-ferroclub-central-entrerriano-8/
LOCATION:Estación ferroviaria Villa Elisa
ATTACH;FMTTYPE=image/jpeg:https://villaelisa.gov.ar/wp-content/uploads/2025/03/WhatsApp-Image-2025-06-25-at-3.17.24-PM.jpeg
END:VEVENT
BEGIN:VEVENT
DTSTART;TZID=America/Argentina/Buenos_Aires:20250726T100000
DTEND;TZID=America/Argentina/Buenos_Aires:20250726T180000
DTSTAMP:20260425T083814
CREATED:20250715T130517Z
LAST-MODIFIED:20250723T162633Z
UID:10004455-1753524000-1753552800@villaelisa.gov.ar
SUMMARY:Viviendo Historias
DESCRIPTION:En una visita al histórico Almacen Francou tendras la posibilidad de compartir actividades fascinantes e inolvidables.
URL:https://villaelisa.gov.ar/evento/viviendo-historias-3/2025-07-26/
LOCATION:Almacén de Ramos Generales Francou\, Colonia del Carmen\, Villa Elisa\, Entre Rios\, 3265\, Argentina
ATTACH;FMTTYPE=image/jpeg:https://villaelisa.gov.ar/wp-content/uploads/2025/07/WhatsApp-Image-2025-07-23-at-11.29.52-AM.jpeg
END:VEVENT
BEGIN:VEVENT
DTSTART;TZID=America/Argentina/Buenos_Aires:20250726T100000
DTEND;TZID=America/Argentina/Buenos_Aires:20250726T180000
DTSTAMP:20260425T083814
CREATED:20250721T161110Z
LAST-MODIFIED:20250721T161110Z
UID:10004446-1753524000-1753552800@villaelisa.gov.ar
SUMMARY:Murales Low Cost en Villa Elisa
DESCRIPTION:Villa Elisa es sede de un encuentro de muralistas.\nNos visitan artistas de Buenos Aires y de la zona. \nEstaran pintando durante todo el día del viernes 25 y sábado 26 de julio\, sobre calle Irungaray en las paredes de la cancha de futbol del CAVE.\nA partir de las 15:00 hs va a haber música en vivo con discos de vinilos. \n¡Los esperamos!
URL:https://villaelisa.gov.ar/evento/murales-low-cost-en-villa-elisa-2/
LOCATION:CAVE Estadio 2 de Junio
ATTACH;FMTTYPE=image/jpeg:https://villaelisa.gov.ar/wp-content/uploads/2025/07/WhatsApp-Image-2025-07-21-at-1.06.18-PM.jpeg
END:VEVENT
BEGIN:VEVENT
DTSTART;TZID=America/Argentina/Buenos_Aires:20250726T103000
DTEND;TZID=America/Argentina/Buenos_Aires:20250726T130000
DTSTAMP:20260425T083814
CREATED:20250623T183526Z
LAST-MODIFIED:20250623T183526Z
UID:10004192-1753525800-1753534800@villaelisa.gov.ar
SUMMARY:Visitas Guiadas en Estancia Museo El Porvenir
DESCRIPTION:Las visitas guiadas pueden realizarse todos los días a las 10:30 y 12:00 horas. Si se lo desea\, se puede visitar el lugar en forma independiente (sin visita guiada) de 10:00 a 18:00 horas\, recordando que también está habilitado el sector del parque recreativo. \nEl valor del bono contribución de ingreso es de $1500 general y $1000 para menores entre 6 y 12 años inclusive\, jubilados y residentes de la micro región “Tierra de Palmares”. \nContacto: 3447436203 – www.museoelporvenir.com.ar
URL:https://villaelisa.gov.ar/evento/visitas-guiadas-en-estancia-museo-el-porvenir-3/2025-07-26/
LOCATION:Estancia Museo “El Porvenir”
ATTACH;FMTTYPE=image/jpeg:https://villaelisa.gov.ar/wp-content/uploads/2025/06/Horarios-vacaciones-invierno-2025-feed.jpeg
END:VEVENT
BEGIN:VEVENT
DTSTART;TZID=America/Argentina/Buenos_Aires:20250726T110000
DTEND;TZID=America/Argentina/Buenos_Aires:20250726T180000
DTSTAMP:20260425T083814
CREATED:20250723T185412Z
LAST-MODIFIED:20250723T185412Z
UID:10004462-1753527600-1753552800@villaelisa.gov.ar
SUMMARY:Almacén Don Leandro
DESCRIPTION:Visitanos en vacaciones para conocer la exquisita elaboración de productos coloniales.
URL:https://villaelisa.gov.ar/evento/almacen-don-leandro-8/2025-07-26/
LOCATION:Almacén Don Leandro\, Calle sin número\, Colonia Hocker
ATTACH;FMTTYPE=image/jpeg:https://villaelisa.gov.ar/wp-content/uploads/2025/07/WhatsApp-Image-2025-07-23-at-3.50.37-PM.jpeg
END:VEVENT
BEGIN:VEVENT
DTSTART;TZID=America/Argentina/Buenos_Aires:20250726T203000
DTEND;TZID=America/Argentina/Buenos_Aires:20250726T220000
DTSTAMP:20260425T083814
CREATED:20250724T160329Z
LAST-MODIFIED:20250724T160647Z
UID:10004465-1753561800-1753567200@villaelisa.gov.ar
SUMMARY:Las Mantenidas Sin Sueños en Cine Paradiso
DESCRIPTION:Una película atrapante donde Florencia\, una joven madre y su precoz hija Eugenia van explorando las relaciones madre-hija. Protagonizada por Vera Fogwill\,Mirta Busnelli\, Gaston Pauls entre otros de un gran elenco. \nPremiada más de 20 veces a nivel internacional.                                                                                                                            Cine Paradiso ubicado en Alvear 942 \nEntrada $1000
URL:https://villaelisa.gov.ar/evento/las-mantenidas-sin-suenos-en-cine-paradiso/
LOCATION:Cine Paradiso\, Gral. Alvear 942\, Villa Elisa\, 3265
ATTACH;FMTTYPE=image/jpeg:https://villaelisa.gov.ar/wp-content/uploads/2025/07/WhatsApp-Image-2025-07-24-at-12.52.34-PM.jpeg
END:VEVENT
BEGIN:VEVENT
DTSTART;TZID=America/Argentina/Buenos_Aires:20250726T220000
DTEND;TZID=America/Argentina/Buenos_Aires:20250726T233000
DTSTAMP:20260425T083814
CREATED:20250721T154357Z
LAST-MODIFIED:20250721T154357Z
UID:10004443-1753567200-1753572600@villaelisa.gov.ar
SUMMARY:Ciclo acustico en La Enredada...
DESCRIPTION:Abrimos un nuevo ciclo de música acústica en nuestra casa cultural “La Enredada”. Un dúo de artistas de nuestra región\, Silvia Rocha y Ale Ramos\, nos llevarán por recorridos de música latinoamericana y Argentina. \nTambién tendremos una rica comida casera\, buenas bebidas y un ambiente cálido para disfrutar entre amigos y familia.
URL:https://villaelisa.gov.ar/evento/ciclo-acustico-en-la-enredada/
LOCATION:La ENREDADA\, FRANCOU 1548\, Villa Elisa\, 3265
ATTACH;FMTTYPE=image/jpeg:https://villaelisa.gov.ar/wp-content/uploads/2025/07/IMG-20250720-WA0018.jpg
END:VEVENT
BEGIN:VEVENT
DTSTART;TZID=America/Argentina/Buenos_Aires:20250727T100000
DTEND;TZID=America/Argentina/Buenos_Aires:20250727T113000
DTSTAMP:20260425T083814
CREATED:20250628T220012Z
LAST-MODIFIED:20250628T220012Z
UID:10004341-1753610400-1753615800@villaelisa.gov.ar
SUMMARY:Caminatur
DESCRIPTION:Listos para conocer Villa Elisa Entre Rios en una experiencia inolvidable ?\n🚶🏻‍♀️👨🏼‍🦽🚶🏽‍♂️🚶🏼‍♀️🚶🏼 \nAl visitar nuestra ciudad\, disfrutá con esta propuesta en la cual te sentirás protagonista!!!\nDescubriendo a través de entretenidos circuitos guiados\, curiosidades y lugares poco conocidos de los espacios públicos que generalmente no se ven\, conectando con la historia\, cultura y naturaleza local. \nReservas e información 3447456151\nGraciela Antonin\nGuía Nacional de Turismo\nReg 0054 COPROTUER
URL:https://villaelisa.gov.ar/evento/caminatur-43/
ATTACH;FMTTYPE=image/jpeg:https://villaelisa.gov.ar/wp-content/uploads/2025/03/WhatsApp-Image-2025-05-08-at-10.54.45-AM.jpeg
END:VEVENT
BEGIN:VEVENT
DTSTART;TZID=America/Argentina/Buenos_Aires:20250727T100000
DTEND;TZID=America/Argentina/Buenos_Aires:20250727T130000
DTSTAMP:20260425T083814
CREATED:20241104T113404Z
LAST-MODIFIED:20241104T113404Z
UID:10002231-1753610400-1753621200@villaelisa.gov.ar
SUMMARY:Auto Tour
DESCRIPTION:TRAVELING VINA:  \nEs un servicio  extra\, que ofrece el complejo de Alojamientos “V I N A” \nExperiencia Rurales\, AUTO TOUR:  \nPlanificamos y coordinamos recorridos por bodegas\, fábricas de productos regionales\, y almacenes locales\, te llevamos a descubrir La Colonia\, cultura local y los paisajes mas hermosos de nuestra Tierra de Palmares.- \nOrganizado por Perla Lopez – \nReservas con anticipación: contacto 3447503491.- \nValor del recorrido: según destino elegido. \nTiempo demandado: aproximadamente 3 horas.- \nEl objetivo es formar una caravana\, con los vehículos de los interesados y hacer\, una mañana o una tarde de recorridos a los diferentes atractivos de nuestra zona  \nprevia coordinación.- \nPunto de salida: oficina de Turismo Villa Elisa.-
URL:https://villaelisa.gov.ar/evento/auto-tour/2025-07-27/
ATTACH;FMTTYPE=image/jpeg:https://villaelisa.gov.ar/wp-content/uploads/2024/11/Traveling-vina.jpg
END:VEVENT
BEGIN:VEVENT
DTSTART;TZID=America/Argentina/Buenos_Aires:20250727T100000
DTEND;TZID=America/Argentina/Buenos_Aires:20250727T180000
DTSTAMP:20260425T083814
CREATED:20250715T130517Z
LAST-MODIFIED:20250723T162633Z
UID:10004456-1753610400-1753639200@villaelisa.gov.ar
SUMMARY:Viviendo Historias
DESCRIPTION:En una visita al histórico Almacen Francou tendras la posibilidad de compartir actividades fascinantes e inolvidables.
URL:https://villaelisa.gov.ar/evento/viviendo-historias-3/2025-07-27/
LOCATION:Almacén de Ramos Generales Francou\, Colonia del Carmen\, Villa Elisa\, Entre Rios\, 3265\, Argentina
ATTACH;FMTTYPE=image/jpeg:https://villaelisa.gov.ar/wp-content/uploads/2025/07/WhatsApp-Image-2025-07-23-at-11.29.52-AM.jpeg
END:VEVENT
BEGIN:VEVENT
DTSTART;TZID=America/Argentina/Buenos_Aires:20250727T103000
DTEND;TZID=America/Argentina/Buenos_Aires:20250727T130000
DTSTAMP:20260425T083814
CREATED:20250623T183526Z
LAST-MODIFIED:20250623T183526Z
UID:10004193-1753612200-1753621200@villaelisa.gov.ar
SUMMARY:Visitas Guiadas en Estancia Museo El Porvenir
DESCRIPTION:Las visitas guiadas pueden realizarse todos los días a las 10:30 y 12:00 horas. Si se lo desea\, se puede visitar el lugar en forma independiente (sin visita guiada) de 10:00 a 18:00 horas\, recordando que también está habilitado el sector del parque recreativo. \nEl valor del bono contribución de ingreso es de $1500 general y $1000 para menores entre 6 y 12 años inclusive\, jubilados y residentes de la micro región “Tierra de Palmares”. \nContacto: 3447436203 – www.museoelporvenir.com.ar
URL:https://villaelisa.gov.ar/evento/visitas-guiadas-en-estancia-museo-el-porvenir-3/2025-07-27/
LOCATION:Estancia Museo “El Porvenir”
ATTACH;FMTTYPE=image/jpeg:https://villaelisa.gov.ar/wp-content/uploads/2025/06/Horarios-vacaciones-invierno-2025-feed.jpeg
END:VEVENT
BEGIN:VEVENT
DTSTART;TZID=America/Argentina/Buenos_Aires:20250727T110000
DTEND;TZID=America/Argentina/Buenos_Aires:20250727T150000
DTSTAMP:20260425T083814
CREATED:20250724T125957Z
LAST-MODIFIED:20250724T125957Z
UID:10004464-1753614000-1753628400@villaelisa.gov.ar
SUMMARY:Rural Tour 2025 en Almacén Francou
DESCRIPTION:Llegan al Almacén los vehiculos que estarán recorriendo nuestra zona. \nVeni a compartir este gran evento!!!
URL:https://villaelisa.gov.ar/evento/rural-tour-2025-en-almacen-francou/
LOCATION:Almacén de Ramos Generales Francou\, Colonia del Carmen\, Villa Elisa\, Entre Rios\, 3265\, Argentina
ATTACH;FMTTYPE=image/jpeg:https://villaelisa.gov.ar/wp-content/uploads/2025/07/WhatsApp-Image-2025-07-24-at-9.55.48-AM.jpeg
END:VEVENT
BEGIN:VEVENT
DTSTART;TZID=America/Argentina/Buenos_Aires:20250727T110000
DTEND;TZID=America/Argentina/Buenos_Aires:20250727T180000
DTSTAMP:20260425T083814
CREATED:20250723T185548Z
LAST-MODIFIED:20250723T185548Z
UID:10004463-1753614000-1753639200@villaelisa.gov.ar
SUMMARY:Almacén Don Leandro
DESCRIPTION:Visitanos en vacaciones para conocer la exquisita elaboración de productos coloniales.
URL:https://villaelisa.gov.ar/evento/almacen-don-leandro-9/
LOCATION:Almacén Don Leandro\, Calle sin número\, Colonia Hocker
ATTACH;FMTTYPE=image/jpeg:https://villaelisa.gov.ar/wp-content/uploads/2025/07/WhatsApp-Image-2025-07-23-at-3.50.37-PM.jpeg
END:VEVENT
BEGIN:VEVENT
DTSTART;TZID=America/Argentina/Buenos_Aires:20250727T110000
DTEND;TZID=America/Argentina/Buenos_Aires:20250727T183000
DTSTAMP:20260425T083814
CREATED:20250701T135419Z
LAST-MODIFIED:20250701T135419Z
UID:10004351-1753614000-1753641000@villaelisa.gov.ar
SUMMARY:2° Festival de la Amistad
DESCRIPTION:Una jornada de excelente música para divertirse todo el día.y muchas cosas ricas en el gran servicio de cantina.
URL:https://villaelisa.gov.ar/evento/2-festival-de-la-amistad/
LOCATION:Estación ferroviaria La Clarita\, La Clarita\, Entre Ríos
ATTACH;FMTTYPE=image/jpeg:https://villaelisa.gov.ar/wp-content/uploads/2025/07/WhatsApp-Image-2025-07-01-at-10.40.08-AM.jpeg
END:VEVENT
BEGIN:VEVENT
DTSTART;TZID=America/Argentina/Buenos_Aires:20250727T150000
DTEND;TZID=America/Argentina/Buenos_Aires:20250727T183000
DTSTAMP:20260425T083814
CREATED:20250723T124443Z
LAST-MODIFIED:20250723T124443Z
UID:10004452-1753628400-1753641000@villaelisa.gov.ar
SUMMARY:Estación Elisa – Ferroclub Central Entrerriano
DESCRIPTION:En vacaciones de invierno todos los días desde las 15:00 estará abierta la estación Elisa donde encontrarás maquinarias y elementos de época a las 15:30 y 17 horas habrá paseos en el tren histórico turístico para vivir una gran experiencia. \nCalle Centenario 2200 \nConsultas al 3442 551086
URL:https://villaelisa.gov.ar/evento/estacion-elisa-ferroclub-central-entrerriano-9/
LOCATION:Estación ferroviaria Villa Elisa
ATTACH;FMTTYPE=image/jpeg:https://villaelisa.gov.ar/wp-content/uploads/2025/04/IMG_20240615_173111324-scaled.jpg
END:VEVENT
BEGIN:VEVENT
DTSTART;TZID=America/Argentina/Buenos_Aires:20250727T210000
DTEND;TZID=America/Argentina/Buenos_Aires:20250727T233000
DTSTAMP:20260425T083814
CREATED:20250628T173505Z
LAST-MODIFIED:20250628T174939Z
UID:10004335-1753650000-1753659000@villaelisa.gov.ar
SUMMARY:Claudio Gabis en una noche de blues\, rock y pura energía. 
DESCRIPTION:El Centro Cultural La Fragua se enciende con un concierto único: CLAUDIO GABIS\, guitarrista y cofundador del histórico Manal llega para entregar una noche de blues\, rock y pura energía. \n21:00 hs Claudio Gabis acompañado Tucho & La Clerici Bros.\nHabrá Músicos invitados!\n¡Promoción! Primeras 40 entradas a precio especial \nReserva tu entrada en:\n3447-559755 \n¡Capacidad limitada
URL:https://villaelisa.gov.ar/evento/claudio-gabis-en-una-noche-de-blues-rock-y-pura-energia/
LOCATION:Centro Cultural La Fragua
ATTACH;FMTTYPE=image/jpeg:https://villaelisa.gov.ar/wp-content/uploads/2025/06/WhatsApp-Image-2025-06-28-at-14.22.40.jpeg
END:VEVENT
BEGIN:VEVENT
DTSTART;TZID=America/Argentina/Buenos_Aires:20250728T100000
DTEND;TZID=America/Argentina/Buenos_Aires:20250728T180000
DTSTAMP:20260425T083814
CREATED:20250715T130517Z
LAST-MODIFIED:20250723T162633Z
UID:10004457-1753696800-1753725600@villaelisa.gov.ar
SUMMARY:Viviendo Historias
DESCRIPTION:En una visita al histórico Almacen Francou tendras la posibilidad de compartir actividades fascinantes e inolvidables.
URL:https://villaelisa.gov.ar/evento/viviendo-historias-3/2025-07-28/
LOCATION:Almacén de Ramos Generales Francou\, Colonia del Carmen\, Villa Elisa\, Entre Rios\, 3265\, Argentina
ATTACH;FMTTYPE=image/jpeg:https://villaelisa.gov.ar/wp-content/uploads/2025/07/WhatsApp-Image-2025-07-23-at-11.29.52-AM.jpeg
END:VEVENT
END:VCALENDAR