BEGIN:VCALENDAR
VERSION:2.0
PRODID:-//Municipalidad de Villa Elisa, Entre Ríos - ECPv6.6.4.2//NONSGML v1.0//EN
CALSCALE:GREGORIAN
METHOD:PUBLISH
X-ORIGINAL-URL:https://villaelisa.gov.ar
X-WR-CALDESC:Eventos para Municipalidad de Villa Elisa, Entre Ríos
REFRESH-INTERVAL;VALUE=DURATION:PT1H
X-Robots-Tag:noindex
X-PUBLISHED-TTL:PT1H
BEGIN:VTIMEZONE
TZID:America/Argentina/Buenos_Aires
BEGIN:STANDARD
TZOFFSETFROM:-0300
TZOFFSETTO:-0300
TZNAME:-03
DTSTART:20250101T000000
END:STANDARD
END:VTIMEZONE
BEGIN:VEVENT
DTSTART;TZID=America/Argentina/Buenos_Aires:20250808T103000
DTEND;TZID=America/Argentina/Buenos_Aires:20250808T130000
DTSTAMP:20260425T071901
CREATED:20250724T200626Z
LAST-MODIFIED:20250724T200626Z
UID:10004471-1754649000-1754658000@villaelisa.gov.ar
SUMMARY:Visitas Guiadas en Estancia Museo El Porvenir
DESCRIPTION:Las visitas guiadas pueden realizarse de lunes a viernes (excepto martes) a las 10:30 y 12:00 horas. Si se lo desea\, se puede visitar el lugar en forma independiente (sin visita guiada) de 10:00 a 13:00 y de 15:00 a 18:00 horas\, recordando que también está habilitado el sector del parque recreativo. \nEl valor del bono contribución de ingreso es de $1500 general y $1000 para menores entre 6 y 12 años inclusive\, jubilados y residentes de la micro región “Tierra de Palmares”. \nContacto: 3447436203 – www.museoelporvenir.com.ar
URL:https://villaelisa.gov.ar/evento/visitas-guiadas-en-estancia-museo-el-porvenir-4/2025-08-08/
LOCATION:Estancia Museo “El Porvenir”
ATTACH;FMTTYPE=image/jpeg:https://villaelisa.gov.ar/wp-content/uploads/2025/07/02.8-Horarios-Agosto.jpeg
END:VEVENT
BEGIN:VEVENT
DTSTART;TZID=America/Argentina/Buenos_Aires:20250808T140000
DTEND;TZID=America/Argentina/Buenos_Aires:20250808T180000
DTSTAMP:20260425T071901
CREATED:20250808T115211Z
LAST-MODIFIED:20250808T115211Z
UID:10004503-1754661600-1754676000@villaelisa.gov.ar
SUMMARY:Gran Feria Patitas
DESCRIPTION:Te esperamos con muchos artículos a muy buen precio\, todo a beneficio APA PATITAS
URL:https://villaelisa.gov.ar/evento/gran-feria-patitas-3/
LOCATION:Centro Union\, El Ñandubay 1075\, Villa Elisa\, Entre Rios\, 3265\, Argentina
ATTACH;FMTTYPE=image/jpeg:https://villaelisa.gov.ar/wp-content/uploads/2025/08/WhatsApp-Image-2025-08-08-at-8.47.29-AM.jpeg
END:VEVENT
BEGIN:VEVENT
DTSTART;TZID=America/Argentina/Buenos_Aires:20250808T213000
DTEND;TZID=America/Argentina/Buenos_Aires:20250808T223000
DTSTAMP:20260425T071901
CREATED:20250807T154623Z
LAST-MODIFIED:20250807T154623Z
UID:10004500-1754688600-1754692200@villaelisa.gov.ar
SUMMARY:Basquetbol en CAVE
DESCRIPTION:El local Club Atlético Villa Elisa recibe al Club Rocamora de Concepción del Uruguay en un atrapante partido de basquetbol.
URL:https://villaelisa.gov.ar/evento/basquetbol-en-cave/
LOCATION:Estadio cerrado CAVE\, Emilio Francou e Irigoyen\, Villa Elisa\, 3264
ATTACH;FMTTYPE=image/jpeg:https://villaelisa.gov.ar/wp-content/uploads/2025/08/WhatsApp-Image-2025-08-07-at-12.28.41-PM.jpeg
GEO:-32.164117;-58.397421
X-APPLE-STRUCTURED-LOCATION;VALUE=URI;X-ADDRESS=Estadio cerrado CAVE Emilio Francou e Irigoyen Villa Elisa 3264;X-APPLE-RADIUS=500;X-TITLE=Emilio Francou e Irigoyen:geo:-58.397421,-32.164117
END:VEVENT
BEGIN:VEVENT
DTSTART;TZID=America/Argentina/Buenos_Aires:20250809T140000
DTEND;TZID=America/Argentina/Buenos_Aires:20250809T180000
DTSTAMP:20260425T071901
CREATED:20250808T115303Z
LAST-MODIFIED:20250808T115303Z
UID:10004504-1754748000-1754762400@villaelisa.gov.ar
SUMMARY:Gran Feria Patitas
DESCRIPTION:Te esperamos con muchos artículos a muy buen precio\, todo a beneficio APA PATITAS
URL:https://villaelisa.gov.ar/evento/gran-feria-patitas-4/
LOCATION:Centro Union\, El Ñandubay 1075\, Villa Elisa\, Entre Rios\, 3265\, Argentina
ATTACH;FMTTYPE=image/jpeg:https://villaelisa.gov.ar/wp-content/uploads/2025/08/WhatsApp-Image-2025-08-08-at-8.47.29-AM.jpeg
END:VEVENT
BEGIN:VEVENT
DTSTART;TZID=America/Argentina/Buenos_Aires:20250809T140000
DTEND;TZID=America/Argentina/Buenos_Aires:20250809T183000
DTSTAMP:20260425T071901
CREATED:20250724T183706Z
LAST-MODIFIED:20250724T183706Z
UID:10004466-1754748000-1754764200@villaelisa.gov.ar
SUMMARY:Festejo de las Infancias
DESCRIPTION:Una jornada para celebrar el mes de las infancias\, poder jugar\, disfrutar de merienda y algunas sorpresas más en Colonia Hocker. \nVeni a pasarlo lindo!!!
URL:https://villaelisa.gov.ar/evento/festejo-de-las-infancias/
LOCATION:Colonia Hocker
ATTACH;FMTTYPE=image/jpeg:https://villaelisa.gov.ar/wp-content/uploads/2025/07/WhatsApp-Image-2025-07-18-at-8.11.47-AM-1.jpeg
END:VEVENT
BEGIN:VEVENT
DTSTART;TZID=America/Argentina/Buenos_Aires:20250809T150000
DTEND;TZID=America/Argentina/Buenos_Aires:20250809T183000
DTSTAMP:20260425T071901
CREATED:20250808T115615Z
LAST-MODIFIED:20250808T115616Z
UID:10004255-1754751600-1754764200@villaelisa.gov.ar
SUMMARY:Estación Elisa - Ferroclub Central Entrerriano
DESCRIPTION:  \nDesde las 15:00 estará abierta la estación Elisa donde encontrarás maquinarias y elementos de época a las 15:30 y 17 horas habrá paseos en el tren histórico turístico para vivir una gran experiencia. \nCalle Centenario 2200 \nConsultas al 3442 551086
URL:https://villaelisa.gov.ar/evento/ferroclub-central-entrerriano-6-2-2-2-5-5/
LOCATION:Ferroclub Central Entrerriano\, Centenario y Arenales\, Villa Elisa\, 3265
ATTACH;FMTTYPE=image/jpeg:https://villaelisa.gov.ar/wp-content/uploads/2025/01/IMG_20231210_175944197-scaled.jpg
END:VEVENT
BEGIN:VEVENT
DTSTART;TZID=America/Argentina/Buenos_Aires:20250809T203000
DTEND;TZID=America/Argentina/Buenos_Aires:20250809T220000
DTSTAMP:20260425T071901
CREATED:20250716T150304Z
LAST-MODIFIED:20250805T151221Z
UID:10004431-1754771400-1754776800@villaelisa.gov.ar
SUMMARY:"Una Aventura de Niñeras" en Cine Paradiso
DESCRIPTION:Una historia de confusión con entretenidos recorridos e impecablemente actuada que causará diversas reacciones emocionales en más de un miembro del público en el cine.
URL:https://villaelisa.gov.ar/evento/la-habitacion-en-cine-paradiso/
LOCATION:Cine Paradiso\, Gral. Alvear 942\, Villa Elisa\, 3265
ATTACH;FMTTYPE=image/jpeg:https://villaelisa.gov.ar/wp-content/uploads/2025/07/WhatsApp-Image-2025-08-05-at-11.39.39-AM.jpeg
END:VEVENT
BEGIN:VEVENT
DTSTART;TZID=America/Argentina/Buenos_Aires:20250809T210000
DTEND;TZID=America/Argentina/Buenos_Aires:20250810T030000
DTSTAMP:20260425T071901
CREATED:20250728T140705Z
LAST-MODIFIED:20250728T140705Z
UID:10004484-1754773200-1754794800@villaelisa.gov.ar
SUMMARY:SÁBADO 9 DE AGOSTO
DESCRIPTION:GRAN BAILE CON MAXI LOKER Y SU BANDA \nCUMBIA CON ACORDEÓN
URL:https://villaelisa.gov.ar/evento/sabado-9-de-agosto/
LOCATION:Centro María Auxiliadora\, H. Irigoyen 1269\, Villa Elisa
ATTACH;FMTTYPE=image/jpeg:https://villaelisa.gov.ar/wp-content/uploads/2025/07/InShot_20250728_090049922.jpg
END:VEVENT
BEGIN:VEVENT
DTSTART;TZID=America/Argentina/Buenos_Aires:20250809T210000
DTEND;TZID=America/Argentina/Buenos_Aires:20250810T030000
DTSTAMP:20260425T071901
CREATED:20250807T142643Z
LAST-MODIFIED:20250807T142643Z
UID:10004499-1754773200-1754794800@villaelisa.gov.ar
SUMMARY:Música en Monkey´s
DESCRIPTION:Muy buena música en un muy buen lugar
URL:https://villaelisa.gov.ar/evento/musica-en-monkeys/
LOCATION:Monkeys\, Bv Schroeder y T. del Pilar
ATTACH;FMTTYPE=image/jpeg:https://villaelisa.gov.ar/wp-content/uploads/2025/08/WhatsApp-Image-2025-08-07-at-11.07.59-AM.jpeg
END:VEVENT
BEGIN:VEVENT
DTSTART;TZID=America/Argentina/Buenos_Aires:20250810T090000
DTEND;TZID=America/Argentina/Buenos_Aires:20250810T163000
DTSTAMP:20260425T071901
CREATED:20250806T151127Z
LAST-MODIFIED:20250806T151127Z
UID:10004498-1754816400-1754843400@villaelisa.gov.ar
SUMMARY:Rocha Trail Running
DESCRIPTION:Una edición más de este clásico donde participan competidores de todo nuestro pais \nMusica y feriantes artesanales
URL:https://villaelisa.gov.ar/evento/rocha-trail-running/
LOCATION:Balneario Municipal Rocha
ATTACH;FMTTYPE=image/jpeg:https://villaelisa.gov.ar/wp-content/uploads/2025/08/WhatsApp-Image-2025-08-06-at-12.03.34-PM.jpeg
END:VEVENT
BEGIN:VEVENT
DTSTART;TZID=America/Argentina/Buenos_Aires:20250810T100000
DTEND;TZID=America/Argentina/Buenos_Aires:20250810T130000
DTSTAMP:20260425T071901
CREATED:20241104T113404Z
LAST-MODIFIED:20241104T113404Z
UID:10002233-1754820000-1754830800@villaelisa.gov.ar
SUMMARY:Auto Tour
DESCRIPTION:TRAVELING VINA:  \nEs un servicio  extra\, que ofrece el complejo de Alojamientos “V I N A” \nExperiencia Rurales\, AUTO TOUR:  \nPlanificamos y coordinamos recorridos por bodegas\, fábricas de productos regionales\, y almacenes locales\, te llevamos a descubrir La Colonia\, cultura local y los paisajes mas hermosos de nuestra Tierra de Palmares.- \nOrganizado por Perla Lopez – \nReservas con anticipación: contacto 3447503491.- \nValor del recorrido: según destino elegido. \nTiempo demandado: aproximadamente 3 horas.- \nEl objetivo es formar una caravana\, con los vehículos de los interesados y hacer\, una mañana o una tarde de recorridos a los diferentes atractivos de nuestra zona  \nprevia coordinación.- \nPunto de salida: oficina de Turismo Villa Elisa.-
URL:https://villaelisa.gov.ar/evento/auto-tour/2025-08-10/
ATTACH;FMTTYPE=image/jpeg:https://villaelisa.gov.ar/wp-content/uploads/2024/11/Traveling-vina.jpg
END:VEVENT
BEGIN:VEVENT
DTSTART;TZID=America/Argentina/Buenos_Aires:20250810T150000
DTEND;TZID=America/Argentina/Buenos_Aires:20250810T170000
DTSTAMP:20260425T071901
CREATED:20250801T124101Z
LAST-MODIFIED:20250801T124101Z
UID:10004491-1754838000-1754845200@villaelisa.gov.ar
SUMMARY:Encuentro de Expresión Adolescente
DESCRIPTION:¡Atención jóvenes de 14 a 18 años! \nSumate al Encuentro de Expresión Adolescente \nDomingo 10 de agosto\n15:00 hs\nLa Fragua \nUn espacio para que cuentes qué te preocupa\, compartas tus gustos y motivaciones.\nVení a conectar con otros\, dar voz a tus ideas y ser parte activa de la comunidad.
URL:https://villaelisa.gov.ar/evento/encuentro-de-expresion-adolescente/
LOCATION:Centro Cultural La Fragua
ATTACH;FMTTYPE=image/jpeg:https://villaelisa.gov.ar/wp-content/uploads/2025/08/WhatsApp-Image-2025-07-31-at-6.29.06-PM.jpeg
END:VEVENT
BEGIN:VEVENT
DTSTART;TZID=America/Argentina/Buenos_Aires:20250810T150000
DTEND;TZID=America/Argentina/Buenos_Aires:20250810T183000
DTSTAMP:20260425T071901
CREATED:20250808T115514Z
LAST-MODIFIED:20250808T115514Z
UID:10004453-1754838000-1754850600@villaelisa.gov.ar
SUMMARY:Estación Elisa – Ferroclub Central Entrerriano
DESCRIPTION:Desde las 15:00 estará abierta la estación Elisa donde encontrarás maquinarias y elementos de época a las 15:30 y 17 horas habrá paseos en el tren histórico turístico para vivir una gran experiencia. \nCalle Centenario 2200 \nConsultas al 3442 551086
URL:https://villaelisa.gov.ar/evento/estacion-elisa-ferroclub-central-entrerriano-10-2/
LOCATION:Estación ferroviaria Villa Elisa
ATTACH;FMTTYPE=image/jpeg:https://villaelisa.gov.ar/wp-content/uploads/2025/05/IMG_20250511_174624040-1-scaled.jpg
END:VEVENT
BEGIN:VEVENT
DTSTART;TZID=America/Argentina/Buenos_Aires:20250810T170000
DTEND;TZID=America/Argentina/Buenos_Aires:20250810T203000
DTSTAMP:20260425T071901
CREATED:20250722T162922Z
LAST-MODIFIED:20250728T134941Z
UID:10004447-1754845200-1754857800@villaelisa.gov.ar
SUMMARY:Gran Bingo de Lalcec
DESCRIPTION:Gran Bingo Familiar!!!\nOrganizádo por Lalcec Villa Elisa en Salón Jockey Club Villa Elisa.\nPodés adquirirlos en la Sede\, ubicada en Tratado del Pilar 1348 de lunes a viernes de 8 hs a 11:30hs. o solicitalos a cualquier integrante de la Comisión 3447-435130 No te lo pierdas!!! Habrá sorteos!!!\nTu ayuda es muy importante para nuestra Institución.
URL:https://villaelisa.gov.ar/evento/gran-bingo-de-lalcec/
LOCATION:Salón Jockey Club Villa Elisa
ATTACH;FMTTYPE=image/jpeg:https://villaelisa.gov.ar/wp-content/uploads/2025/07/WhatsApp-Image-2025-07-22-at-12.00.01-PM.jpeg
END:VEVENT
BEGIN:VEVENT
DTSTART;TZID=America/Argentina/Buenos_Aires:20250811T103000
DTEND;TZID=America/Argentina/Buenos_Aires:20250811T130000
DTSTAMP:20260425T071901
CREATED:20250724T200626Z
LAST-MODIFIED:20250724T200626Z
UID:10004472-1754908200-1754917200@villaelisa.gov.ar
SUMMARY:Visitas Guiadas en Estancia Museo El Porvenir
DESCRIPTION:Las visitas guiadas pueden realizarse de lunes a viernes (excepto martes) a las 10:30 y 12:00 horas. Si se lo desea\, se puede visitar el lugar en forma independiente (sin visita guiada) de 10:00 a 13:00 y de 15:00 a 18:00 horas\, recordando que también está habilitado el sector del parque recreativo. \nEl valor del bono contribución de ingreso es de $1500 general y $1000 para menores entre 6 y 12 años inclusive\, jubilados y residentes de la micro región “Tierra de Palmares”. \nContacto: 3447436203 – www.museoelporvenir.com.ar
URL:https://villaelisa.gov.ar/evento/visitas-guiadas-en-estancia-museo-el-porvenir-4/2025-08-11/
LOCATION:Estancia Museo “El Porvenir”
ATTACH;FMTTYPE=image/jpeg:https://villaelisa.gov.ar/wp-content/uploads/2025/07/02.8-Horarios-Agosto.jpeg
END:VEVENT
BEGIN:VEVENT
DTSTART;TZID=America/Argentina/Buenos_Aires:20250811T183000
DTEND;TZID=America/Argentina/Buenos_Aires:20250811T200000
DTSTAMP:20260425T071901
CREATED:20250806T150152Z
LAST-MODIFIED:20250806T150152Z
UID:10004497-1754937000-1754942400@villaelisa.gov.ar
SUMMARY:Viajando por las Distintas Corrientes Inmigratorias de Entre Ríos
DESCRIPTION:Viajando por las Distintas Corrientes Inmigratorias de Entre Ríos \n📅 Lunes 11 de agosto.\n📍 Biblioteca Popular General Mitre.\n🕡 18:30 hs. \n¡Te invitamos! a ser parte de un nuevo encuentro del Ciclo de Charlas que busca mantener viva la memoria de nuestros abuelos inmigrantes y sus valiosas huellas en nuestra identidad. \n👥 En esta ocasión\, nos visitan desde la ciudad de Villaguay:\n🇮🇱 Osvaldo Quiroga\, historiador\, quién nos compartirá su mirada sobre las Colonias Judías.\n🗣️ Abraham Arcushin\, con sus relatos sobre la comunidad Manecos. \n📚 Actividad organizada por los Profesorados de Geografía y Tecnología de la Escuela Normal Superior Dr. Luis César Ingold.
URL:https://villaelisa.gov.ar/evento/viajando-por-las-distintas-corrientes-inmigratorias-de-entre-rios-4/
LOCATION:Biblioteca Popular General Mitre\, Av. Mitre 1160\, Villa Elisa\, 3265
ATTACH;FMTTYPE=image/jpeg:https://villaelisa.gov.ar/wp-content/uploads/2025/08/WhatsApp-Image-2025-08-06-at-7.50.19-AM.jpeg
END:VEVENT
BEGIN:VEVENT
DTSTART;TZID=America/Argentina/Buenos_Aires:20250813T100000
DTEND;TZID=America/Argentina/Buenos_Aires:20250813T120000
DTSTAMP:20260425T071901
CREATED:20250811T152511Z
LAST-MODIFIED:20250811T152511Z
UID:10004508-1755079200-1755086400@villaelisa.gov.ar
SUMMARY:Feria Educativa en Esc N° 40
DESCRIPTION:En esta jornada con mucho orgullo los alumnos exponen sus trabajos de investigación en Escuela N° 40 Emilio Francou.
URL:https://villaelisa.gov.ar/evento/feria-educativa-en-esc-n-40/
LOCATION:Escuela N° 40\, Boulevard Francou 1024\, Viila Elisa\, 3265
ATTACH;FMTTYPE=image/jpeg:https://villaelisa.gov.ar/wp-content/uploads/2025/08/WhatsApp-Image-2025-08-11-at-12.19.28-PM.jpeg
END:VEVENT
BEGIN:VEVENT
DTSTART;TZID=America/Argentina/Buenos_Aires:20250813T103000
DTEND;TZID=America/Argentina/Buenos_Aires:20250813T130000
DTSTAMP:20260425T071901
CREATED:20250724T200626Z
LAST-MODIFIED:20250724T200626Z
UID:10004473-1755081000-1755090000@villaelisa.gov.ar
SUMMARY:Visitas Guiadas en Estancia Museo El Porvenir
DESCRIPTION:Las visitas guiadas pueden realizarse de lunes a viernes (excepto martes) a las 10:30 y 12:00 horas. Si se lo desea\, se puede visitar el lugar en forma independiente (sin visita guiada) de 10:00 a 13:00 y de 15:00 a 18:00 horas\, recordando que también está habilitado el sector del parque recreativo. \nEl valor del bono contribución de ingreso es de $1500 general y $1000 para menores entre 6 y 12 años inclusive\, jubilados y residentes de la micro región “Tierra de Palmares”. \nContacto: 3447436203 – www.museoelporvenir.com.ar
URL:https://villaelisa.gov.ar/evento/visitas-guiadas-en-estancia-museo-el-porvenir-4/2025-08-13/
LOCATION:Estancia Museo “El Porvenir”
ATTACH;FMTTYPE=image/jpeg:https://villaelisa.gov.ar/wp-content/uploads/2025/07/02.8-Horarios-Agosto.jpeg
END:VEVENT
BEGIN:VEVENT
DTSTART;TZID=America/Argentina/Buenos_Aires:20250813T190000
DTEND;TZID=America/Argentina/Buenos_Aires:20250813T203000
DTSTAMP:20260425T071901
CREATED:20250806T102955Z
LAST-MODIFIED:20250806T102955Z
UID:10004495-1755111600-1755117000@villaelisa.gov.ar
SUMMARY:Taller itinerante de Cine entrerriano
DESCRIPTION:Taller gratuito destinado a adolescentes entre 13 y 18 años que deseen incursionar en las nociones fundamentales del lenguaje audiovisual y vivir la experiencia de crear un videominuto colectivo. La escuela itinerante de Cine Entrerriano es un proyecto coordinado por el Instituto Autárquico Audiovisual de Entre Ríos (IAAER) en conjunto con la Asociación de Realizadores Audiovisuales de Entre Ríos (ARAER).
URL:https://villaelisa.gov.ar/evento/taller-itinerante-de-cine-entrerriano/
LOCATION:Asociación Civil La Fragua\, Héctor de Elía 1489\, Villa Elisa\, 3265
ATTACH;FMTTYPE=image/jpeg:https://villaelisa.gov.ar/wp-content/uploads/2025/08/Flyer-Escuela-Cine-Entrerriano.jpeg
END:VEVENT
BEGIN:VEVENT
DTSTART;TZID=America/Argentina/Buenos_Aires:20250814T103000
DTEND;TZID=America/Argentina/Buenos_Aires:20250814T130000
DTSTAMP:20260425T071901
CREATED:20250724T200626Z
LAST-MODIFIED:20250724T200626Z
UID:10004474-1755167400-1755176400@villaelisa.gov.ar
SUMMARY:Visitas Guiadas en Estancia Museo El Porvenir
DESCRIPTION:Las visitas guiadas pueden realizarse de lunes a viernes (excepto martes) a las 10:30 y 12:00 horas. Si se lo desea\, se puede visitar el lugar en forma independiente (sin visita guiada) de 10:00 a 13:00 y de 15:00 a 18:00 horas\, recordando que también está habilitado el sector del parque recreativo. \nEl valor del bono contribución de ingreso es de $1500 general y $1000 para menores entre 6 y 12 años inclusive\, jubilados y residentes de la micro región “Tierra de Palmares”. \nContacto: 3447436203 – www.museoelporvenir.com.ar
URL:https://villaelisa.gov.ar/evento/visitas-guiadas-en-estancia-museo-el-porvenir-4/2025-08-14/
LOCATION:Estancia Museo “El Porvenir”
ATTACH;FMTTYPE=image/jpeg:https://villaelisa.gov.ar/wp-content/uploads/2025/07/02.8-Horarios-Agosto.jpeg
END:VEVENT
BEGIN:VEVENT
DTSTART;TZID=America/Argentina/Buenos_Aires:20250814T183000
DTEND;TZID=America/Argentina/Buenos_Aires:20250814T200000
DTSTAMP:20260425T071901
CREATED:20250806T121124Z
LAST-MODIFIED:20250806T121124Z
UID:10004496-1755196200-1755201600@villaelisa.gov.ar
SUMMARY:Taller de arreglos con flores naturales
DESCRIPTION:En dos encuentros (jueves 14 y 21 de agosto) los participantes adquirirán habilidades técnicas y creativas en el diseño y decoración floral de eventos. Los interesados pueden inscribirse por WhatsApp al  3447-503912 o través de correo electrónico: centro13eja.cl@gmail.com. Cordinado por la Coordinación de Educación de Jóvenes y Adultos Colón.
URL:https://villaelisa.gov.ar/evento/taller-de-arreglos-con-flores-naturales/
LOCATION:Caritas Villa Elisa\, Estrada y Bvard. Francou\, Villa Elisa
ATTACH;FMTTYPE=image/jpeg:https://villaelisa.gov.ar/wp-content/uploads/2025/08/Flyer-arreglos-florales.jpg
END:VEVENT
BEGIN:VEVENT
DTSTART;TZID=America/Argentina/Buenos_Aires:20250815T013000
DTEND;TZID=America/Argentina/Buenos_Aires:20250815T060000
DTSTAMP:20260425T071901
CREATED:20250814T131340Z
LAST-MODIFIED:20250814T131340Z
UID:10004520-1755221400-1755237600@villaelisa.gov.ar
SUMMARY:Joda de la Primavera
DESCRIPTION:La Promo 25 te espera para una noche de mucha música y diverrsión
URL:https://villaelisa.gov.ar/evento/joda-de-la-primavera/
LOCATION:Salón Jockey Club Villa Elisa
ATTACH;FMTTYPE=image/jpeg:https://villaelisa.gov.ar/wp-content/uploads/2025/08/WhatsApp-Image-2025-08-14-at-10.11.31-AM.jpeg
END:VEVENT
BEGIN:VEVENT
DTSTART;TZID=America/Argentina/Buenos_Aires:20250815T100000
DTEND;TZID=America/Argentina/Buenos_Aires:20250815T180000
DTSTAMP:20260425T071901
CREATED:20250812T132053Z
LAST-MODIFIED:20250812T132053Z
UID:10004511-1755252000-1755280800@villaelisa.gov.ar
SUMMARY:Viviendo Historias
DESCRIPTION:En una visita al histórico Almacen Francou tendras la posibilidad de compartir actividades fascinantes e inolvidables.
URL:https://villaelisa.gov.ar/evento/viviendo-historias-6/
LOCATION:Almacén de Ramos Generales Francou\, Colonia del Carmen\, Villa Elisa\, Entre Rios\, 3265\, Argentina
ATTACH;FMTTYPE=image/jpeg:https://villaelisa.gov.ar/wp-content/uploads/2025/07/WhatsApp-Image-2025-08-12-at-8.16.53-AM.jpeg
END:VEVENT
BEGIN:VEVENT
DTSTART;TZID=America/Argentina/Buenos_Aires:20250815T190000
DTEND;TZID=America/Argentina/Buenos_Aires:20250815T203000
DTSTAMP:20260425T071901
CREATED:20250813T121615Z
LAST-MODIFIED:20250813T121615Z
UID:10004515-1755284400-1755289800@villaelisa.gov.ar
SUMMARY:Presentación de Libro en Biblioteca Mitre
DESCRIPTION:La escritora local Norma Cooke presenta su libro “Refugio de Palabras y Emociones” sobre la historia de la biblioteca de Arroyo Barú
URL:https://villaelisa.gov.ar/evento/presentacion-de-libro-en-biblioteca-mitre/
LOCATION:Biblioteca Popular General Mitre\, Av. Mitre 1160\, Villa Elisa\, 3265
ATTACH;FMTTYPE=image/jpeg:https://villaelisa.gov.ar/wp-content/uploads/2025/08/WhatsApp-Image-2025-08-12-at-5.44.41-PM.jpeg
END:VEVENT
BEGIN:VEVENT
DTSTART;TZID=America/Argentina/Buenos_Aires:20250815T200000
DTEND;TZID=America/Argentina/Buenos_Aires:20250816T010000
DTSTAMP:20260425T071901
CREATED:20250801T154929Z
LAST-MODIFIED:20250801T154929Z
UID:10004492-1755288000-1755306000@villaelisa.gov.ar
SUMMARY:Peña Patria
DESCRIPTION:No te podes perder esta oportunidad de micrófono abierto en la Peña Amiga
URL:https://villaelisa.gov.ar/evento/pena-patria/
LOCATION:pizzeria pizza kids\, Urquiza 1824\, Villa elisa\, 3265
ATTACH;FMTTYPE=image/jpeg:https://villaelisa.gov.ar/wp-content/uploads/2025/08/WhatsApp-Image-2025-08-01-at-11.19.05-AM.jpeg
END:VEVENT
BEGIN:VEVENT
DTSTART;TZID=America/Argentina/Buenos_Aires:20250815T210000
DTEND;TZID=America/Argentina/Buenos_Aires:20250815T233000
DTSTAMP:20260425T071901
CREATED:20240530T160922Z
LAST-MODIFIED:20250814T141427Z
UID:10001499-1755291600-1755300600@villaelisa.gov.ar
SUMMARY:Cena Show con Natalia Morua en "El Paso"
DESCRIPTION:Este sábado Natalia Morua\, nos acompaña con su hermoso show en Restaurante El Paso Av. Urquiza 3145.
URL:https://villaelisa.gov.ar/evento/grupo-fusa-en-el-paso-2/
LOCATION:Parrilla El Paso\, Av. Urquiza 3145\, Villa Elisa\, 3265
ATTACH;FMTTYPE=image/jpeg:https://villaelisa.gov.ar/wp-content/uploads/2024/05/WhatsApp-Image-2025-08-14-at-11.09.11-AM-1.jpeg
END:VEVENT
BEGIN:VEVENT
DTSTART;TZID=America/Argentina/Buenos_Aires:20250815T210000
DTEND;TZID=America/Argentina/Buenos_Aires:20250816T033000
DTSTAMP:20260425T071901
CREATED:20250721T155315Z
LAST-MODIFIED:20250814T161952Z
UID:10004444-1755291600-1755315000@villaelisa.gov.ar
SUMMARY:Cena y Música para Mayores
DESCRIPTION:Una ocasión de exquisita comida y muy buena música en Aquilino
URL:https://villaelisa.gov.ar/evento/cena-y-musica-para-mayores/
LOCATION:Aquilino
ATTACH;FMTTYPE=image/jpeg:https://villaelisa.gov.ar/wp-content/uploads/2025/07/WhatsApp-Image-2025-08-14-at-1.16.36-PM.jpeg
END:VEVENT
BEGIN:VEVENT
DTSTART;TZID=America/Argentina/Buenos_Aires:20250816T103000
DTEND;TZID=America/Argentina/Buenos_Aires:20250816T163000
DTSTAMP:20260425T071901
CREATED:20250813T190000Z
LAST-MODIFIED:20250813T190000Z
UID:10004518-1755340200-1755361800@villaelisa.gov.ar
SUMMARY:Visitas Guiadas en Estancia Museo El Porvenir
DESCRIPTION:Este fin de semana XL\, las visitas guiadas pueden realizarse el sábado 16 de agosto a las 10:30\, 12:00\, 15:30 y 16:30 horas. Si se lo desea\, se puede visitar el lugar en forma independiente (sin visita guiada) de 10:00 a 13:00 y de 15:00 a 18:00 horas\, recordando que también está habilitado el sector del parque recreativo. \nEl valor del bono contribución de ingreso es de $1500 general y $1000 para menores entre 6 y 12 años inclusive\, jubilados y residentes de la micro región “Tierra de Palmares”. \nContacto: 3447436203 – www.museoelporvenir.com.ar
URL:https://villaelisa.gov.ar/evento/visitas-guiadas-en-estancia-museo-el-porvenir-5/
LOCATION:Estancia Museo “El Porvenir”
ATTACH;FMTTYPE=image/jpeg:https://villaelisa.gov.ar/wp-content/uploads/2025/08/14.8-finde-xl.jpeg
END:VEVENT
BEGIN:VEVENT
DTSTART;TZID=America/Argentina/Buenos_Aires:20250816T160000
DTEND;TZID=America/Argentina/Buenos_Aires:20250816T170000
DTSTAMP:20260425T071901
CREATED:20250813T151238Z
LAST-MODIFIED:20250813T151238Z
UID:10004517-1755360000-1755363600@villaelisa.gov.ar
SUMMARY:Misa en Honor a San Roque
DESCRIPTION:Santa celebración en honor a San Roque en nuestro Hospital local
URL:https://villaelisa.gov.ar/evento/misa-en-honor-a-san-roque/
LOCATION:Hospital San Roque María Aguer de Francou\, Av. Mitre 2039
ATTACH;FMTTYPE=image/jpeg:https://villaelisa.gov.ar/wp-content/uploads/2025/08/WhatsApp-Image-2025-08-13-at-12.09.17-PM.jpeg
END:VEVENT
BEGIN:VEVENT
DTSTART;TZID=America/Argentina/Buenos_Aires:20250816T203000
DTEND;TZID=America/Argentina/Buenos_Aires:20250816T220000
DTSTAMP:20260425T071901
CREATED:20250813T145152Z
LAST-MODIFIED:20250813T145249Z
UID:10004516-1755376200-1755381600@villaelisa.gov.ar
SUMMARY:"El Fútbol o Yo" Película en Cine Paradiso
DESCRIPTION:Una divertida pelicula con muchos momentos atractivos\, para reirse y olvidarse de.cualquier problema. \nEntrada solo $1000 en Alvear 942.
URL:https://villaelisa.gov.ar/evento/el-futbol-o-yo-pelicula-en-cine-paradiso/
LOCATION:Cine Paradiso\, Gral. Alvear 942\, Villa Elisa\, 3265
ATTACH;FMTTYPE=image/jpeg:https://villaelisa.gov.ar/wp-content/uploads/2025/08/WhatsApp-Image-2025-08-13-at-11.44.30-AM.jpeg
END:VEVENT
END:VCALENDAR