BEGIN:VCALENDAR
VERSION:2.0
PRODID:-//Municipalidad de Villa Elisa, Entre Ríos - ECPv6.6.4.2//NONSGML v1.0//EN
CALSCALE:GREGORIAN
METHOD:PUBLISH
X-ORIGINAL-URL:https://villaelisa.gov.ar
X-WR-CALDESC:Eventos para Municipalidad de Villa Elisa, Entre Ríos
REFRESH-INTERVAL;VALUE=DURATION:PT1H
X-Robots-Tag:noindex
X-PUBLISHED-TTL:PT1H
BEGIN:VTIMEZONE
TZID:America/Argentina/Buenos_Aires
BEGIN:STANDARD
TZOFFSETFROM:-0300
TZOFFSETTO:-0300
TZNAME:-03
DTSTART:20260101T000000
END:STANDARD
END:VTIMEZONE
BEGIN:VEVENT
DTSTART;TZID=America/Argentina/Buenos_Aires:20260131T210000
DTEND;TZID=America/Argentina/Buenos_Aires:20260201T023000
DTSTAMP:20260423T082604
CREATED:20260105T154323Z
LAST-MODIFIED:20260129T173113Z
UID:10009031-1769893200-1769913000@villaelisa.gov.ar
SUMMARY:Gran Baile en Escuela 80
DESCRIPTION:El gran baile tan esperado en la Escuela 80 de Colonia La Suiza con la actuación de Leo Milezzi  y Grupo Galaxia !!!
URL:https://villaelisa.gov.ar/evento/gran-baile-en-escuela-17/
LOCATION:Club Huracán Colonia Hocker\, Villa Elisa\, Entre Rios\, 3265\, Argentina
ATTACH;FMTTYPE=image/jpeg:https://villaelisa.gov.ar/wp-content/uploads/2026/01/WhatsApp-Image-2026-01-29-at-2.27.26-PM.jpeg
END:VEVENT
BEGIN:VEVENT
DTSTART;TZID=America/Argentina/Buenos_Aires:20260201T100000
DTEND;TZID=America/Argentina/Buenos_Aires:20260201T130000
DTSTAMP:20260423T082604
CREATED:20241104T113404Z
LAST-MODIFIED:20241104T113404Z
UID:10002258-1769940000-1769950800@villaelisa.gov.ar
SUMMARY:Auto Tour
DESCRIPTION:TRAVELING VINA:  \nEs un servicio  extra\, que ofrece el complejo de Alojamientos “V I N A” \nExperiencia Rurales\, AUTO TOUR:  \nPlanificamos y coordinamos recorridos por bodegas\, fábricas de productos regionales\, y almacenes locales\, te llevamos a descubrir La Colonia\, cultura local y los paisajes mas hermosos de nuestra Tierra de Palmares.- \nOrganizado por Perla Lopez – \nReservas con anticipación: contacto 3447503491.- \nValor del recorrido: según destino elegido. \nTiempo demandado: aproximadamente 3 horas.- \nEl objetivo es formar una caravana\, con los vehículos de los interesados y hacer\, una mañana o una tarde de recorridos a los diferentes atractivos de nuestra zona  \nprevia coordinación.- \nPunto de salida: oficina de Turismo Villa Elisa.-
URL:https://villaelisa.gov.ar/evento/auto-tour/2026-02-01/
ATTACH;FMTTYPE=image/jpeg:https://villaelisa.gov.ar/wp-content/uploads/2024/11/Traveling-vina.jpg
END:VEVENT
BEGIN:VEVENT
DTSTART;TZID=America/Argentina/Buenos_Aires:20260201T100000
DTEND;TZID=America/Argentina/Buenos_Aires:20260201T203000
DTSTAMP:20260423T082604
CREATED:20260108T223621Z
LAST-MODIFIED:20260108T223621Z
UID:10009053-1769940000-1769977800@villaelisa.gov.ar
SUMMARY:Muestra fotográfica “Villa Elisa en el tiempo: una mirada a los 135 años de historia”
DESCRIPTION:De 10:00 a 13:00 y de 17:00 a 20:30 horas\, te invitamos a recorrer\, a través de esta muestra fotográfica\, la transformación urbana y social de nuestra ciudad a lo largo del tiempo.\nLa exposición reúne fotos históricas de distintos espacios de Villa Elisa junto a sus réplicas actuales\, generando un diálogo visual entre pasado y presente. \nEl valor del bono contribución de ingreso es de $2000 general y $1500 para menores entre 6 y 12 años inclusive\, jubilados y residentes de la micro región “Tierra de Palmares”. \nContacto: 3447436203 – www.museoelporvenir.com.ar
URL:https://villaelisa.gov.ar/evento/muestra-fotografica-villa-elisa-en-el-tiempo-una-mirada-a-los-135-anos-de-historia-2/2026-02-01/
LOCATION:Estancia Museo “El Porvenir”
ATTACH;FMTTYPE=image/jpeg:https://villaelisa.gov.ar/wp-content/uploads/2026/01/Muestra-temporal-2026-Villa-Elisa-en-el-tiempo-2.jpeg
END:VEVENT
BEGIN:VEVENT
DTSTART;TZID=America/Argentina/Buenos_Aires:20260201T160000
DTEND;TZID=America/Argentina/Buenos_Aires:20260201T203000
DTSTAMP:20260423T082604
CREATED:20251229T180552Z
LAST-MODIFIED:20251230T132155Z
UID:10007217-1769961600-1769977800@villaelisa.gov.ar
SUMMARY:Estación Elisa – Ferroclub Central Entrerriano
DESCRIPTION:Todos los días desde las 16:00 hs. estará abierta la estación Elisa donde encontrarás maquinarias y elementos de época a las 17 y 19 horas habrá paseos en el tren histórico turístico para vivir una gran experiencia. \nCalle Centenario 2200 \nConsultas al 3442 551086
URL:https://villaelisa.gov.ar/evento/estacion-elisa-ferroclub-central-entrerriano-14/2026-02-01/
LOCATION:Estación ferroviaria Villa Elisa
ATTACH;FMTTYPE=image/jpeg:https://villaelisa.gov.ar/wp-content/uploads/2025/03/WhatsApp-Image-2025-06-25-at-3.17.24-PM.jpeg
END:VEVENT
BEGIN:VEVENT
DTSTART;TZID=America/Argentina/Buenos_Aires:20260201T180000
DTEND;TZID=America/Argentina/Buenos_Aires:20260201T210000
DTSTAMP:20260423T082604
CREATED:20260129T121927Z
LAST-MODIFIED:20260129T121927Z
UID:10009127-1769968800-1769979600@villaelisa.gov.ar
SUMMARY:Feria y Show Musical en Balneario Rocha
DESCRIPTION:Este domingo 1 de febrero\, la feria se traslada al Balneario Municipal El Rocha. Desde las 18\, quienes disfruten de un día al aire libre podrán además recorrer los distintos stands y descubrir los productos elaborados por manos elisenses y de la región. Habrá música en vivo\, de la mano de Juampi Gabino y los del rincón.
URL:https://villaelisa.gov.ar/evento/feria-y-show-musical-en-balneario-rocha/
LOCATION:Balneario Municipal Rocha
ATTACH;FMTTYPE=image/jpeg:https://villaelisa.gov.ar/wp-content/uploads/2026/01/WhatsApp-Image-2026-01-29-at-9.08.38-AM.jpeg
END:VEVENT
BEGIN:VEVENT
DTSTART;TZID=America/Argentina/Buenos_Aires:20260202T090000
DTEND;TZID=America/Argentina/Buenos_Aires:20260202T203000
DTSTAMP:20260423T082604
CREATED:20260123T163816Z
LAST-MODIFIED:20260202T160144Z
UID:10009133-1770022800-1770064200@villaelisa.gov.ar
SUMMARY:Viviendo Historias
DESCRIPTION:En una visita al histórico Almacén Francou tendrás la posibilidad de compartir actividades fascinantes e inolvidables. \nLunes a sábado de 9 a 12 y de 16\,30 a 20\,30 hs.
URL:https://villaelisa.gov.ar/evento/viviendo-historias-16/2026-02-02/
LOCATION:Almacén de Ramos Generales Francou\, Colonia del Carmen\, Villa Elisa\, Entre Rios\, 3265\, Argentina
ATTACH;FMTTYPE=image/jpeg:https://villaelisa.gov.ar/wp-content/uploads/2025/12/WhatsApp-Image-2026-01-06-at-14.01.39.jpeg
END:VEVENT
BEGIN:VEVENT
DTSTART;TZID=America/Argentina/Buenos_Aires:20260202T100000
DTEND;TZID=America/Argentina/Buenos_Aires:20260202T203000
DTSTAMP:20260423T082604
CREATED:20260108T223621Z
LAST-MODIFIED:20260108T223621Z
UID:10009054-1770026400-1770064200@villaelisa.gov.ar
SUMMARY:Muestra fotográfica “Villa Elisa en el tiempo: una mirada a los 135 años de historia”
DESCRIPTION:De 10:00 a 13:00 y de 17:00 a 20:30 horas\, te invitamos a recorrer\, a través de esta muestra fotográfica\, la transformación urbana y social de nuestra ciudad a lo largo del tiempo.\nLa exposición reúne fotos históricas de distintos espacios de Villa Elisa junto a sus réplicas actuales\, generando un diálogo visual entre pasado y presente. \nEl valor del bono contribución de ingreso es de $2000 general y $1500 para menores entre 6 y 12 años inclusive\, jubilados y residentes de la micro región “Tierra de Palmares”. \nContacto: 3447436203 – www.museoelporvenir.com.ar
URL:https://villaelisa.gov.ar/evento/muestra-fotografica-villa-elisa-en-el-tiempo-una-mirada-a-los-135-anos-de-historia-2/2026-02-02/
LOCATION:Estancia Museo “El Porvenir”
ATTACH;FMTTYPE=image/jpeg:https://villaelisa.gov.ar/wp-content/uploads/2026/01/Muestra-temporal-2026-Villa-Elisa-en-el-tiempo-2.jpeg
END:VEVENT
BEGIN:VEVENT
DTSTART;TZID=America/Argentina/Buenos_Aires:20260202T103000
DTEND;TZID=America/Argentina/Buenos_Aires:20260202T130000
DTSTAMP:20260423T082604
CREATED:20260108T224343Z
LAST-MODIFIED:20260108T224343Z
UID:10009077-1770028200-1770037200@villaelisa.gov.ar
SUMMARY:Visitas Guiadas en Estancia Museo El Porvenir
DESCRIPTION:De lunes a viernes (excepto martes) las 10:30 y 12:00 horas\,  pueden realizarse las visitas guiadas gratuitas por la Estancia. \nSi se lo desea\, se puede visitar el lugar en forma independiente (sin visita guiada) de 10:00 a 13:00 y de 17:00 a 20:30 horas\, recordando que también está habilitado el sector del parque recreativo. \nEl valor del bono contribución de ingreso es de $2000 general y $1500 para menores entre 6 y 12 años inclusive\, jubilados y residentes de la micro región “Tierra de Palmares”. \nContacto: 3447436203 – www.museoelporvenir.com.ar
URL:https://villaelisa.gov.ar/evento/visitas-guiadas-en-estancia-museo-el-porvenir-13/2026-02-02/
LOCATION:Estancia Museo “El Porvenir”
ATTACH;FMTTYPE=image/jpeg:https://villaelisa.gov.ar/wp-content/uploads/2026/01/Horarios-enero-febrero-2026-feed.jpeg
END:VEVENT
BEGIN:VEVENT
DTSTART;TZID=America/Argentina/Buenos_Aires:20260202T160000
DTEND;TZID=America/Argentina/Buenos_Aires:20260202T203000
DTSTAMP:20260423T082604
CREATED:20251229T180552Z
LAST-MODIFIED:20251230T132155Z
UID:10007218-1770048000-1770064200@villaelisa.gov.ar
SUMMARY:Estación Elisa – Ferroclub Central Entrerriano
DESCRIPTION:Todos los días desde las 16:00 hs. estará abierta la estación Elisa donde encontrarás maquinarias y elementos de época a las 17 y 19 horas habrá paseos en el tren histórico turístico para vivir una gran experiencia. \nCalle Centenario 2200 \nConsultas al 3442 551086
URL:https://villaelisa.gov.ar/evento/estacion-elisa-ferroclub-central-entrerriano-14/2026-02-02/
LOCATION:Estación ferroviaria Villa Elisa
ATTACH;FMTTYPE=image/jpeg:https://villaelisa.gov.ar/wp-content/uploads/2025/03/WhatsApp-Image-2025-06-25-at-3.17.24-PM.jpeg
END:VEVENT
BEGIN:VEVENT
DTSTART;TZID=America/Argentina/Buenos_Aires:20260202T200000
DTEND;TZID=America/Argentina/Buenos_Aires:20260202T210000
DTSTAMP:20260423T082604
CREATED:20260202T155411Z
LAST-MODIFIED:20260202T155411Z
UID:10009131-1770062400-1770066000@villaelisa.gov.ar
SUMMARY:Santa Misa
DESCRIPTION:Celebración de la Santa Misa en honor a la festividad de la Candelaria.
URL:https://villaelisa.gov.ar/evento/santa-misa-4/
LOCATION:Parroquia Virgen Niña
ATTACH;FMTTYPE=image/jpeg:https://villaelisa.gov.ar/wp-content/uploads/2026/02/WhatsApp-Image-2026-02-02-at-12.50.10-PM.jpeg
END:VEVENT
BEGIN:VEVENT
DTSTART;TZID=America/Argentina/Buenos_Aires:20260203T090000
DTEND;TZID=America/Argentina/Buenos_Aires:20260203T120000
DTSTAMP:20260423T082604
CREATED:20260202T161739Z
LAST-MODIFIED:20260202T161739Z
UID:10009134-1770109200-1770120000@villaelisa.gov.ar
SUMMARY:Viviendo Historias
DESCRIPTION:En una visita al histórico Almacén Francou tendrás la posibilidad de compartir actividades fascinantes e inolvidables. \nMiercoles 3 de febrero de 9 a 12 hs.
URL:https://villaelisa.gov.ar/evento/viviendo-historias-16-2/
LOCATION:Almacén de Ramos Generales Francou\, Colonia del Carmen\, Villa Elisa\, Entre Rios\, 3265\, Argentina
ATTACH;FMTTYPE=image/jpeg:https://villaelisa.gov.ar/wp-content/uploads/2025/12/WhatsApp-Image-2026-01-06-at-14.01.39.jpeg
END:VEVENT
BEGIN:VEVENT
DTSTART;TZID=America/Argentina/Buenos_Aires:20260203T160000
DTEND;TZID=America/Argentina/Buenos_Aires:20260203T203000
DTSTAMP:20260423T082604
CREATED:20251229T180552Z
LAST-MODIFIED:20251230T132155Z
UID:10007219-1770134400-1770150600@villaelisa.gov.ar
SUMMARY:Estación Elisa – Ferroclub Central Entrerriano
DESCRIPTION:Todos los días desde las 16:00 hs. estará abierta la estación Elisa donde encontrarás maquinarias y elementos de época a las 17 y 19 horas habrá paseos en el tren histórico turístico para vivir una gran experiencia. \nCalle Centenario 2200 \nConsultas al 3442 551086
URL:https://villaelisa.gov.ar/evento/estacion-elisa-ferroclub-central-entrerriano-14/2026-02-03/
LOCATION:Estación ferroviaria Villa Elisa
ATTACH;FMTTYPE=image/jpeg:https://villaelisa.gov.ar/wp-content/uploads/2025/03/WhatsApp-Image-2025-06-25-at-3.17.24-PM.jpeg
END:VEVENT
BEGIN:VEVENT
DTSTART;TZID=America/Argentina/Buenos_Aires:20260204T090000
DTEND;TZID=America/Argentina/Buenos_Aires:20260204T203000
DTSTAMP:20260423T082604
CREATED:20260123T163816Z
LAST-MODIFIED:20260202T160144Z
UID:10009135-1770195600-1770237000@villaelisa.gov.ar
SUMMARY:Viviendo Historias
DESCRIPTION:En una visita al histórico Almacén Francou tendrás la posibilidad de compartir actividades fascinantes e inolvidables. \nLunes a sábado de 9 a 12 y de 16\,30 a 20\,30 hs.
URL:https://villaelisa.gov.ar/evento/viviendo-historias-16/2026-02-04/
LOCATION:Almacén de Ramos Generales Francou\, Colonia del Carmen\, Villa Elisa\, Entre Rios\, 3265\, Argentina
ATTACH;FMTTYPE=image/jpeg:https://villaelisa.gov.ar/wp-content/uploads/2025/12/WhatsApp-Image-2026-01-06-at-14.01.39.jpeg
END:VEVENT
BEGIN:VEVENT
DTSTART;TZID=America/Argentina/Buenos_Aires:20260204T100000
DTEND;TZID=America/Argentina/Buenos_Aires:20260204T203000
DTSTAMP:20260423T082604
CREATED:20260108T223621Z
LAST-MODIFIED:20260108T223621Z
UID:10009055-1770199200-1770237000@villaelisa.gov.ar
SUMMARY:Muestra fotográfica “Villa Elisa en el tiempo: una mirada a los 135 años de historia”
DESCRIPTION:De 10:00 a 13:00 y de 17:00 a 20:30 horas\, te invitamos a recorrer\, a través de esta muestra fotográfica\, la transformación urbana y social de nuestra ciudad a lo largo del tiempo.\nLa exposición reúne fotos históricas de distintos espacios de Villa Elisa junto a sus réplicas actuales\, generando un diálogo visual entre pasado y presente. \nEl valor del bono contribución de ingreso es de $2000 general y $1500 para menores entre 6 y 12 años inclusive\, jubilados y residentes de la micro región “Tierra de Palmares”. \nContacto: 3447436203 – www.museoelporvenir.com.ar
URL:https://villaelisa.gov.ar/evento/muestra-fotografica-villa-elisa-en-el-tiempo-una-mirada-a-los-135-anos-de-historia-2/2026-02-04/
LOCATION:Estancia Museo “El Porvenir”
ATTACH;FMTTYPE=image/jpeg:https://villaelisa.gov.ar/wp-content/uploads/2026/01/Muestra-temporal-2026-Villa-Elisa-en-el-tiempo-2.jpeg
END:VEVENT
BEGIN:VEVENT
DTSTART;TZID=America/Argentina/Buenos_Aires:20260204T103000
DTEND;TZID=America/Argentina/Buenos_Aires:20260204T130000
DTSTAMP:20260423T082604
CREATED:20260108T224343Z
LAST-MODIFIED:20260108T224343Z
UID:10009078-1770201000-1770210000@villaelisa.gov.ar
SUMMARY:Visitas Guiadas en Estancia Museo El Porvenir
DESCRIPTION:De lunes a viernes (excepto martes) las 10:30 y 12:00 horas\,  pueden realizarse las visitas guiadas gratuitas por la Estancia. \nSi se lo desea\, se puede visitar el lugar en forma independiente (sin visita guiada) de 10:00 a 13:00 y de 17:00 a 20:30 horas\, recordando que también está habilitado el sector del parque recreativo. \nEl valor del bono contribución de ingreso es de $2000 general y $1500 para menores entre 6 y 12 años inclusive\, jubilados y residentes de la micro región “Tierra de Palmares”. \nContacto: 3447436203 – www.museoelporvenir.com.ar
URL:https://villaelisa.gov.ar/evento/visitas-guiadas-en-estancia-museo-el-porvenir-13/2026-02-04/
LOCATION:Estancia Museo “El Porvenir”
ATTACH;FMTTYPE=image/jpeg:https://villaelisa.gov.ar/wp-content/uploads/2026/01/Horarios-enero-febrero-2026-feed.jpeg
END:VEVENT
BEGIN:VEVENT
DTSTART;TZID=America/Argentina/Buenos_Aires:20260204T160000
DTEND;TZID=America/Argentina/Buenos_Aires:20260204T203000
DTSTAMP:20260423T082604
CREATED:20251229T180552Z
LAST-MODIFIED:20251230T132155Z
UID:10007220-1770220800-1770237000@villaelisa.gov.ar
SUMMARY:Estación Elisa – Ferroclub Central Entrerriano
DESCRIPTION:Todos los días desde las 16:00 hs. estará abierta la estación Elisa donde encontrarás maquinarias y elementos de época a las 17 y 19 horas habrá paseos en el tren histórico turístico para vivir una gran experiencia. \nCalle Centenario 2200 \nConsultas al 3442 551086
URL:https://villaelisa.gov.ar/evento/estacion-elisa-ferroclub-central-entrerriano-14/2026-02-04/
LOCATION:Estación ferroviaria Villa Elisa
ATTACH;FMTTYPE=image/jpeg:https://villaelisa.gov.ar/wp-content/uploads/2025/03/WhatsApp-Image-2025-06-25-at-3.17.24-PM.jpeg
END:VEVENT
BEGIN:VEVENT
DTSTART;TZID=America/Argentina/Buenos_Aires:20260205T090000
DTEND;TZID=America/Argentina/Buenos_Aires:20260205T203000
DTSTAMP:20260423T082604
CREATED:20260123T163816Z
LAST-MODIFIED:20260202T160144Z
UID:10009136-1770282000-1770323400@villaelisa.gov.ar
SUMMARY:Viviendo Historias
DESCRIPTION:En una visita al histórico Almacén Francou tendrás la posibilidad de compartir actividades fascinantes e inolvidables. \nLunes a sábado de 9 a 12 y de 16\,30 a 20\,30 hs.
URL:https://villaelisa.gov.ar/evento/viviendo-historias-16/2026-02-05/
LOCATION:Almacén de Ramos Generales Francou\, Colonia del Carmen\, Villa Elisa\, Entre Rios\, 3265\, Argentina
ATTACH;FMTTYPE=image/jpeg:https://villaelisa.gov.ar/wp-content/uploads/2025/12/WhatsApp-Image-2026-01-06-at-14.01.39.jpeg
END:VEVENT
BEGIN:VEVENT
DTSTART;TZID=America/Argentina/Buenos_Aires:20260205T100000
DTEND;TZID=America/Argentina/Buenos_Aires:20260205T203000
DTSTAMP:20260423T082604
CREATED:20260108T223621Z
LAST-MODIFIED:20260108T223621Z
UID:10009056-1770285600-1770323400@villaelisa.gov.ar
SUMMARY:Muestra fotográfica “Villa Elisa en el tiempo: una mirada a los 135 años de historia”
DESCRIPTION:De 10:00 a 13:00 y de 17:00 a 20:30 horas\, te invitamos a recorrer\, a través de esta muestra fotográfica\, la transformación urbana y social de nuestra ciudad a lo largo del tiempo.\nLa exposición reúne fotos históricas de distintos espacios de Villa Elisa junto a sus réplicas actuales\, generando un diálogo visual entre pasado y presente. \nEl valor del bono contribución de ingreso es de $2000 general y $1500 para menores entre 6 y 12 años inclusive\, jubilados y residentes de la micro región “Tierra de Palmares”. \nContacto: 3447436203 – www.museoelporvenir.com.ar
URL:https://villaelisa.gov.ar/evento/muestra-fotografica-villa-elisa-en-el-tiempo-una-mirada-a-los-135-anos-de-historia-2/2026-02-05/
LOCATION:Estancia Museo “El Porvenir”
ATTACH;FMTTYPE=image/jpeg:https://villaelisa.gov.ar/wp-content/uploads/2026/01/Muestra-temporal-2026-Villa-Elisa-en-el-tiempo-2.jpeg
END:VEVENT
BEGIN:VEVENT
DTSTART;TZID=America/Argentina/Buenos_Aires:20260205T103000
DTEND;TZID=America/Argentina/Buenos_Aires:20260205T130000
DTSTAMP:20260423T082604
CREATED:20260108T224343Z
LAST-MODIFIED:20260108T224343Z
UID:10009079-1770287400-1770296400@villaelisa.gov.ar
SUMMARY:Visitas Guiadas en Estancia Museo El Porvenir
DESCRIPTION:De lunes a viernes (excepto martes) las 10:30 y 12:00 horas\,  pueden realizarse las visitas guiadas gratuitas por la Estancia. \nSi se lo desea\, se puede visitar el lugar en forma independiente (sin visita guiada) de 10:00 a 13:00 y de 17:00 a 20:30 horas\, recordando que también está habilitado el sector del parque recreativo. \nEl valor del bono contribución de ingreso es de $2000 general y $1500 para menores entre 6 y 12 años inclusive\, jubilados y residentes de la micro región “Tierra de Palmares”. \nContacto: 3447436203 – www.museoelporvenir.com.ar
URL:https://villaelisa.gov.ar/evento/visitas-guiadas-en-estancia-museo-el-porvenir-13/2026-02-05/
LOCATION:Estancia Museo “El Porvenir”
ATTACH;FMTTYPE=image/jpeg:https://villaelisa.gov.ar/wp-content/uploads/2026/01/Horarios-enero-febrero-2026-feed.jpeg
END:VEVENT
BEGIN:VEVENT
DTSTART;TZID=America/Argentina/Buenos_Aires:20260205T160000
DTEND;TZID=America/Argentina/Buenos_Aires:20260205T203000
DTSTAMP:20260423T082604
CREATED:20251229T180552Z
LAST-MODIFIED:20251230T132155Z
UID:10007221-1770307200-1770323400@villaelisa.gov.ar
SUMMARY:Estación Elisa – Ferroclub Central Entrerriano
DESCRIPTION:Todos los días desde las 16:00 hs. estará abierta la estación Elisa donde encontrarás maquinarias y elementos de época a las 17 y 19 horas habrá paseos en el tren histórico turístico para vivir una gran experiencia. \nCalle Centenario 2200 \nConsultas al 3442 551086
URL:https://villaelisa.gov.ar/evento/estacion-elisa-ferroclub-central-entrerriano-14/2026-02-05/
LOCATION:Estación ferroviaria Villa Elisa
ATTACH;FMTTYPE=image/jpeg:https://villaelisa.gov.ar/wp-content/uploads/2025/03/WhatsApp-Image-2025-06-25-at-3.17.24-PM.jpeg
END:VEVENT
BEGIN:VEVENT
DTSTART;TZID=America/Argentina/Buenos_Aires:20260205T200000
DTEND;TZID=America/Argentina/Buenos_Aires:20260205T210000
DTSTAMP:20260423T082604
CREATED:20260122T220012Z
LAST-MODIFIED:20260122T220012Z
UID:10009113-1770321600-1770325200@villaelisa.gov.ar
SUMMARY:Melodías y colecciones al anochecer
DESCRIPTION:El jueves 5 a las 20:00 horas en el Museo Estancia “El Porvenir”.\nUna experiencia que combina muestras museológicas con música en vivo.\nSe exhibirá una colección de radios de distintas épocas\, que permitirá recorrer la evolución de este objeto.\nLa velada contará con la actuación musical de Pedro Roude\, acompañando el relato y la exhibición con melodías especialmente seleccionadas. \nEntrada libre y gratuita.
URL:https://villaelisa.gov.ar/evento/melodias-y-colecciones-al-anochecer-3/
LOCATION:Estancia Museo “El Porvenir”
ATTACH;FMTTYPE=image/jpeg:https://villaelisa.gov.ar/wp-content/uploads/2026/01/22.1-Colecciones-y-molodias.jpeg
END:VEVENT
BEGIN:VEVENT
DTSTART;TZID=America/Argentina/Buenos_Aires:20260206T090000
DTEND;TZID=America/Argentina/Buenos_Aires:20260206T203000
DTSTAMP:20260423T082604
CREATED:20260123T163816Z
LAST-MODIFIED:20260202T160144Z
UID:10009137-1770368400-1770409800@villaelisa.gov.ar
SUMMARY:Viviendo Historias
DESCRIPTION:En una visita al histórico Almacén Francou tendrás la posibilidad de compartir actividades fascinantes e inolvidables. \nLunes a sábado de 9 a 12 y de 16\,30 a 20\,30 hs.
URL:https://villaelisa.gov.ar/evento/viviendo-historias-16/2026-02-06/
LOCATION:Almacén de Ramos Generales Francou\, Colonia del Carmen\, Villa Elisa\, Entre Rios\, 3265\, Argentina
ATTACH;FMTTYPE=image/jpeg:https://villaelisa.gov.ar/wp-content/uploads/2025/12/WhatsApp-Image-2026-01-06-at-14.01.39.jpeg
END:VEVENT
BEGIN:VEVENT
DTSTART;TZID=America/Argentina/Buenos_Aires:20260206T100000
DTEND;TZID=America/Argentina/Buenos_Aires:20260206T203000
DTSTAMP:20260423T082604
CREATED:20260108T223621Z
LAST-MODIFIED:20260108T223621Z
UID:10009057-1770372000-1770409800@villaelisa.gov.ar
SUMMARY:Muestra fotográfica “Villa Elisa en el tiempo: una mirada a los 135 años de historia”
DESCRIPTION:De 10:00 a 13:00 y de 17:00 a 20:30 horas\, te invitamos a recorrer\, a través de esta muestra fotográfica\, la transformación urbana y social de nuestra ciudad a lo largo del tiempo.\nLa exposición reúne fotos históricas de distintos espacios de Villa Elisa junto a sus réplicas actuales\, generando un diálogo visual entre pasado y presente. \nEl valor del bono contribución de ingreso es de $2000 general y $1500 para menores entre 6 y 12 años inclusive\, jubilados y residentes de la micro región “Tierra de Palmares”. \nContacto: 3447436203 – www.museoelporvenir.com.ar
URL:https://villaelisa.gov.ar/evento/muestra-fotografica-villa-elisa-en-el-tiempo-una-mirada-a-los-135-anos-de-historia-2/2026-02-06/
LOCATION:Estancia Museo “El Porvenir”
ATTACH;FMTTYPE=image/jpeg:https://villaelisa.gov.ar/wp-content/uploads/2026/01/Muestra-temporal-2026-Villa-Elisa-en-el-tiempo-2.jpeg
END:VEVENT
BEGIN:VEVENT
DTSTART;TZID=America/Argentina/Buenos_Aires:20260206T103000
DTEND;TZID=America/Argentina/Buenos_Aires:20260206T130000
DTSTAMP:20260423T082604
CREATED:20260108T224343Z
LAST-MODIFIED:20260108T224343Z
UID:10009080-1770373800-1770382800@villaelisa.gov.ar
SUMMARY:Visitas Guiadas en Estancia Museo El Porvenir
DESCRIPTION:De lunes a viernes (excepto martes) las 10:30 y 12:00 horas\,  pueden realizarse las visitas guiadas gratuitas por la Estancia. \nSi se lo desea\, se puede visitar el lugar en forma independiente (sin visita guiada) de 10:00 a 13:00 y de 17:00 a 20:30 horas\, recordando que también está habilitado el sector del parque recreativo. \nEl valor del bono contribución de ingreso es de $2000 general y $1500 para menores entre 6 y 12 años inclusive\, jubilados y residentes de la micro región “Tierra de Palmares”. \nContacto: 3447436203 – www.museoelporvenir.com.ar
URL:https://villaelisa.gov.ar/evento/visitas-guiadas-en-estancia-museo-el-porvenir-13/2026-02-06/
LOCATION:Estancia Museo “El Porvenir”
ATTACH;FMTTYPE=image/jpeg:https://villaelisa.gov.ar/wp-content/uploads/2026/01/Horarios-enero-febrero-2026-feed.jpeg
END:VEVENT
BEGIN:VEVENT
DTSTART;TZID=America/Argentina/Buenos_Aires:20260206T160000
DTEND;TZID=America/Argentina/Buenos_Aires:20260206T203000
DTSTAMP:20260423T082604
CREATED:20251229T180552Z
LAST-MODIFIED:20251230T132155Z
UID:10007222-1770393600-1770409800@villaelisa.gov.ar
SUMMARY:Estación Elisa – Ferroclub Central Entrerriano
DESCRIPTION:Todos los días desde las 16:00 hs. estará abierta la estación Elisa donde encontrarás maquinarias y elementos de época a las 17 y 19 horas habrá paseos en el tren histórico turístico para vivir una gran experiencia. \nCalle Centenario 2200 \nConsultas al 3442 551086
URL:https://villaelisa.gov.ar/evento/estacion-elisa-ferroclub-central-entrerriano-14/2026-02-06/
LOCATION:Estación ferroviaria Villa Elisa
ATTACH;FMTTYPE=image/jpeg:https://villaelisa.gov.ar/wp-content/uploads/2025/03/WhatsApp-Image-2025-06-25-at-3.17.24-PM.jpeg
END:VEVENT
BEGIN:VEVENT
DTSTART;TZID=America/Argentina/Buenos_Aires:20260206T203000
DTEND;TZID=America/Argentina/Buenos_Aires:20260206T230000
DTSTAMP:20260423T082604
CREATED:20260206T210653Z
LAST-MODIFIED:20260206T222728Z
UID:10009147-1770409800-1770418800@villaelisa.gov.ar
SUMMARY:Futbol Amistoso
DESCRIPTION:Un encuentro deportivo de verano con Club Atlético Campito de Colón.
URL:https://villaelisa.gov.ar/evento/futbol-amistoso/
LOCATION:CAVE Estadio 2 de Junio
ATTACH;FMTTYPE=image/jpeg:https://villaelisa.gov.ar/wp-content/uploads/2026/02/WhatsApp-Image-2026-02-06-at-18.04.32.jpeg
END:VEVENT
BEGIN:VEVENT
DTSTART;TZID=America/Argentina/Buenos_Aires:20260206T233000
DTEND;TZID=America/Argentina/Buenos_Aires:20260207T043000
DTSTAMP:20260423T082604
CREATED:20260206T160643Z
LAST-MODIFIED:20260206T160807Z
UID:10009144-1770420600-1770438600@villaelisa.gov.ar
SUMMARY:Noche Reggaeton en Fran Beer
DESCRIPTION:Veni a disfrutar de una noche especial
URL:https://villaelisa.gov.ar/evento/noche-reggaton-en-fran-beer/
LOCATION:Fran Beer\, Bv. Guex 1694\, Villa Elisa\, 3265
ATTACH;FMTTYPE=image/jpeg:https://villaelisa.gov.ar/wp-content/uploads/2026/02/WhatsApp-Image-2026-02-06-at-1.04.39-PM.jpeg
END:VEVENT
BEGIN:VEVENT
DTSTART;TZID=America/Argentina/Buenos_Aires:20260207T090000
DTEND;TZID=America/Argentina/Buenos_Aires:20260207T203000
DTSTAMP:20260423T082604
CREATED:20260123T163816Z
LAST-MODIFIED:20260202T160144Z
UID:10009138-1770454800-1770496200@villaelisa.gov.ar
SUMMARY:Viviendo Historias
DESCRIPTION:En una visita al histórico Almacén Francou tendrás la posibilidad de compartir actividades fascinantes e inolvidables. \nLunes a sábado de 9 a 12 y de 16\,30 a 20\,30 hs.
URL:https://villaelisa.gov.ar/evento/viviendo-historias-16/2026-02-07/
LOCATION:Almacén de Ramos Generales Francou\, Colonia del Carmen\, Villa Elisa\, Entre Rios\, 3265\, Argentina
ATTACH;FMTTYPE=image/jpeg:https://villaelisa.gov.ar/wp-content/uploads/2025/12/WhatsApp-Image-2026-01-06-at-14.01.39.jpeg
END:VEVENT
BEGIN:VEVENT
DTSTART;TZID=America/Argentina/Buenos_Aires:20260207T100000
DTEND;TZID=America/Argentina/Buenos_Aires:20260207T203000
DTSTAMP:20260423T082604
CREATED:20260108T223621Z
LAST-MODIFIED:20260108T223621Z
UID:10009058-1770458400-1770496200@villaelisa.gov.ar
SUMMARY:Muestra fotográfica “Villa Elisa en el tiempo: una mirada a los 135 años de historia”
DESCRIPTION:De 10:00 a 13:00 y de 17:00 a 20:30 horas\, te invitamos a recorrer\, a través de esta muestra fotográfica\, la transformación urbana y social de nuestra ciudad a lo largo del tiempo.\nLa exposición reúne fotos históricas de distintos espacios de Villa Elisa junto a sus réplicas actuales\, generando un diálogo visual entre pasado y presente. \nEl valor del bono contribución de ingreso es de $2000 general y $1500 para menores entre 6 y 12 años inclusive\, jubilados y residentes de la micro región “Tierra de Palmares”. \nContacto: 3447436203 – www.museoelporvenir.com.ar
URL:https://villaelisa.gov.ar/evento/muestra-fotografica-villa-elisa-en-el-tiempo-una-mirada-a-los-135-anos-de-historia-2/2026-02-07/
LOCATION:Estancia Museo “El Porvenir”
ATTACH;FMTTYPE=image/jpeg:https://villaelisa.gov.ar/wp-content/uploads/2026/01/Muestra-temporal-2026-Villa-Elisa-en-el-tiempo-2.jpeg
END:VEVENT
BEGIN:VEVENT
DTSTART;TZID=America/Argentina/Buenos_Aires:20260207T120000
DTEND;TZID=America/Argentina/Buenos_Aires:20260207T190000
DTSTAMP:20260423T082604
CREATED:20260207T165112Z
LAST-MODIFIED:20260207T165112Z
UID:10009151-1770465600-1770490800@villaelisa.gov.ar
SUMMARY:Torneo de Tenis Mixto
DESCRIPTION:Gran torneo de tenis en Canchas de Club Progreso
URL:https://villaelisa.gov.ar/evento/torneo-de-tenis-mixto/
LOCATION:Cancha de Tenis del Club Progreso\, Villa Elisa
ATTACH;FMTTYPE=image/jpeg:https://villaelisa.gov.ar/wp-content/uploads/2026/02/WhatsApp-Image-2026-02-07-at-10.29.39.jpeg
END:VEVENT
END:VCALENDAR